{"text_format":"1","workbook":"xlsx","n_sheets":5,"sheets":["Planlegging","Oppfølging - Inndata","Oppfølging - Resultater","Bakgrunnsinformasjon","Utslippstall"],"not_rendered":{"charts":7,"images":1,"macros":1,"external_links":0,"defined_names":0,"comments":0,"pivot_tables":0},"unopened":[],"bounds":{"document_bytes":16777216,"sheet_cells":100000,"rows_first":2000,"rows_last":500,"rows_between":2000,"halvings":0,"cell_chars":16384,"cell_head_chars":4096},"cells_cut":0,"cells_raw":0,"read":"whole","date_system":"1900"}

{"sheet":"Planlegging","index":0,"n_rows":155,"n_cols":12,"rows_kept":155,"cut":false,"hidden":false,"merged":[[9,9,9,11],[11,8,11,12],[7,9,7,12],[8,9,8,12]]}
[]
[]
[null,null,null,null,null,null,null,null,null,null,"Tiltak:","Klimavennlige matanskaffelser"]
[null,null,null,null,null,null,null,null,null,null,"Utfyllt av og dato:"]
[]
[]
[null,null,null,"Veiledning"]
[]
[]
[]
[]
[null,null,"\n",null,null,null,null,null,"\n\n\n\n"]
[]
[]
[]
[]
[]
[]
[]
[]
[]
[]
[]
[]
[]
[]
[null,null,null,"Innkjøp og endringer i innkjøpet"]
[]
[null,null,null,"1.","Dagens innkjøp og utslipp",null,null,"2.","Endringer i innkjøp og utslipp","3. "]
[]
[null,null,null,null,"Matvare","Dagens innkjøp i vekt (kg)","Dagens utslipp \n(kg CO2-ekv)",null,"Matvare","Endring i innkjøp i vekt (kg)","Endring i innkjøp i prosent","Endring i utslipp\n (kg CO2-ekv)"]
[null,null,null,null,"Kjøtt",{"$f":"F33+F34+F35+F36+F37+F38+F39+F40+F41+F42","v":0},{"$f":"SUM(G33:G42)","v":0},null,"Kjøtt",0,0,0]
[null,null,null,null,"Sau og lam",null,{"$f":"F33*Utslippstall!F11","v":0},null,"Sau og lam"]
[null,null,null,null,"Blandet kjøtt sau",null,{"$f":"F34*Utslippstall!F12","v":0},null,"Blandet kjøtt sau"]
[null,null,null,null,"Storfe",null,{"$f":"F35*Utslippstall!F13","v":0},null,"Storfe"]
[null,null,null,null,"Blandet kjøtt storfe",null,{"$f":"F36*Utslippstall!F14","v":0},null,"Blandet kjøtt storfe"]
[null,null,null,null,"Blandede kjøttyper",null,{"$f":"F37*Utslippstall!F15","v":0},null,"Blandede kjøttyper"]
[null,null,null,null,"Svin",null,{"$f":"F38*Utslippstall!F16","v":0},null,"Svin"]
[null,null,null,null,"Blandet kjøtt svin",null,{"$f":"F39*Utslippstall!F17","v":0},null,"Blandet kjøtt svin"]
[null,null,null,null,"Fjærkre",null,{"$f":"F40*Utslippstall!F18","v":0},null,"Fjærkre"]
[null,null,null,null,"Blandet kjøtt kylling",null,{"$f":"F41*Utslippstall!F19","v":0},null,"Blandet kjøtt kylling"]
[null,null,null,null,"Vilt",null,{"$f":"F42*Utslippstall!F20","v":0},null,"Vilt"]
[null,null,null,null,"Fisk og skalldyr",{"$f":"F44+F45+F46+F47","v":0},{"$f":"SUM(G44:G47)","v":0},null,"Fisk og skalldyr",0,0,0]
[null,null,null,null,"Blandet fisk",null,{"$f":"F44*Utslippstall!F22","v":0},null,"Blandet fisk"]
[null,null,null,null,"Blandet skalldyr",null,{"$f":"F45*Utslippstall!F23","v":0},null,"Blandet skalldyr"]
[null,null,null,null,"Fisk",null,{"$f":"F46*Utslippstall!F24","v":0},null,"Fisk"]
[null,null,null,null,"Skalldyr",null,{"$f":"F47*Utslippstall!F25","v":0},null,"Skalldyr"]
[null,null,null,null,"Egg og meieri",{"$f":"F49+F50+F52+F53+F54+F55+F56","v":0},{"$f":"SUM(G49:G56)","v":0},null,"Egg og meieri",0,0,0]
[null,null,null,null,"Egg",null,{"$f":"F49*Utslippstall!F27","v":0},null,"Egg"]
[null,null,null,null,"Smaksatt melk",null,{"$f":"F50*Utslippstall!F28","v":0},null,"Smaksatt melk"]
[null,null,null,null,"Grøt",null,{"$f":"F51*Utslippstall!F29","v":0},null,"Grøt"]
[null,null,null,null,"Krem og fløte",null,{"$f":"F52*Utslippstall!F30","v":0},null,"Krem og fløte"]
[null,null,null,null,"Melk og yoghurt",null,{"$f":"F53*Utslippstall!F31","v":0},null,"Melk og yoghurt"]
[null,null,null,null,"Ost",null,{"$f":"F54*Utslippstall!F32","v":0},null,"Ost"]
[null,null,null,null,"Risgrøt",null,{"$f":"F55*Utslippstall!F33","v":0},null,"Risgrøt"]
[null,null,null,null,"Smør",null,{"$f":"F56*Utslippstall!F34","v":0},null,"Smør"]
[null,null,null,null,"Korn",{"$f":"F58+F59+F60+F61+F62+F63","v":0},{"$f":"SUM(G58:G63)","v":0},null,"Korn",0,0,0]
[null,null,null,null,"Brød, korn, mel og bakeprodukter",null,{"$f":"F58*Utslippstall!F36","v":0},null,"Brød, korn, mel og bakeprodukter"]
[null,null,null,null,"Frokostblanding og bars",null,{"$f":"F59*Utslippstall!F37","v":0},null,"Frokostblanding og bars"]
[null,null,null,null,"Pannekaker, vafler, lefser, osv.",null,{"$f":"F60*Utslippstall!F38","v":0},null,"Pannekaker, vafler, lefser, osv."]
[null,null,null,null,"Pasta",null,{"$f":"F61*Utslippstall!F39","v":0},null,"Pasta"]
[null,null,null,null,"Ris",null,{"$f":"F62*Utslippstall!F40","v":0},null,"Ris"]
[null,null,null,null,"Ris alternativ",null,{"$f":"F63*Utslippstall!F41","v":0},null,"Ris alternativ"]
[null,null,null,null,"Grønnsaker, krydder og sopp",{"$f":"F65+F66+F67","v":0},{"$f":"SUM(G65:G67)","v":0},null,"Grønnsaker, krydder og sopp",0,0,0]
[null,null,null,null,"Belgfrukter",null,{"$f":"F65*Utslippstall!F43","v":0},null,"Belgfrukter"]
[null,null,null,null,"Grønnsaker, krydder og urter",null,{"$f":"F66*Utslippstall!F44","v":0},null,"Grønnsaker, krydder og urter"]
[null,null,null,null,"Sopp",null,{"$f":"F67*Utslippstall!F45","v":0},null,"Sopp"]
[null,null,null,null,"Frukt og bær",null,{"$f":"F68*Utslippstall!F46","v":0},null,"Frukt og bær"]
[null,null,null,null,"Nøtter og frø",null,{"$f":"F69*Utslippstall!F47","v":0},null,"Nøtter og frø"]
[null,null,null,null,"Sukker",{"$f":"F71+F72+F73","v":0},{"$f":"SUM(G71:G73)","v":0},null,"Sukker",0,0,0]
[null,null,null,null,"Sirup",null,{"$f":"F71*Utslippstall!F49","v":0},null,"Sirup"]
[null,null,null,null,"Sukker",null,{"$f":"F72*Utslippstall!F50","v":0},null,"Sukker"]
[null,null,null,null,"Søtningsmidler, dessertpynt",null,{"$f":"F73*Utslippstall!F51","v":0},null,"Søtningsmidler, dessertpynt"]
[null,null,null,null,"Olje og fett",{"$f":"F75+F76+F77+F78+F79+F80","v":0},{"$f":"SUM(G75:G80)","v":0},null,"Olje og fett",0,0,0]
[null,null,null,null,"Matfett, smørblanding, margarin",null,{"$f":"F75*Utslippstall!F53","v":0},null,"Matfett, smørblanding, margarin"]
[null,null,null,null,"Matolje",null,{"$f":"F76*Utslippstall!F54","v":0},null,"Matolje"]
[null,null,null,null,"Olivenolje",null,{"$f":"F77*Utslippstall!F55","v":0},null,"Olivenolje"]
[null,null,null,null,"Rapsolje",null,{"$f":"F78*Utslippstall!F56","v":0},null,"Rapsolje"]
[null,null,null,null,"Solsikkeolje",null,{"$f":"F79*Utslippstall!F57","v":0},null,"Solsikkeolje"]
[null,null,null,null,"Soyaolje",null,{"$f":"F80*Utslippstall!F58","v":0},null,"Soyaolje"]
[null,null,null,null,"Kjeks, kaker og godteri",{"$f":"SUM(F82:F85)","v":0},{"$f":"SUM(G82:G85)","v":0},null,"Kjeks, kaker og godteri",0,0,0]
[null,null,null,null,"Sjokolade",null,{"$f":"F82*Utslippstall!F60","v":0},null,"Sjokolade"]
[null,null,null,null,"Godteri",null,{"$f":"F83*Utslippstall!F61","v":0},null,"Godteri"]
[null,null,null,null,"Marsipan",null,{"$f":"F84*Utslippstall!F62","v":0},null,"Marsipan"]
[null,null,null,null,"Kjeks og kaker",null,{"$f":"F85*Utslippstall!F63","v":0},null,"Kjeks og kaker"]
[null,null,null,null,"Kombinasjonsmåltider",{"$f":"SUM(F87:F94)","v":0},{"$f":"SUM(G87:G94)","v":0},null,"Kombinasjonsmåltider",0,0,0]
[null,null,null,null,"Kombinasjonsmåltider blandet kjøtt",null,{"$f":"F87*Utslippstall!F65","v":0},null,"Kombinasjonsmåltider blandet kjøtt"]
[null,null,null,null,"Kombinasjonsmåltid sau",null,{"$f":"F88*Utslippstall!F66","v":0},null,"Kombinasjonsmåltid sau"]
[null,null,null,null,"Kombinasjonsmåltid storfe",null,{"$f":"F89*Utslippstall!F67","v":0},null,"Kombinasjonsmåltid storfe"]
[null,null,null,null,"Kombinasjonsmåltid ost",null,{"$f":"F90*Utslippstall!F68","v":0},null,"Kombinasjonsmåltid ost"]
[null,null,null,null,"Kombinasjonsmåltid svin",null,{"$f":"F91*Utslippstall!F69","v":0},null,"Kombinasjonsmåltid svin"]
[null,null,null,null,"Kombinasjonsmåltid kylling",null,{"$f":"F92*Utslippstall!F70","v":0},null,"Kombinasjonsmåltid kylling"]
[null,null,null,null,"Kombinasjonsmåltid fisk",null,{"$f":"F93*Utslippstall!F71","v":0},null,"Kombinasjonsmåltid fisk"]
[null,null,null,null,"Kombinasjonsmåltid vegetar",null,{"$f":"F94*Utslippstall!F72","v":0},null,"Kombinasjonsmåltid vegetar"]
[null,null,null,null,"Sandwicher",{"$f":"SUM(F96:F105)","v":0},{"$f":"SUM(G96:G105)","v":0},null,"Sandwicher",0,0,0]
[null,null,null,null,"Sandwich storfe",null,{"$f":"F96*Utslippstall!F74","v":0},null,"Sandwich storfe"]
[null,null,null,null,"Sandwich ost og skinke",null,{"$f":"F97*Utslippstall!F75","v":0},null,"Sandwich ost og skinke"]
[null,null,null,null,"Sandwich ukjent",null,{"$f":"F98*Utslippstall!F76","v":0},null,"Sandwich ukjent"]
[null,null,null,null,"Sandwich ost",null,{"$f":"F99*Utslippstall!F77","v":0},null,"Sandwich ost"]
[null,null,null,null,"Sandwich svin",null,{"$f":"F100*Utslippstall!F78","v":0},null,"Sandwich svin"]
[null,null,null,null,"Sandwich kylling",null,{"$f":"F101*Utslippstall!F79","v":0},null,"Sandwich kylling"]
[null,null,null,null,"Sandwich reker",null,{"$f":"F102*Utslippstall!F80","v":0},null,"Sandwich reker"]
[null,null,null,null,"Sandwich egg",null,{"$f":"F103*Utslippstall!F81","v":0},null,"Sandwich egg"]
[null,null,null,null,"Sandwich fisk",null,{"$f":"F104*Utslippstall!F82","v":0},null,"Sandwich fisk"]
[null,null,null,null,"Sandwich vegetar",null,{"$f":"F105*Utslippstall!F83","v":0},null,"Sandwich vegetar"]
[null,null,null,null,"Frukt- og nøttepålegg",{"$f":"SUM(F107:F108)","v":0},{"$f":"SUM(G107:G108)","v":0},null,"Frukt- og nøttepålegg",0,0,0]
[null,null,null,null,"Honning",null,{"$f":"F107*Utslippstall!F85","v":0},null,"Honning"]
[null,null,null,null,"Frukt- og nøttepålegg",null,{"$f":"F108*Utslippstall!F86","v":0},null,"Frukt- og nøttepålegg"]
[null,null,null,null,"Sauser og supper",{"$f":"SUM(F110:F118)","v":0},{"$f":"SUM(G110:G118)","v":0},null,"Sauser og supper",0,0,0]
[null,null,null,null,"Rømmedressing",null,{"$f":"F110*Utslippstall!F88","v":0},null,"Rømmedressing"]
[null,null,null,null,"Dessertsaus",null,{"$f":"F111*Utslippstall!F89","v":0},null,"Dessertsaus"]
[null,null,null,null,"Majones",null,{"$f":"F112*Utslippstall!F90","v":0},null,"Majones"]
[null,null,null,null,"Pesto, sambal og tahini",null,{"$f":"F113*Utslippstall!F91","v":0},null,"Pesto, sambal og tahini"]
[null,null,null,null,"Dip, dressing, middagssaus",null,{"$f":"F114*Utslippstall!F92","v":0},null,"Dip, dressing, middagssaus"]
[null,null,null,null,"Suppe",null,{"$f":"F115*Utslippstall!F93","v":0},null,"Suppe"]
[null,null,null,null,"Buljong",null,{"$f":"F116*Utslippstall!F94","v":0},null,"Buljong"]
[null,null,null,null,"Vegdip",null,{"$f":"F117*Utslippstall!F95","v":0},null,"Vegdip"]
[null,null,null,null,"Soya, fiske og chilisaus",null,{"$f":"F118*Utslippstall!F96","v":0},null,"Soya, fiske og chilisaus"]
[null,null,null,null,"Vegetar/vegan alternativ produkter",{"$f":"SUM(F120:F122)","v":0},{"$f":"SUM(G120:G122)","v":0},null,"Vegetar/vegan alternativ produkter",0,0,0]
[null,null,null,null,"Blandet vegetar",null,{"$f":"F120*Utslippstall!F98","v":0},null,"Blandet vegetar"]
[null,null,null,null,"Melk og yoghurt alternativ",null,{"$f":"F121*Utslippstall!F99","v":0},null,"Melk og yoghurt alternativ"]
[null,null,null,null,"Ost alternativ",null,{"$f":"F122*Utslippstall!F100","v":0},null,"Ost alternativ"]
[null,null,null,null,"Drikke",{"$f":"SUM(F124:F130)","v":0},{"$f":"SUM(G124:G130)","v":0},null,"Drikke",0,0,0]
[null,null,null,null,"Te",null,{"$f":"F124*Utslippstall!F102","v":0},null,"Te"]
[null,null,null,null,"Kaffe",null,{"$f":"F125*Utslippstall!F103","v":0},null,"Kaffe"]
[null,null,null,null,"Kakao",null,{"$f":"F126*Utslippstall!F104","v":0},null,"Kakao"]
[null,null,null,null,"Fruktjuice",null,{"$f":"F127*Utslippstall!F105","v":0},null,"Fruktjuice"]
[null,null,null,null,"Eddik, vin, cider og sprit",null,{"$f":"F128*Utslippstall!F106","v":0},null,"Eddik, vin, cider og sprit"]
[null,null,null,null,"Øl",null,{"$f":"F129*Utslippstall!F107","v":0},null,"Øl"]
[null,null,null,null,"Drikke diverse",null,{"$f":"F130*Utslippstall!F108","v":0},null,"Drikke diverse"]
[null,null,null,null,"Totalt",{"$f":"F32+F43+F48+F57+F64+F68+F69+F70+F74+F81+F86+F95+F106+F109+F119+F123","v":0},{"$f":"G32+G43+G48+G57+G64+G68+G69+G70+G74+G81+G86+G95+G106+G109+G119+G123","v":0},null,"Totalt",{"$f":"J32+J43+J48+J57+J64+J68+J69+J70+J74+J81+J86+J95+J106+J109+J119+J123","v":0},{"$f":"J131/F131","v":{"$error":"#DIV/0!"}},{"$f":"L32+L43+L48+L57+L64+L68+L69+L70+L74+L81+L86+L95+L106+L109+L119+L123","v":0}]
[]
[]
[]
[null,null,null,"Resultater"]
[null,null,null,null,null,null,null,"4a.","Tabell med resultater for klimagassutslipp"]
[]
[null,null,null,null,null,null,null,null,"Matvarer, hovedkategorier","Dagens utslipp \n(kg CO2-ekv)","Nytt utslipp\n (kg CO2-ekv)"]
[null,null,null,null,null,null,null,null,"Kjøtt",{"$f":"G32","v":0},{"$f":"J139+L32","v":0}]
[null,null,null,null,null,null,null,null,"Fisk og skalldyr",{"$f":"G43","v":0},{"$f":"J140+L43","v":0}]
[null,null,null,null,null,null,null,null,"Egg og meieri",{"$f":"G48","v":0},{"$f":"J141+L48","v":0}]
[null,null,null,null,null,null,null,null,"Korn",{"$f":"G57","v":0},{"$f":"J142+L57","v":0}]
[null,null,null,null,null,null,null,null,"Grønnsaker, krydder og sopp",{"$f":"G64","v":0},{"$f":"J143+L64","v":0}]
[null,null,null,null,null,null,null,null,"Frukt og bær",{"$f":"G68","v":0},{"$f":"J144+L68","v":0}]
[null,null,null,null,null,null,null,null,"Nøtter og frø",{"$f":"G69","v":0},{"$f":"J145+L69","v":0}]
[null,null,null,null,null,null,null,null,"Sukker",{"$f":"G70","v":0},{"$f":"J146+L70","v":0}]
[null,null,null,null,null,null,null,null,"Olje og fett",{"$f":"G74","v":0},{"$f":"J147+L74","v":0}]
[null,null,null,null,null,null,null,null,"Kjeks, kaker og godteri",{"$f":"G81","v":0},{"$f":"J148+L81","v":0}]
[null,null,null,null,null,null,null,null,"Kombinasjonsmåltider",{"$f":"G86","v":0},{"$f":"J149+L86","v":0}]
[null,null,null,null,null,null,null,null,"Sandwicher",{"$f":"G95","v":0},{"$f":"J150+L95","v":0}]
[null,null,null,null,null,null,null,null,"Frukt- og nøttepålegg",{"$f":"G106","v":0},{"$f":"J151+L106","v":0}]
[null,null,null,null,null,null,null,null,"Sauser og supper",{"$f":"G109","v":0},{"$f":"J152+L109","v":0}]
[null,null,null,null,null,null,null,null,"Vegetar/vegan alternativ produkter",{"$f":"G119","v":0},{"$f":"J153+L119","v":0}]
[null,null,null,null,null,null,null,null,"Drikke",{"$f":"G123","v":0},{"$f":"J154+L123","v":0}]
[null,null,null,null,null,null,null,null,"Totalt",{"$f":"SUM(J139:J154)","v":0},{"$f":"SUM(K139:K154)","v":0}]

{"sheet":"Oppfølging - Inndata","index":1,"n_rows":234,"n_cols":57,"rows_kept":234,"cut":false,"hidden":false,"merged":[]}
[]
[]
[]
[]
[]
[]
[null,null,null,"Veiledning"]
[]
[]
[]
[]
[]
[]
[]
[]
[]
[]
[]
[]
[]
[]
[]
[]
[]
[null,null,null,"Innkjøpstall og utslippstall"]
[]
[null,null,null,"1. ","Innkjøpstall for flere perioder"]
[]
[null,null,null,null,"Matvare","Periode 1","Periode 2","Periode 3","Periode 4","Periode 5","Periode 6","Periode 7","Periode 8","Periode 9","Periode 10","Periode 11","Periode 12","Periode 13","Periode 14","Periode 15","Periode 16","Periode 17","Periode 18","Periode 19","Periode 20","Periode 21","Periode 22","Periode 23","Periode 24","Periode 25","Periode 26","Periode 27","Periode 28","Periode 29","Periode 30","Periode 31","Periode 32","Periode 33","Periode 34","Periode 35","Periode 36","Periode 37","Periode 38","Periode 39","Periode 40","Periode 41","Periode 42","Periode 43","Periode 44","Periode 45","Periode 46","Periode 47","Periode 48","Periode 49","Periode 50","Periode 51","Periode 52"]
[null,null,null,null,"Kjøtt",{"$f":"SUM(F31:F40)","v":0},{"$f":"SUM(G31:G40)","v":0},0,0,0,0,0,0,0,0,0,0,0,0,0,0,0,0,0,0,0,0,0,0,0,0,0,0,0,0,0,0,0,0,0,0,0,0,0,0,0,0,0,0,0,0,0,0,0,0,0,0]
[null,null,null,null,"Sau og lam"]
[null,null,null,null,"Blandet kjøtt sau"]
[null,null,null,null,"Storfe"]
[null,null,null,null,"Blandet kjøtt storfe"]
[null,null,null,null,"Blandede kjøttyper"]
[null,null,null,null,"Svin"]
[null,null,null,null,"Blandet kjøtt svin"]
[null,null,null,null,"Fjærkre"]
[null,null,null,null,"Blandet kjøtt kylling"]
[null,null,null,null,"Vilt"]
[null,null,null,null,"Fisk og skalldyr",{"$f":"SUM(F42:F45)","v":0},{"$f":"SUM(G42:G45)","v":0},0,0,0,0,0,0,0,0,0,0,0,0,0,0,0,0,0,0,0,0,0,0,0,0,0,0,0,0,0,0,0,0,0,0,0,0,0,0,0,0,0,0,0,0,0,0,0,0,0,0]
[null,null,null,null,"Blandet fisk"]
[null,null,null,null,"Blandet skalldyr"]
[null,null,null,null,"Fisk"]
[null,null,null,null,"Skalldyr"]
[null,null,null,null,"Egg og meieri",{"$f":"SUM(F47:F54)","v":0},{"$f":"SUM(G47:G54)","v":0},0,0,0,0,0,0,0,0,0,0,0,0,0,0,0,0,0,0,0,0,0,0,0,0,0,0,0,0,0,0,0,0,0,0,0,0,0,0,0,0,0,0,0,0,0,0,0,0,0,0]
[null,null,null,null,"Egg"]
[null,null,null,null,"Smaksatt melk"]
[null,null,null,null,"Grøt"]
[null,null,null,null,"Krem og fløte"]
[null,null,null,null,"Melk og yoghurt"]
[null,null,null,null,"Ost"]
[null,null,null,null,"Risgrøt"]
[null,null,null,null,"Smør"]
[null,null,null,null,"Korn",{"$f":"SUM(F56:F61)","v":0},{"$f":"SUM(G56:G61)","v":0},0,0,0,0,0,0,0,0,0,0,0,0,0,0,0,0,0,0,0,0,0,0,0,0,0,0,0,0,0,0,0,0,0,0,0,0,0,0,0,0,0,0,0,0,0,0,0,0,0,0]
[null,null,null,null,"Brød, korn, mel og bakeprodukter"]
[null,null,null,null,"Frokostblanding og bars"]
[null,null,null,null,"Pannekaker, vafler, lefser, osv."]
[null,null,null,null,"Pasta"]
[null,null,null,null,"Ris"]
[null,null,null,null,"Ris alternativ"]
[null,null,null,null,"Grønnsaker, krydder og sopp",{"$f":"SUM(F63:F65)","v":0},{"$f":"SUM(G63:G65)","v":0},0,0,0,0,0,0,0,0,0,0,0,0,0,0,0,0,0,0,0,0,0,0,0,0,0,0,0,0,0,0,0,0,0,0,0,0,0,0,0,0,0,0,0,0,0,0,0,0,0,0]
[null,null,null,null,"Belgfrukter"]
[null,null,null,null,"Grønnsaker, krydder og urter"]
[null,null,null,null,"Sopp"]
[null,null,null,null,"Frukt og bær"]
[null,null,null,null,"Nøtter og frø"]
[null,null,null,null,"Sukker",{"$f":"SUM(F69:F71)","v":0},{"$f":"SUM(G69:G71)","v":0},0,0,0,0,0,0,0,0,0,0,0,0,0,0,0,0,0,0,0,0,0,0,0,0,0,0,0,0,0,0,0,0,0,0,0,0,0,0,0,0,0,0,0,0,0,0,0,0,0,0]
[null,null,null,null,"Sirup"]
[null,null,null,null,"Sukker"]
[null,null,null,null,"Søtningsmidler, dessertpynt"]
[null,null,null,null,"Olje og fett",{"$f":"SUM(F73:F78)","v":0},{"$f":"SUM(G73:G78)","v":0},0,0,0,0,0,0,0,0,0,0,0,0,0,0,0,0,0,0,0,0,0,0,0,0,0,0,0,0,0,0,0,0,0,0,0,0,0,0,0,0,0,0,0,0,0,0,0,0,0,0]
[null,null,null,null,"Matfett, smørblanding, margarin"]
[null,null,null,null,"Matolje"]
[null,null,null,null,"Olivenolje"]
[null,null,null,null,"Rapsolje"]
[null,null,null,null,"Solsikkeolje"]
[null,null,null,null,"Soyaolje"]
[null,null,null,null,"Kjeks, kaker og godteri",{"$f":"SUM(F80:F83)","v":0},{"$f":"SUM(G80:G83)","v":0},0,0,0,0,0,0,0,0,0,0,0,0,0,0,0,0,0,0,0,0,0,0,0,0,0,0,0,0,0,0,0,0,0,0,0,0,0,0,0,0,0,0,0,0,0,0,0,0,0,0]
[null,null,null,null,"Sjokolade"]
[null,null,null,null,"Godteri"]
[null,null,null,null,"Marsipan"]
[null,null,null,null,"Kjeks og kaker"]
[null,null,null,null,"Kombinasjonsmåltider",{"$f":"SUM(F85:F92)","v":0},{"$f":"SUM(G85:G92)","v":0},0,0,0,0,0,0,0,0,0,0,0,0,0,0,0,0,0,0,0,0,0,0,0,0,0,0,0,0,0,0,0,0,0,0,0,0,0,0,0,0,0,0,0,0,0,0,0,0,0,0]
[null,null,null,null,"Kombinasjonsmåltider blandet kjøtt"]
[null,null,null,null,"Kombinasjonsmåltid sau"]
[null,null,null,null,"Kombinasjonsmåltid storfe"]
[null,null,null,null,"Kombinasjonsmåltid ost"]
[null,null,null,null,"Kombinasjonsmåltid svin"]
[null,null,null,null,"Kombinasjonsmåltid kylling"]
[null,null,null,null,"Kombinasjonsmåltid fisk"]
[null,null,null,null,"Kombinasjonsmåltid vegetar"]
[null,null,null,null,"Sandwicher",{"$f":"SUM(F94:F103)","v":0},{"$f":"SUM(G94:G103)","v":0},0,0,0,0,0,0,0,0,0,0,0,0,0,0,0,0,0,0,0,0,0,0,0,0,0,0,0,0,0,0,0,0,0,0,0,0,0,0,0,0,0,0,0,0,0,0,0,0,0,0]
[null,null,null,null,"Sandwich storfe"]
[null,null,null,null,"Sandwich ost og skinke"]
[null,null,null,null,"Sandwich ukjent"]
[null,null,null,null,"Sandwich ost"]
[null,null,null,null,"Sandwich svin"]
[null,null,null,null,"Sandwich kylling"]
[null,null,null,null,"Sandwich reker"]
[null,null,null,null,"Sandwich egg"]
[null,null,null,null,"Sandwich fisk"]
[null,null,null,null,"Sandwich vegetar"]
[null,null,null,null,"Frukt- og nøttepålegg",{"$f":"SUM(F105:F106)","v":0},{"$f":"SUM(G105:G106)","v":0},0,0,0,0,0,0,0,0,0,0,0,0,0,0,0,0,0,0,0,0,0,0,0,0,0,0,0,0,0,0,0,0,0,0,0,0,0,0,0,0,0,0,0,0,0,0,0,0,0,0]
[null,null,null,null,"Honning"]
[null,null,null,null,"Frukt- og nøttepålegg"]
[null,null,null,null,"Sauser og supper",{"$f":"SUM(F108:F116)","v":0},{"$f":"SUM(G108:G116)","v":0},0,0,0,0,0,0,0,0,0,0,0,0,0,0,0,0,0,0,0,0,0,0,0,0,0,0,0,0,0,0,0,0,0,0,0,0,0,0,0,0,0,0,0,0,0,0,0,0,0,0]
[null,null,null,null,"Rømmedressing"]
[null,null,null,null,"Dessertsaus"]
[null,null,null,null,"Majones"]
[null,null,null,null,"Pesto, sambal og tahini"]
[null,null,null,null,"Dip, dressing, middagssaus"]
[null,null,null,null,"Suppe"]
[null,null,null,null,"Buljong"]
[null,null,null,null,"Vegdip"]
[null,null,null,null,"Soya, fiske og chilisaus"]
[null,null,null,null,"Vegetar/vegan alternativ produkter",{"$f":"SUM(F118:F120)","v":0},{"$f":"SUM(G118:G120)","v":0},0,0,0,0,0,0,0,0,0,0,0,0,0,0,0,0,0,0,0,0,0,0,0,0,0,0,0,0,0,0,0,0,0,0,0,0,0,0,0,0,0,0,0,0,0,0,0,0,0,0]
[null,null,null,null,"Blandet vegetar"]
[null,null,null,null,"Melk og yoghurt alternativ"]
[null,null,null,null,"Ost alternativ"]
[null,null,null,null,"Drikke",{"$f":"SUM(F122:F128)","v":0},{"$f":"SUM(G122:G128)","v":0},0,0,0,0,0,0,0,0,0,0,0,0,0,0,0,0,0,0,0,0,0,0,0,0,0,0,0,0,0,0,0,0,0,0,0,0,0,0,0,0,0,0,0,0,0,0,0,0,0,0]
[null,null,null,null,"Te"]
[null,null,null,null,"Kaffe"]
[null,null,null,null,"Kakao"]
[null,null,null,null,"Fruktjuice"]
[null,null,null,null,"Eddik, vin, cider og sprit"]
[null,null,null,null,"Øl"]
[null,null,null,null,"Drikke diverse"]
[null,null,null,null,"Totalt",{"$f":"F30+F41+F46+F55+F62+F66+F67+F68+F72+F79+F84+F93+F104+F107+F117+F121","v":0},{"$f":"G30+G41+G46+G55+G62+G66+G67+G68+G72+G79+G84+G93+G104+G107+G117+G121","v":0},0,0,0,0,0,0,0,0,0,0,0,0,0,0,0,0,0,0,0,0,0,0,0,0,0,0,0,0,0,0,0,0,0,0,0,0,0,0,0,0,0,0,0,0,0,0,0,0,0,0]
[]
[]
[null,null,null,"2. ","Utslippstall for flere perioder"]
[]
[null,null,null,null,"Matvare","Utslipp fra \nperiode 1","Utslipp fra \nperiode 2","Utslipp fra \nperiode 3","Utslipp fra \nperiode 4","Utslipp fra \nperiode 5","Utslipp fra \nperiode 6","Utslipp fra \nperiode 7","Utslipp fra \nperiode 8","Utslipp fra \nperiode 9","Utslipp fra \nperiode 10","Utslipp fra \nperiode 11","Utslipp fra \nperiode 12","Utslipp fra \nperiode 13","Utslipp fra \nperiode 14","Utslipp fra \nperiode 15","Utslipp fra \nperiode 16","Utslipp fra \nperiode 17","Utslipp fra \nperiode 18","Utslipp fra \nperiode 19","Utslipp fra \nperiode 20","Utslipp fra \nperiode 21","Utslipp fra \nperiode 22","Utslipp fra \nperiode 23","Utslipp fra \nperiode 24","Utslipp fra \nperiode 25","Utslipp fra \nperiode 26","Utslipp fra \nperiode 27","Utslipp fra \nperiode 28","Utslipp fra \nperiode 29","Utslipp fra \nperiode 30","Utslipp fra \nperiode 31","Utslipp fra \nperiode 32","Utslipp fra \nperiode 33","Utslipp fra \nperiode 34","Utslipp fra \nperiode 35","Utslipp fra \nperiode 36","Utslipp fra \nperiode 37","Utslipp fra \nperiode 38","Utslipp fra \nperiode 39","Utslipp fra \nperiode 40","Utslipp fra \nperiode 41","Utslipp fra \nperiode 42","Utslipp fra \nperiode 43","Utslipp fra \nperiode 44","Utslipp fra \nperiode 45","Utslipp fra \nperiode 46","Utslipp fra \nperiode 47","Utslipp fra \nperiode 48","Utslipp fra \nperiode 49","Utslipp fra \nperiode 50","Utslipp fra \nperiode 51","Utslipp fra \nperiode 52"]
[null,null,null,null,"Kjøtt",{"$f":"SUM(F136:F145)","v":0},{"$f":"SUM(G136:G145)","v":0},0,0,{"$f":"SUM(J136:J145)","v":0},0,0,0,0,0,0,0,0,0,0,0,0,0,0,0,0,0,0,0,0,0,0,0,0,0,0,0,0,0,0,0,0,0,0,0,0,0,0,0,0,0,0,0,0,0,0,0]
[null,null,null,null,"Sau og lam",{"$f":"F31*Utslippstall!F11","v":0},{"$f":"G31*Utslippstall!F11","v":0},{"$f":"H31*Utslippstall!F11","v":0},{"$f":"I31*Utslippstall!$F$11","v":0},{"$f":"J31*Utslippstall!$F$11","v":0},{"$f":"K31*Utslippstall!$F$11","v":0},{"$f":"L31*Utslippstall!$F$11","v":0},{"$f":"M31*Utslippstall!$F$11","v":0},{"$f":"N31*Utslippstall!$F$11","v":0},{"$f":"O31*Utslippstall!$F$11","v":0},{"$f":"P31*Utslippstall!$F$11","v":0},{"$f":"Q31*Utslippstall!$F$11","v":0},{"$f":"R31*Utslippstall!$F$11","v":0},{"$f":"S31*Utslippstall!$F$11","v":0},{"$f":"T31*Utslippstall!$F$11","v":0},{"$f":"U31*Utslippstall!$F$11","v":0},{"$f":"V31*Utslippstall!$F$11","v":0},{"$f":"W31*Utslippstall!$F$11","v":0},{"$f":"X31*Utslippstall!$F$11","v":0},{"$f":"Y31*Utslippstall!$F$11","v":0},{"$f":"Z31*Utslippstall!$F$11","v":0},{"$f":"AA31*Utslippstall!$F$11","v":0},{"$f":"AB31*Utslippstall!$F$11","v":0},{"$f":"AC31*Utslippstall!$F$11","v":0},{"$f":"AD31*Utslippstall!$F$11","v":0},{"$f":"AE31*Utslippstall!$F$11","v":0},{"$f":"AF31*Utslippstall!$F$11","v":0},{"$f":"AG31*Utslippstall!$F$11","v":0},{"$f":"AH31*Utslippstall!$F$11","v":0},{"$f":"AI31*Utslippstall!$F$11","v":0},{"$f":"AJ31*Utslippstall!$F$11","v":0},{"$f":"AK31*Utslippstall!$F$11","v":0},{"$f":"AL31*Utslippstall!$F$11","v":0},{"$f":"AM31*Utslippstall!$F$11","v":0},{"$f":"AN31*Utslippstall!$F$11","v":0},{"$f":"AO31*Utslippstall!$F$11","v":0},{"$f":"AP31*Utslippstall!$F$11","v":0},{"$f":"AQ31*Utslippstall!$F$11","v":0},{"$f":"AR31*Utslippstall!$F$11","v":0},{"$f":"AS31*Utslippstall!$F$11","v":0},{"$f":"AT31*Utslippstall!$F$11","v":0},{"$f":"AU31*Utslippstall!$F$11","v":0},{"$f":"AV31*Utslippstall!$F$11","v":0},{"$f":"AW31*Utslippstall!$F$11","v":0},{"$f":"AX31*Utslippstall!$F$11","v":0},{"$f":"AY31*Utslippstall!$F$11","v":0},{"$f":"AZ31*Utslippstall!$F$11","v":0},{"$f":"BA31*Utslippstall!$F$11","v":0},{"$f":"BB31*Utslippstall!$F$11","v":0},{"$f":"BC31*Utslippstall!$F$11","v":0},{"$f":"BD31*Utslippstall!$F$11","v":0},{"$f":"BE31*Utslippstall!$F$11","v":0}]
[null,null,null,null,"Blandet kjøtt sau",{"$f":"F32*Utslippstall!F12","v":0},{"$f":"G32*Utslippstall!F12","v":0},{"$f":"H32*Utslippstall!F12","v":0},{"$f":"I32*Utslippstall!$F$12","v":0},{"$f":"J32*Utslippstall!$F$12","v":0},{"$f":"K32*Utslippstall!$F$12","v":0},{"$f":"L32*Utslippstall!$F$12","v":0},{"$f":"M32*Utslippstall!$F$12","v":0},{"$f":"N32*Utslippstall!$F$12","v":0},{"$f":"O32*Utslippstall!$F$12","v":0},{"$f":"P32*Utslippstall!$F$12","v":0},{"$f":"Q32*Utslippstall!$F$12","v":0},{"$f":"R32*Utslippstall!$F$12","v":0},{"$f":"S32*Utslippstall!$F$12","v":0},{"$f":"T32*Utslippstall!$F$12","v":0},{"$f":"U32*Utslippstall!$F$12","v":0},{"$f":"V32*Utslippstall!$F$12","v":0},{"$f":"W32*Utslippstall!$F$12","v":0},{"$f":"X32*Utslippstall!$F$12","v":0},{"$f":"Y32*Utslippstall!$F$12","v":0},{"$f":"Z32*Utslippstall!$F$12","v":0},{"$f":"AA32*Utslippstall!$F$12","v":0},{"$f":"AB32*Utslippstall!$F$12","v":0},{"$f":"AC32*Utslippstall!$F$12","v":0},{"$f":"AD32*Utslippstall!$F$12","v":0},{"$f":"AE32*Utslippstall!$F$12","v":0},{"$f":"AF32*Utslippstall!$F$12","v":0},{"$f":"AG32*Utslippstall!$F$12","v":0},{"$f":"AH32*Utslippstall!$F$12","v":0},{"$f":"AI32*Utslippstall!$F$12","v":0},{"$f":"AJ32*Utslippstall!$F$12","v":0},{"$f":"AK32*Utslippstall!$F$12","v":0},{"$f":"AL32*Utslippstall!$F$12","v":0},{"$f":"AM32*Utslippstall!$F$12","v":0},{"$f":"AN32*Utslippstall!$F$12","v":0},{"$f":"AO32*Utslippstall!$F$12","v":0},{"$f":"AP32*Utslippstall!$F$12","v":0},{"$f":"AQ32*Utslippstall!$F$12","v":0},{"$f":"AR32*Utslippstall!$F$12","v":0},{"$f":"AS32*Utslippstall!$F$12","v":0},{"$f":"AT32*Utslippstall!$F$12","v":0},{"$f":"AU32*Utslippstall!$F$12","v":0},{"$f":"AV32*Utslippstall!$F$12","v":0},{"$f":"AW32*Utslippstall!$F$12","v":0},{"$f":"AX32*Utslippstall!$F$12","v":0},{"$f":"AY32*Utslippstall!$F$12","v":0},{"$f":"AZ32*Utslippstall!$F$12","v":0},{"$f":"BA32*Utslippstall!$F$12","v":0},{"$f":"BB32*Utslippstall!$F$12","v":0},{"$f":"BC32*Utslippstall!$F$12","v":0},{"$f":"BD32*Utslippstall!$F$12","v":0},{"$f":"BE32*Utslippstall!$F$12","v":0}]
[null,null,null,null,"Storfe",{"$f":"F33*Utslippstall!F13","v":0},{"$f":"G33*Utslippstall!F13","v":0},{"$f":"H33*Utslippstall!F13","v":0},{"$f":"I33*Utslippstall!$F$13","v":0},{"$f":"J33*Utslippstall!$F$13","v":0},{"$f":"K33*Utslippstall!$F$13","v":0},{"$f":"L33*Utslippstall!$F$13","v":0},{"$f":"M33*Utslippstall!$F$13","v":0},{"$f":"N33*Utslippstall!$F$13","v":0},{"$f":"O33*Utslippstall!$F$13","v":0},{"$f":"P33*Utslippstall!$F$13","v":0},{"$f":"Q33*Utslippstall!$F$13","v":0},{"$f":"R33*Utslippstall!$F$13","v":0},{"$f":"S33*Utslippstall!$F$13","v":0},{"$f":"T33*Utslippstall!$F$13","v":0},{"$f":"U33*Utslippstall!$F$13","v":0},{"$f":"V33*Utslippstall!$F$13","v":0},{"$f":"W33*Utslippstall!$F$13","v":0},{"$f":"X33*Utslippstall!$F$13","v":0},{"$f":"Y33*Utslippstall!$F$13","v":0},{"$f":"Z33*Utslippstall!$F$13","v":0},{"$f":"AA33*Utslippstall!$F$13","v":0},{"$f":"AB33*Utslippstall!$F$13","v":0},{"$f":"AC33*Utslippstall!$F$13","v":0},{"$f":"AD33*Utslippstall!$F$13","v":0},{"$f":"AE33*Utslippstall!$F$13","v":0},{"$f":"AF33*Utslippstall!$F$13","v":0},{"$f":"AG33*Utslippstall!$F$13","v":0},{"$f":"AH33*Utslippstall!$F$13","v":0},{"$f":"AI33*Utslippstall!$F$13","v":0},{"$f":"AJ33*Utslippstall!$F$13","v":0},{"$f":"AK33*Utslippstall!$F$13","v":0},{"$f":"AL33*Utslippstall!$F$13","v":0},{"$f":"AM33*Utslippstall!$F$13","v":0},{"$f":"AN33*Utslippstall!$F$13","v":0},{"$f":"AO33*Utslippstall!$F$13","v":0},{"$f":"AP33*Utslippstall!$F$13","v":0},{"$f":"AQ33*Utslippstall!$F$13","v":0},{"$f":"AR33*Utslippstall!$F$13","v":0},{"$f":"AS33*Utslippstall!$F$13","v":0},{"$f":"AT33*Utslippstall!$F$13","v":0},{"$f":"AU33*Utslippstall!$F$13","v":0},{"$f":"AV33*Utslippstall!$F$13","v":0},{"$f":"AW33*Utslippstall!$F$13","v":0},{"$f":"AX33*Utslippstall!$F$13","v":0},{"$f":"AY33*Utslippstall!$F$13","v":0},{"$f":"AZ33*Utslippstall!$F$13","v":0},{"$f":"BA33*Utslippstall!$F$13","v":0},{"$f":"BB33*Utslippstall!$F$13","v":0},{"$f":"BC33*Utslippstall!$F$13","v":0},{"$f":"BD33*Utslippstall!$F$13","v":0},{"$f":"BE33*Utslippstall!$F$13","v":0}]
[null,null,null,null,"Blandet kjøtt storfe",{"$f":"F34*Utslippstall!F14","v":0},{"$f":"G34*Utslippstall!F14","v":0},{"$f":"H34*Utslippstall!F14","v":0},{"$f":"I34*Utslippstall!$F$14","v":0},{"$f":"J34*Utslippstall!$F$14","v":0},{"$f":"K34*Utslippstall!$F$14","v":0},{"$f":"L34*Utslippstall!$F$14","v":0},{"$f":"M34*Utslippstall!$F$14","v":0},{"$f":"N34*Utslippstall!$F$14","v":0},{"$f":"O34*Utslippstall!$F$14","v":0},{"$f":"P34*Utslippstall!$F$14","v":0},{"$f":"Q34*Utslippstall!$F$14","v":0},{"$f":"R34*Utslippstall!$F$14","v":0},{"$f":"S34*Utslippstall!$F$14","v":0},{"$f":"T34*Utslippstall!$F$14","v":0},{"$f":"U34*Utslippstall!$F$14","v":0},{"$f":"V34*Utslippstall!$F$14","v":0},{"$f":"W34*Utslippstall!$F$14","v":0},{"$f":"X34*Utslippstall!$F$14","v":0},{"$f":"Y34*Utslippstall!$F$14","v":0},{"$f":"Z34*Utslippstall!$F$14","v":0},{"$f":"AA34*Utslippstall!$F$14","v":0},{"$f":"AB34*Utslippstall!$F$14","v":0},{"$f":"AC34*Utslippstall!$F$14","v":0},{"$f":"AD34*Utslippstall!$F$14","v":0},{"$f":"AE34*Utslippstall!$F$14","v":0},{"$f":"AF34*Utslippstall!$F$14","v":0},{"$f":"AG34*Utslippstall!$F$14","v":0},{"$f":"AH34*Utslippstall!$F$14","v":0},{"$f":"AI34*Utslippstall!$F$14","v":0},{"$f":"AJ34*Utslippstall!$F$14","v":0},{"$f":"AK34*Utslippstall!$F$14","v":0},{"$f":"AL34*Utslippstall!$F$14","v":0},{"$f":"AM34*Utslippstall!$F$14","v":0},{"$f":"AN34*Utslippstall!$F$14","v":0},{"$f":"AO34*Utslippstall!$F$14","v":0},{"$f":"AP34*Utslippstall!$F$14","v":0},{"$f":"AQ34*Utslippstall!$F$14","v":0},{"$f":"AR34*Utslippstall!$F$14","v":0},{"$f":"AS34*Utslippstall!$F$14","v":0},{"$f":"AT34*Utslippstall!$F$14","v":0},{"$f":"AU34*Utslippstall!$F$14","v":0},{"$f":"AV34*Utslippstall!$F$14","v":0},{"$f":"AW34*Utslippstall!$F$14","v":0},{"$f":"AX34*Utslippstall!$F$14","v":0},{"$f":"AY34*Utslippstall!$F$14","v":0},{"$f":"AZ34*Utslippstall!$F$14","v":0},{"$f":"BA34*Utslippstall!$F$14","v":0},{"$f":"BB34*Utslippstall!$F$14","v":0},{"$f":"BC34*Utslippstall!$F$14","v":0},{"$f":"BD34*Utslippstall!$F$14","v":0},{"$f":"BE34*Utslippstall!$F$14","v":0}]
[null,null,null,null,"Blandede kjøttyper",{"$f":"F35*Utslippstall!F15","v":0},{"$f":"G35*Utslippstall!F15","v":0},{"$f":"H35*Utslippstall!F15","v":0},{"$f":"I35*Utslippstall!$F$15","v":0},{"$f":"J35*Utslippstall!$F$15","v":0},{"$f":"K35*Utslippstall!$F$15","v":0},{"$f":"L35*Utslippstall!$F$15","v":0},{"$f":"M35*Utslippstall!$F$15","v":0},{"$f":"N35*Utslippstall!$F$15","v":0},{"$f":"O35*Utslippstall!$F$15","v":0},{"$f":"P35*Utslippstall!$F$15","v":0},{"$f":"Q35*Utslippstall!$F$15","v":0},{"$f":"R35*Utslippstall!$F$15","v":0},{"$f":"S35*Utslippstall!$F$15","v":0},{"$f":"T35*Utslippstall!$F$15","v":0},{"$f":"U35*Utslippstall!$F$15","v":0},{"$f":"V35*Utslippstall!$F$15","v":0},{"$f":"W35*Utslippstall!$F$15","v":0},{"$f":"X35*Utslippstall!$F$15","v":0},{"$f":"Y35*Utslippstall!$F$15","v":0},{"$f":"Z35*Utslippstall!$F$15","v":0},{"$f":"AA35*Utslippstall!$F$15","v":0},{"$f":"AB35*Utslippstall!$F$15","v":0},{"$f":"AC35*Utslippstall!$F$15","v":0},{"$f":"AD35*Utslippstall!$F$15","v":0},{"$f":"AE35*Utslippstall!$F$15","v":0},{"$f":"AF35*Utslippstall!$F$15","v":0},{"$f":"AG35*Utslippstall!$F$15","v":0},{"$f":"AH35*Utslippstall!$F$15","v":0},{"$f":"AI35*Utslippstall!$F$15","v":0},{"$f":"AJ35*Utslippstall!$F$15","v":0},{"$f":"AK35*Utslippstall!$F$15","v":0},{"$f":"AL35*Utslippstall!$F$15","v":0},{"$f":"AM35*Utslippstall!$F$15","v":0},{"$f":"AN35*Utslippstall!$F$15","v":0},{"$f":"AO35*Utslippstall!$F$15","v":0},{"$f":"AP35*Utslippstall!$F$15","v":0},{"$f":"AQ35*Utslippstall!$F$15","v":0},{"$f":"AR35*Utslippstall!$F$15","v":0},{"$f":"AS35*Utslippstall!$F$15","v":0},{"$f":"AT35*Utslippstall!$F$15","v":0},{"$f":"AU35*Utslippstall!$F$15","v":0},{"$f":"AV35*Utslippstall!$F$15","v":0},{"$f":"AW35*Utslippstall!$F$15","v":0},{"$f":"AX35*Utslippstall!$F$15","v":0},{"$f":"AY35*Utslippstall!$F$15","v":0},{"$f":"AZ35*Utslippstall!$F$15","v":0},{"$f":"BA35*Utslippstall!$F$15","v":0},{"$f":"BB35*Utslippstall!$F$15","v":0},{"$f":"BC35*Utslippstall!$F$15","v":0},{"$f":"BD35*Utslippstall!$F$15","v":0},{"$f":"BE35*Utslippstall!$F$15","v":0}]
[null,null,null,null,"Svin",{"$f":"F36*Utslippstall!F16","v":0},{"$f":"G36*Utslippstall!F16","v":0},{"$f":"H36*Utslippstall!F16","v":0},{"$f":"I36*Utslippstall!$F$16","v":0},{"$f":"J36*Utslippstall!$F$16","v":0},{"$f":"K36*Utslippstall!$F$16","v":0},{"$f":"L36*Utslippstall!$F$16","v":0},{"$f":"M36*Utslippstall!$F$16","v":0},{"$f":"N36*Utslippstall!$F$16","v":0},{"$f":"O36*Utslippstall!$F$16","v":0},{"$f":"P36*Utslippstall!$F$16","v":0},{"$f":"Q36*Utslippstall!$F$16","v":0},{"$f":"R36*Utslippstall!$F$16","v":0},{"$f":"S36*Utslippstall!$F$16","v":0},{"$f":"T36*Utslippstall!$F$16","v":0},{"$f":"U36*Utslippstall!$F$16","v":0},{"$f":"V36*Utslippstall!$F$16","v":0},{"$f":"W36*Utslippstall!$F$16","v":0},{"$f":"X36*Utslippstall!$F$16","v":0},{"$f":"Y36*Utslippstall!$F$16","v":0},{"$f":"Z36*Utslippstall!$F$16","v":0},{"$f":"AA36*Utslippstall!$F$16","v":0},{"$f":"AB36*Utslippstall!$F$16","v":0},{"$f":"AC36*Utslippstall!$F$16","v":0},{"$f":"AD36*Utslippstall!$F$16","v":0},{"$f":"AE36*Utslippstall!$F$16","v":0},{"$f":"AF36*Utslippstall!$F$16","v":0},{"$f":"AG36*Utslippstall!$F$16","v":0},{"$f":"AH36*Utslippstall!$F$16","v":0},{"$f":"AI36*Utslippstall!$F$16","v":0},{"$f":"AJ36*Utslippstall!$F$16","v":0},{"$f":"AK36*Utslippstall!$F$16","v":0},{"$f":"AL36*Utslippstall!$F$16","v":0},{"$f":"AM36*Utslippstall!$F$16","v":0},{"$f":"AN36*Utslippstall!$F$16","v":0},{"$f":"AO36*Utslippstall!$F$16","v":0},{"$f":"AP36*Utslippstall!$F$16","v":0},{"$f":"AQ36*Utslippstall!$F$16","v":0},{"$f":"AR36*Utslippstall!$F$16","v":0},{"$f":"AS36*Utslippstall!$F$16","v":0},{"$f":"AT36*Utslippstall!$F$16","v":0},{"$f":"AU36*Utslippstall!$F$16","v":0},{"$f":"AV36*Utslippstall!$F$16","v":0},{"$f":"AW36*Utslippstall!$F$16","v":0},{"$f":"AX36*Utslippstall!$F$16","v":0},{"$f":"AY36*Utslippstall!$F$16","v":0},{"$f":"AZ36*Utslippstall!$F$16","v":0},{"$f":"BA36*Utslippstall!$F$16","v":0},{"$f":"BB36*Utslippstall!$F$16","v":0},{"$f":"BC36*Utslippstall!$F$16","v":0},{"$f":"BD36*Utslippstall!$F$16","v":0},{"$f":"BE36*Utslippstall!$F$16","v":0}]
[null,null,null,null,"Blandet kjøtt svin",{"$f":"F37*Utslippstall!F17","v":0},{"$f":"G37*Utslippstall!F17","v":0},{"$f":"H37*Utslippstall!F17","v":0},{"$f":"I37*Utslippstall!$F$17","v":0},{"$f":"J37*Utslippstall!$F$17","v":0},{"$f":"K37*Utslippstall!$F$17","v":0},{"$f":"L37*Utslippstall!$F$17","v":0},{"$f":"M37*Utslippstall!$F$17","v":0},{"$f":"N37*Utslippstall!$F$17","v":0},{"$f":"O37*Utslippstall!$F$17","v":0},{"$f":"P37*Utslippstall!$F$17","v":0},{"$f":"Q37*Utslippstall!$F$17","v":0},{"$f":"R37*Utslippstall!$F$17","v":0},{"$f":"S37*Utslippstall!$F$17","v":0},{"$f":"T37*Utslippstall!$F$17","v":0},{"$f":"U37*Utslippstall!$F$17","v":0},{"$f":"V37*Utslippstall!$F$17","v":0},{"$f":"W37*Utslippstall!$F$17","v":0},{"$f":"X37*Utslippstall!$F$17","v":0},{"$f":"Y37*Utslippstall!$F$17","v":0},{"$f":"Z37*Utslippstall!$F$17","v":0},{"$f":"AA37*Utslippstall!$F$17","v":0},{"$f":"AB37*Utslippstall!$F$17","v":0},{"$f":"AC37*Utslippstall!$F$17","v":0},{"$f":"AD37*Utslippstall!$F$17","v":0},{"$f":"AE37*Utslippstall!$F$17","v":0},{"$f":"AF37*Utslippstall!$F$17","v":0},{"$f":"AG37*Utslippstall!$F$17","v":0},{"$f":"AH37*Utslippstall!$F$17","v":0},{"$f":"AI37*Utslippstall!$F$17","v":0},{"$f":"AJ37*Utslippstall!$F$17","v":0},{"$f":"AK37*Utslippstall!$F$17","v":0},{"$f":"AL37*Utslippstall!$F$17","v":0},{"$f":"AM37*Utslippstall!$F$17","v":0},{"$f":"AN37*Utslippstall!$F$17","v":0},{"$f":"AO37*Utslippstall!$F$17","v":0},{"$f":"AP37*Utslippstall!$F$17","v":0},{"$f":"AQ37*Utslippstall!$F$17","v":0},{"$f":"AR37*Utslippstall!$F$17","v":0},{"$f":"AS37*Utslippstall!$F$17","v":0},{"$f":"AT37*Utslippstall!$F$17","v":0},{"$f":"AU37*Utslippstall!$F$17","v":0},{"$f":"AV37*Utslippstall!$F$17","v":0},{"$f":"AW37*Utslippstall!$F$17","v":0},{"$f":"AX37*Utslippstall!$F$17","v":0},{"$f":"AY37*Utslippstall!$F$17","v":0},{"$f":"AZ37*Utslippstall!$F$17","v":0},{"$f":"BA37*Utslippstall!$F$17","v":0},{"$f":"BB37*Utslippstall!$F$17","v":0},{"$f":"BC37*Utslippstall!$F$17","v":0},{"$f":"BD37*Utslippstall!$F$17","v":0},{"$f":"BE37*Utslippstall!$F$17","v":0}]
[null,null,null,null,"Fjærkre",{"$f":"F38*Utslippstall!F18","v":0},{"$f":"G38*Utslippstall!F18","v":0},{"$f":"H38*Utslippstall!F18","v":0},{"$f":"I38*Utslippstall!$F$18","v":0},{"$f":"J38*Utslippstall!$F$18","v":0},{"$f":"K38*Utslippstall!$F$18","v":0},{"$f":"L38*Utslippstall!$F$18","v":0},{"$f":"M38*Utslippstall!$F$18","v":0},{"$f":"N38*Utslippstall!$F$18","v":0},{"$f":"O38*Utslippstall!$F$18","v":0},{"$f":"P38*Utslippstall!$F$18","v":0},{"$f":"Q38*Utslippstall!$F$18","v":0},{"$f":"R38*Utslippstall!$F$18","v":0},{"$f":"S38*Utslippstall!$F$18","v":0},{"$f":"T38*Utslippstall!$F$18","v":0},{"$f":"U38*Utslippstall!$F$18","v":0},{"$f":"V38*Utslippstall!$F$18","v":0},{"$f":"W38*Utslippstall!$F$18","v":0},{"$f":"X38*Utslippstall!$F$18","v":0},{"$f":"Y38*Utslippstall!$F$18","v":0},{"$f":"Z38*Utslippstall!$F$18","v":0},{"$f":"AA38*Utslippstall!$F$18","v":0},{"$f":"AB38*Utslippstall!$F$18","v":0},{"$f":"AC38*Utslippstall!$F$18","v":0},{"$f":"AD38*Utslippstall!$F$18","v":0},{"$f":"AE38*Utslippstall!$F$18","v":0},{"$f":"AF38*Utslippstall!$F$18","v":0},{"$f":"AG38*Utslippstall!$F$18","v":0},{"$f":"AH38*Utslippstall!$F$18","v":0},{"$f":"AI38*Utslippstall!$F$18","v":0},{"$f":"AJ38*Utslippstall!$F$18","v":0},{"$f":"AK38*Utslippstall!$F$18","v":0},{"$f":"AL38*Utslippstall!$F$18","v":0},{"$f":"AM38*Utslippstall!$F$18","v":0},{"$f":"AN38*Utslippstall!$F$18","v":0},{"$f":"AO38*Utslippstall!$F$18","v":0},{"$f":"AP38*Utslippstall!$F$18","v":0},{"$f":"AQ38*Utslippstall!$F$18","v":0},{"$f":"AR38*Utslippstall!$F$18","v":0},{"$f":"AS38*Utslippstall!$F$18","v":0},{"$f":"AT38*Utslippstall!$F$18","v":0},{"$f":"AU38*Utslippstall!$F$18","v":0},{"$f":"AV38*Utslippstall!$F$18","v":0},{"$f":"AW38*Utslippstall!$F$18","v":0},{"$f":"AX38*Utslippstall!$F$18","v":0},{"$f":"AY38*Utslippstall!$F$18","v":0},{"$f":"AZ38*Utslippstall!$F$18","v":0},{"$f":"BA38*Utslippstall!$F$18","v":0},{"$f":"BB38*Utslippstall!$F$18","v":0},{"$f":"BC38*Utslippstall!$F$18","v":0},{"$f":"BD38*Utslippstall!$F$18","v":0},{"$f":"BE38*Utslippstall!$F$18","v":0}]
[null,null,null,null,"Blandet kjøtt kylling",{"$f":"F39*Utslippstall!F19","v":0},{"$f":"G39*Utslippstall!F19","v":0},{"$f":"H39*Utslippstall!F19","v":0},{"$f":"I39*Utslippstall!$F$19","v":0},{"$f":"J39*Utslippstall!$F$19","v":0},{"$f":"K39*Utslippstall!$F$19","v":0},{"$f":"L39*Utslippstall!$F$19","v":0},{"$f":"M39*Utslippstall!$F$19","v":0},{"$f":"N39*Utslippstall!$F$19","v":0},{"$f":"O39*Utslippstall!$F$19","v":0},{"$f":"P39*Utslippstall!$F$19","v":0},{"$f":"Q39*Utslippstall!$F$19","v":0},{"$f":"R39*Utslippstall!$F$19","v":0},{"$f":"S39*Utslippstall!$F$19","v":0},{"$f":"T39*Utslippstall!$F$19","v":0},{"$f":"U39*Utslippstall!$F$19","v":0},{"$f":"V39*Utslippstall!$F$19","v":0},{"$f":"W39*Utslippstall!$F$19","v":0},{"$f":"X39*Utslippstall!$F$19","v":0},{"$f":"Y39*Utslippstall!$F$19","v":0},{"$f":"Z39*Utslippstall!$F$19","v":0},{"$f":"AA39*Utslippstall!$F$19","v":0},{"$f":"AB39*Utslippstall!$F$19","v":0},{"$f":"AC39*Utslippstall!$F$19","v":0},{"$f":"AD39*Utslippstall!$F$19","v":0},{"$f":"AE39*Utslippstall!$F$19","v":0},{"$f":"AF39*Utslippstall!$F$19","v":0},{"$f":"AG39*Utslippstall!$F$19","v":0},{"$f":"AH39*Utslippstall!$F$19","v":0},{"$f":"AI39*Utslippstall!$F$19","v":0},{"$f":"AJ39*Utslippstall!$F$19","v":0},{"$f":"AK39*Utslippstall!$F$19","v":0},{"$f":"AL39*Utslippstall!$F$19","v":0},{"$f":"AM39*Utslippstall!$F$19","v":0},{"$f":"AN39*Utslippstall!$F$19","v":0},{"$f":"AO39*Utslippstall!$F$19","v":0},{"$f":"AP39*Utslippstall!$F$19","v":0},{"$f":"AQ39*Utslippstall!$F$19","v":0},{"$f":"AR39*Utslippstall!$F$19","v":0},{"$f":"AS39*Utslippstall!$F$19","v":0},{"$f":"AT39*Utslippstall!$F$19","v":0},{"$f":"AU39*Utslippstall!$F$19","v":0},{"$f":"AV39*Utslippstall!$F$19","v":0},{"$f":"AW39*Utslippstall!$F$19","v":0},{"$f":"AX39*Utslippstall!$F$19","v":0},{"$f":"AY39*Utslippstall!$F$19","v":0},{"$f":"AZ39*Utslippstall!$F$19","v":0},{"$f":"BA39*Utslippstall!$F$19","v":0},{"$f":"BB39*Utslippstall!$F$19","v":0},{"$f":"BC39*Utslippstall!$F$19","v":0},{"$f":"BD39*Utslippstall!$F$19","v":0},{"$f":"BE39*Utslippstall!$F$19","v":0}]
[null,null,null,null,"Vilt",{"$f":"F40*Utslippstall!F20","v":0},{"$f":"G40*Utslippstall!F20","v":0},{"$f":"H40*Utslippstall!F20","v":0},{"$f":"I40*Utslippstall!$F$20","v":0},{"$f":"J40*Utslippstall!$F$20","v":0},{"$f":"K40*Utslippstall!$F$20","v":0},{"$f":"L40*Utslippstall!$F$20","v":0},{"$f":"M40*Utslippstall!$F$20","v":0},{"$f":"N40*Utslippstall!$F$20","v":0},{"$f":"O40*Utslippstall!$F$20","v":0},{"$f":"P40*Utslippstall!$F$20","v":0},{"$f":"Q40*Utslippstall!$F$20","v":0},{"$f":"R40*Utslippstall!$F$20","v":0},{"$f":"S40*Utslippstall!$F$20","v":0},{"$f":"T40*Utslippstall!$F$20","v":0},{"$f":"U40*Utslippstall!$F$20","v":0},{"$f":"V40*Utslippstall!$F$20","v":0},{"$f":"W40*Utslippstall!$F$20","v":0},{"$f":"X40*Utslippstall!$F$20","v":0},{"$f":"Y40*Utslippstall!$F$20","v":0},{"$f":"Z40*Utslippstall!$F$20","v":0},{"$f":"AA40*Utslippstall!$F$20","v":0},{"$f":"AB40*Utslippstall!$F$20","v":0},{"$f":"AC40*Utslippstall!$F$20","v":0},{"$f":"AD40*Utslippstall!$F$20","v":0},{"$f":"AE40*Utslippstall!$F$20","v":0},{"$f":"AF40*Utslippstall!$F$20","v":0},{"$f":"AG40*Utslippstall!$F$20","v":0},{"$f":"AH40*Utslippstall!$F$20","v":0},{"$f":"AI40*Utslippstall!$F$20","v":0},{"$f":"AJ40*Utslippstall!$F$20","v":0},{"$f":"AK40*Utslippstall!$F$20","v":0},{"$f":"AL40*Utslippstall!$F$20","v":0},{"$f":"AM40*Utslippstall!$F$20","v":0},{"$f":"AN40*Utslippstall!$F$20","v":0},{"$f":"AO40*Utslippstall!$F$20","v":0},{"$f":"AP40*Utslippstall!$F$20","v":0},{"$f":"AQ40*Utslippstall!$F$20","v":0},{"$f":"AR40*Utslippstall!$F$20","v":0},{"$f":"AS40*Utslippstall!$F$20","v":0},{"$f":"AT40*Utslippstall!$F$20","v":0},{"$f":"AU40*Utslippstall!$F$20","v":0},{"$f":"AV40*Utslippstall!$F$20","v":0},{"$f":"AW40*Utslippstall!$F$20","v":0},{"$f":"AX40*Utslippstall!$F$20","v":0},{"$f":"AY40*Utslippstall!$F$20","v":0},{"$f":"AZ40*Utslippstall!$F$20","v":0},{"$f":"BA40*Utslippstall!$F$20","v":0},{"$f":"BB40*Utslippstall!$F$20","v":0},{"$f":"BC40*Utslippstall!$F$20","v":0},{"$f":"BD40*Utslippstall!$F$20","v":0},{"$f":"BE40*Utslippstall!$F$20","v":0}]
[null,null,null,null,"Fisk og skalldyr",{"$f":"SUM(F147:F150)","v":0},{"$f":"SUM(G147:G150)","v":0},0,0,{"$f":"SUM(J147:J150)","v":0},0,0,0,0,0,0,0,0,0,0,0,0,0,0,0,0,0,0,0,0,0,0,0,0,0,0,0,0,0,0,0,0,0,0,0,0,0,0,0,0,0,0,0,0,0,0,0]
[null,null,null,null,"Blandet fisk",{"$f":"F42*Utslippstall!F22","v":0},{"$f":"G42*Utslippstall!F22","v":0},{"$f":"H42*Utslippstall!F22","v":0},{"$f":"I42*Utslippstall!$F$22","v":0},{"$f":"J42*Utslippstall!$F$22","v":0},{"$f":"K42*Utslippstall!$F$22","v":0},{"$f":"L42*Utslippstall!$F$22","v":0},{"$f":"M42*Utslippstall!$F$22","v":0},{"$f":"N42*Utslippstall!$F$22","v":0},{"$f":"O42*Utslippstall!$F$22","v":0},{"$f":"P42*Utslippstall!$F$22","v":0},{"$f":"Q42*Utslippstall!$F$22","v":0},{"$f":"R42*Utslippstall!$F$22","v":0},{"$f":"S42*Utslippstall!$F$22","v":0},{"$f":"T42*Utslippstall!$F$22","v":0},{"$f":"U42*Utslippstall!$F$22","v":0},{"$f":"V42*Utslippstall!$F$22","v":0},{"$f":"W42*Utslippstall!$F$22","v":0},{"$f":"X42*Utslippstall!$F$22","v":0},{"$f":"Y42*Utslippstall!$F$22","v":0},{"$f":"Z42*Utslippstall!$F$22","v":0},{"$f":"AA42*Utslippstall!$F$22","v":0},{"$f":"AB42*Utslippstall!$F$22","v":0},{"$f":"AC42*Utslippstall!$F$22","v":0},{"$f":"AD42*Utslippstall!$F$22","v":0},{"$f":"AE42*Utslippstall!$F$22","v":0},{"$f":"AF42*Utslippstall!$F$22","v":0},{"$f":"AG42*Utslippstall!$F$22","v":0},{"$f":"AH42*Utslippstall!$F$22","v":0},{"$f":"AI42*Utslippstall!$F$22","v":0},{"$f":"AJ42*Utslippstall!$F$22","v":0},{"$f":"AK42*Utslippstall!$F$22","v":0},{"$f":"AL42*Utslippstall!$F$22","v":0},{"$f":"AM42*Utslippstall!$F$22","v":0},{"$f":"AN42*Utslippstall!$F$22","v":0},{"$f":"AO42*Utslippstall!$F$22","v":0},{"$f":"AP42*Utslippstall!$F$22","v":0},{"$f":"AQ42*Utslippstall!$F$22","v":0},{"$f":"AR42*Utslippstall!$F$22","v":0},{"$f":"AS42*Utslippstall!$F$22","v":0},{"$f":"AT42*Utslippstall!$F$22","v":0},{"$f":"AU42*Utslippstall!$F$22","v":0},{"$f":"AV42*Utslippstall!$F$22","v":0},{"$f":"AW42*Utslippstall!$F$22","v":0},{"$f":"AX42*Utslippstall!$F$22","v":0},{"$f":"AY42*Utslippstall!$F$22","v":0},{"$f":"AZ42*Utslippstall!$F$22","v":0},{"$f":"BA42*Utslippstall!$F$22","v":0},{"$f":"BB42*Utslippstall!$F$22","v":0},{"$f":"BC42*Utslippstall!$F$22","v":0},{"$f":"BD42*Utslippstall!$F$22","v":0},{"$f":"BE42*Utslippstall!$F$22","v":0}]
[null,null,null,null,"Blandet skalldyr",{"$f":"F43*Utslippstall!F23","v":0},{"$f":"G43*Utslippstall!F23","v":0},{"$f":"H43*Utslippstall!F23","v":0},{"$f":"I43*Utslippstall!$F$23","v":0},{"$f":"J43*Utslippstall!$F$23","v":0},{"$f":"K43*Utslippstall!$F$23","v":0},{"$f":"L43*Utslippstall!$F$23","v":0},{"$f":"M43*Utslippstall!$F$23","v":0},{"$f":"N43*Utslippstall!$F$23","v":0},{"$f":"O43*Utslippstall!$F$23","v":0},{"$f":"P43*Utslippstall!$F$23","v":0},{"$f":"Q43*Utslippstall!$F$23","v":0},{"$f":"R43*Utslippstall!$F$23","v":0},{"$f":"S43*Utslippstall!$F$23","v":0},{"$f":"T43*Utslippstall!$F$23","v":0},{"$f":"U43*Utslippstall!$F$23","v":0},{"$f":"V43*Utslippstall!$F$23","v":0},{"$f":"W43*Utslippstall!$F$23","v":0},{"$f":"X43*Utslippstall!$F$23","v":0},{"$f":"Y43*Utslippstall!$F$23","v":0},{"$f":"Z43*Utslippstall!$F$23","v":0},{"$f":"AA43*Utslippstall!$F$23","v":0},{"$f":"AB43*Utslippstall!$F$23","v":0},{"$f":"AC43*Utslippstall!$F$23","v":0},{"$f":"AD43*Utslippstall!$F$23","v":0},{"$f":"AE43*Utslippstall!$F$23","v":0},{"$f":"AF43*Utslippstall!$F$23","v":0},{"$f":"AG43*Utslippstall!$F$23","v":0},{"$f":"AH43*Utslippstall!$F$23","v":0},{"$f":"AI43*Utslippstall!$F$23","v":0},{"$f":"AJ43*Utslippstall!$F$23","v":0},{"$f":"AK43*Utslippstall!$F$23","v":0},{"$f":"AL43*Utslippstall!$F$23","v":0},{"$f":"AM43*Utslippstall!$F$23","v":0},{"$f":"AN43*Utslippstall!$F$23","v":0},{"$f":"AO43*Utslippstall!$F$23","v":0},{"$f":"AP43*Utslippstall!$F$23","v":0},{"$f":"AQ43*Utslippstall!$F$23","v":0},{"$f":"AR43*Utslippstall!$F$23","v":0},{"$f":"AS43*Utslippstall!$F$23","v":0},{"$f":"AT43*Utslippstall!$F$23","v":0},{"$f":"AU43*Utslippstall!$F$23","v":0},{"$f":"AV43*Utslippstall!$F$23","v":0},{"$f":"AW43*Utslippstall!$F$23","v":0},{"$f":"AX43*Utslippstall!$F$23","v":0},{"$f":"AY43*Utslippstall!$F$23","v":0},{"$f":"AZ43*Utslippstall!$F$23","v":0},{"$f":"BA43*Utslippstall!$F$23","v":0},{"$f":"BB43*Utslippstall!$F$23","v":0},{"$f":"BC43*Utslippstall!$F$23","v":0},{"$f":"BD43*Utslippstall!$F$23","v":0},{"$f":"BE43*Utslippstall!$F$23","v":0}]
[null,null,null,null,"Fisk",{"$f":"F44*Utslippstall!F24","v":0},{"$f":"G44*Utslippstall!F24","v":0},{"$f":"H44*Utslippstall!F24","v":0},{"$f":"I44*Utslippstall!$F$24","v":0},{"$f":"J44*Utslippstall!$F$24","v":0},{"$f":"K44*Utslippstall!$F$24","v":0},{"$f":"L44*Utslippstall!$F$24","v":0},{"$f":"M44*Utslippstall!$F$24","v":0},{"$f":"N44*Utslippstall!$F$24","v":0},{"$f":"O44*Utslippstall!$F$24","v":0},{"$f":"P44*Utslippstall!$F$24","v":0},{"$f":"Q44*Utslippstall!$F$24","v":0},{"$f":"R44*Utslippstall!$F$24","v":0},{"$f":"S44*Utslippstall!$F$24","v":0},{"$f":"T44*Utslippstall!$F$24","v":0},{"$f":"U44*Utslippstall!$F$24","v":0},{"$f":"V44*Utslippstall!$F$24","v":0},{"$f":"W44*Utslippstall!$F$24","v":0},{"$f":"X44*Utslippstall!$F$24","v":0},{"$f":"Y44*Utslippstall!$F$24","v":0},{"$f":"Z44*Utslippstall!$F$24","v":0},{"$f":"AA44*Utslippstall!$F$24","v":0},{"$f":"AB44*Utslippstall!$F$24","v":0},{"$f":"AC44*Utslippstall!$F$24","v":0},{"$f":"AD44*Utslippstall!$F$24","v":0},{"$f":"AE44*Utslippstall!$F$24","v":0},{"$f":"AF44*Utslippstall!$F$24","v":0},{"$f":"AG44*Utslippstall!$F$24","v":0},{"$f":"AH44*Utslippstall!$F$24","v":0},{"$f":"AI44*Utslippstall!$F$24","v":0},{"$f":"AJ44*Utslippstall!$F$24","v":0},{"$f":"AK44*Utslippstall!$F$24","v":0},{"$f":"AL44*Utslippstall!$F$24","v":0},{"$f":"AM44*Utslippstall!$F$24","v":0},{"$f":"AN44*Utslippstall!$F$24","v":0},{"$f":"AO44*Utslippstall!$F$24","v":0},{"$f":"AP44*Utslippstall!$F$24","v":0},{"$f":"AQ44*Utslippstall!$F$24","v":0},{"$f":"AR44*Utslippstall!$F$24","v":0},{"$f":"AS44*Utslippstall!$F$24","v":0},{"$f":"AT44*Utslippstall!$F$24","v":0},{"$f":"AU44*Utslippstall!$F$24","v":0},{"$f":"AV44*Utslippstall!$F$24","v":0},{"$f":"AW44*Utslippstall!$F$24","v":0},{"$f":"AX44*Utslippstall!$F$24","v":0},{"$f":"AY44*Utslippstall!$F$24","v":0},{"$f":"AZ44*Utslippstall!$F$24","v":0},{"$f":"BA44*Utslippstall!$F$24","v":0},{"$f":"BB44*Utslippstall!$F$24","v":0},{"$f":"BC44*Utslippstall!$F$24","v":0},{"$f":"BD44*Utslippstall!$F$24","v":0},{"$f":"BE44*Utslippstall!$F$24","v":0}]
[null,null,null,null,"Skalldyr",{"$f":"F45*Utslippstall!F25","v":0},{"$f":"G45*Utslippstall!F25","v":0},{"$f":"H45*Utslippstall!F25","v":0},{"$f":"I45*Utslippstall!$F$25","v":0},{"$f":"J45*Utslippstall!$F$25","v":0},{"$f":"K45*Utslippstall!$F$25","v":0},{"$f":"L45*Utslippstall!$F$25","v":0},{"$f":"M45*Utslippstall!$F$25","v":0},{"$f":"N45*Utslippstall!$F$25","v":0},{"$f":"O45*Utslippstall!$F$25","v":0},{"$f":"P45*Utslippstall!$F$25","v":0},{"$f":"Q45*Utslippstall!$F$25","v":0},{"$f":"R45*Utslippstall!$F$25","v":0},{"$f":"S45*Utslippstall!$F$25","v":0},{"$f":"T45*Utslippstall!$F$25","v":0},{"$f":"U45*Utslippstall!$F$25","v":0},{"$f":"V45*Utslippstall!$F$25","v":0},{"$f":"W45*Utslippstall!$F$25","v":0},{"$f":"X45*Utslippstall!$F$25","v":0},{"$f":"Y45*Utslippstall!$F$25","v":0},{"$f":"Z45*Utslippstall!$F$25","v":0},{"$f":"AA45*Utslippstall!$F$25","v":0},{"$f":"AB45*Utslippstall!$F$25","v":0},{"$f":"AC45*Utslippstall!$F$25","v":0},{"$f":"AD45*Utslippstall!$F$25","v":0},{"$f":"AE45*Utslippstall!$F$25","v":0},{"$f":"AF45*Utslippstall!$F$25","v":0},{"$f":"AG45*Utslippstall!$F$25","v":0},{"$f":"AH45*Utslippstall!$F$25","v":0},{"$f":"AI45*Utslippstall!$F$25","v":0},{"$f":"AJ45*Utslippstall!$F$25","v":0},{"$f":"AK45*Utslippstall!$F$25","v":0},{"$f":"AL45*Utslippstall!$F$25","v":0},{"$f":"AM45*Utslippstall!$F$25","v":0},{"$f":"AN45*Utslippstall!$F$25","v":0},{"$f":"AO45*Utslippstall!$F$25","v":0},{"$f":"AP45*Utslippstall!$F$25","v":0},{"$f":"AQ45*Utslippstall!$F$25","v":0},{"$f":"AR45*Utslippstall!$F$25","v":0},{"$f":"AS45*Utslippstall!$F$25","v":0},{"$f":"AT45*Utslippstall!$F$25","v":0},{"$f":"AU45*Utslippstall!$F$25","v":0},{"$f":"AV45*Utslippstall!$F$25","v":0},{"$f":"AW45*Utslippstall!$F$25","v":0},{"$f":"AX45*Utslippstall!$F$25","v":0},{"$f":"AY45*Utslippstall!$F$25","v":0},{"$f":"AZ45*Utslippstall!$F$25","v":0},{"$f":"BA45*Utslippstall!$F$25","v":0},{"$f":"BB45*Utslippstall!$F$25","v":0},{"$f":"BC45*Utslippstall!$F$25","v":0},{"$f":"BD45*Utslippstall!$F$25","v":0},{"$f":"BE45*Utslippstall!$F$25","v":0}]
[null,null,null,null,"Egg og meieri",{"$f":"SUM(F152:F159)","v":0},{"$f":"SUM(G152:G159)","v":0},0,0,{"$f":"SUM(J152:J159)","v":0},0,0,0,0,0,0,0,0,0,0,0,0,0,0,0,0,0,0,0,0,0,0,0,0,0,0,0,0,0,0,0,0,0,0,0,0,0,0,0,0,0,0,0,0,0,0,0]
[null,null,null,null,"Egg",{"$f":"F47*Utslippstall!F27","v":0},{"$f":"G47*Utslippstall!F27","v":0},{"$f":"H47*Utslippstall!F27","v":0},{"$f":"I47*Utslippstall!$F$27","v":0},{"$f":"J47*Utslippstall!$F$27","v":0},{"$f":"K47*Utslippstall!$F$27","v":0},{"$f":"L47*Utslippstall!$F$27","v":0},{"$f":"M47*Utslippstall!$F$27","v":0},{"$f":"N47*Utslippstall!$F$27","v":0},{"$f":"O47*Utslippstall!$F$27","v":0},{"$f":"P47*Utslippstall!$F$27","v":0},{"$f":"Q47*Utslippstall!$F$27","v":0},{"$f":"R47*Utslippstall!$F$27","v":0},{"$f":"S47*Utslippstall!$F$27","v":0},{"$f":"T47*Utslippstall!$F$27","v":0},{"$f":"U47*Utslippstall!$F$27","v":0},{"$f":"V47*Utslippstall!$F$27","v":0},{"$f":"W47*Utslippstall!$F$27","v":0},{"$f":"X47*Utslippstall!$F$27","v":0},{"$f":"Y47*Utslippstall!$F$27","v":0},{"$f":"Z47*Utslippstall!$F$27","v":0},{"$f":"AA47*Utslippstall!$F$27","v":0},{"$f":"AB47*Utslippstall!$F$27","v":0},{"$f":"AC47*Utslippstall!$F$27","v":0},{"$f":"AD47*Utslippstall!$F$27","v":0},{"$f":"AE47*Utslippstall!$F$27","v":0},{"$f":"AF47*Utslippstall!$F$27","v":0},{"$f":"AG47*Utslippstall!$F$27","v":0},{"$f":"AH47*Utslippstall!$F$27","v":0},{"$f":"AI47*Utslippstall!$F$27","v":0},{"$f":"AJ47*Utslippstall!$F$27","v":0},{"$f":"AK47*Utslippstall!$F$27","v":0},{"$f":"AL47*Utslippstall!$F$27","v":0},{"$f":"AM47*Utslippstall!$F$27","v":0},{"$f":"AN47*Utslippstall!$F$27","v":0},{"$f":"AO47*Utslippstall!$F$27","v":0},{"$f":"AP47*Utslippstall!$F$27","v":0},{"$f":"AQ47*Utslippstall!$F$27","v":0},{"$f":"AR47*Utslippstall!$F$27","v":0},{"$f":"AS47*Utslippstall!$F$27","v":0},{"$f":"AT47*Utslippstall!$F$27","v":0},{"$f":"AU47*Utslippstall!$F$27","v":0},{"$f":"AV47*Utslippstall!$F$27","v":0},{"$f":"AW47*Utslippstall!$F$27","v":0},{"$f":"AX47*Utslippstall!$F$27","v":0},{"$f":"AY47*Utslippstall!$F$27","v":0},{"$f":"AZ47*Utslippstall!$F$27","v":0},{"$f":"BA47*Utslippstall!$F$27","v":0},{"$f":"BB47*Utslippstall!$F$27","v":0},{"$f":"BC47*Utslippstall!$F$27","v":0},{"$f":"BD47*Utslippstall!$F$27","v":0},{"$f":"BE47*Utslippstall!$F$27","v":0}]
[null,null,null,null,"Smaksatt melk",{"$f":"F48*Utslippstall!F28","v":0},{"$f":"G48*Utslippstall!F28","v":0},{"$f":"H48*Utslippstall!F28","v":0},{"$f":"I48*Utslippstall!$F$28","v":0},{"$f":"J48*Utslippstall!$F$28","v":0},{"$f":"K48*Utslippstall!$F$28","v":0},{"$f":"L48*Utslippstall!$F$28","v":0},{"$f":"M48*Utslippstall!$F$28","v":0},{"$f":"N48*Utslippstall!$F$28","v":0},{"$f":"O48*Utslippstall!$F$28","v":0},{"$f":"P48*Utslippstall!$F$28","v":0},{"$f":"Q48*Utslippstall!$F$28","v":0},{"$f":"R48*Utslippstall!$F$28","v":0},{"$f":"S48*Utslippstall!$F$28","v":0},{"$f":"T48*Utslippstall!$F$28","v":0},{"$f":"U48*Utslippstall!$F$28","v":0},{"$f":"V48*Utslippstall!$F$28","v":0},{"$f":"W48*Utslippstall!$F$28","v":0},{"$f":"X48*Utslippstall!$F$28","v":0},{"$f":"Y48*Utslippstall!$F$28","v":0},{"$f":"Z48*Utslippstall!$F$28","v":0},{"$f":"AA48*Utslippstall!$F$28","v":0},{"$f":"AB48*Utslippstall!$F$28","v":0},{"$f":"AC48*Utslippstall!$F$28","v":0},{"$f":"AD48*Utslippstall!$F$28","v":0},{"$f":"AE48*Utslippstall!$F$28","v":0},{"$f":"AF48*Utslippstall!$F$28","v":0},{"$f":"AG48*Utslippstall!$F$28","v":0},{"$f":"AH48*Utslippstall!$F$28","v":0},{"$f":"AI48*Utslippstall!$F$28","v":0},{"$f":"AJ48*Utslippstall!$F$28","v":0},{"$f":"AK48*Utslippstall!$F$28","v":0},{"$f":"AL48*Utslippstall!$F$28","v":0},{"$f":"AM48*Utslippstall!$F$28","v":0},{"$f":"AN48*Utslippstall!$F$28","v":0},{"$f":"AO48*Utslippstall!$F$28","v":0},{"$f":"AP48*Utslippstall!$F$28","v":0},{"$f":"AQ48*Utslippstall!$F$28","v":0},{"$f":"AR48*Utslippstall!$F$28","v":0},{"$f":"AS48*Utslippstall!$F$28","v":0},{"$f":"AT48*Utslippstall!$F$28","v":0},{"$f":"AU48*Utslippstall!$F$28","v":0},{"$f":"AV48*Utslippstall!$F$28","v":0},{"$f":"AW48*Utslippstall!$F$28","v":0},{"$f":"AX48*Utslippstall!$F$28","v":0},{"$f":"AY48*Utslippstall!$F$28","v":0},{"$f":"AZ48*Utslippstall!$F$28","v":0},{"$f":"BA48*Utslippstall!$F$28","v":0},{"$f":"BB48*Utslippstall!$F$28","v":0},{"$f":"BC48*Utslippstall!$F$28","v":0},{"$f":"BD48*Utslippstall!$F$28","v":0},{"$f":"BE48*Utslippstall!$F$28","v":0}]
[null,null,null,null,"Grøt",{"$f":"F49*Utslippstall!F29","v":0},{"$f":"G49*Utslippstall!F29","v":0},{"$f":"H49*Utslippstall!F29","v":0},{"$f":"I49*Utslippstall!$F$29","v":0},{"$f":"J49*Utslippstall!$F$29","v":0},{"$f":"K49*Utslippstall!$F$29","v":0},{"$f":"L49*Utslippstall!$F$29","v":0},{"$f":"M49*Utslippstall!$F$29","v":0},{"$f":"N49*Utslippstall!$F$29","v":0},{"$f":"O49*Utslippstall!$F$29","v":0},{"$f":"P49*Utslippstall!$F$29","v":0},{"$f":"Q49*Utslippstall!$F$29","v":0},{"$f":"R49*Utslippstall!$F$29","v":0},{"$f":"S49*Utslippstall!$F$29","v":0},{"$f":"T49*Utslippstall!$F$29","v":0},{"$f":"U49*Utslippstall!$F$29","v":0},{"$f":"V49*Utslippstall!$F$29","v":0},{"$f":"W49*Utslippstall!$F$29","v":0},{"$f":"X49*Utslippstall!$F$29","v":0},{"$f":"Y49*Utslippstall!$F$29","v":0},{"$f":"Z49*Utslippstall!$F$29","v":0},{"$f":"AA49*Utslippstall!$F$29","v":0},{"$f":"AB49*Utslippstall!$F$29","v":0},{"$f":"AC49*Utslippstall!$F$29","v":0},{"$f":"AD49*Utslippstall!$F$29","v":0},{"$f":"AE49*Utslippstall!$F$29","v":0},{"$f":"AF49*Utslippstall!$F$29","v":0},{"$f":"AG49*Utslippstall!$F$29","v":0},{"$f":"AH49*Utslippstall!$F$29","v":0},{"$f":"AI49*Utslippstall!$F$29","v":0},{"$f":"AJ49*Utslippstall!$F$29","v":0},{"$f":"AK49*Utslippstall!$F$29","v":0},{"$f":"AL49*Utslippstall!$F$29","v":0},{"$f":"AM49*Utslippstall!$F$29","v":0},{"$f":"AN49*Utslippstall!$F$29","v":0},{"$f":"AO49*Utslippstall!$F$29","v":0},{"$f":"AP49*Utslippstall!$F$29","v":0},{"$f":"AQ49*Utslippstall!$F$29","v":0},{"$f":"AR49*Utslippstall!$F$29","v":0},{"$f":"AS49*Utslippstall!$F$29","v":0},{"$f":"AT49*Utslippstall!$F$29","v":0},{"$f":"AU49*Utslippstall!$F$29","v":0},{"$f":"AV49*Utslippstall!$F$29","v":0},{"$f":"AW49*Utslippstall!$F$29","v":0},{"$f":"AX49*Utslippstall!$F$29","v":0},{"$f":"AY49*Utslippstall!$F$29","v":0},{"$f":"AZ49*Utslippstall!$F$29","v":0},{"$f":"BA49*Utslippstall!$F$29","v":0},{"$f":"BB49*Utslippstall!$F$29","v":0},{"$f":"BC49*Utslippstall!$F$29","v":0},{"$f":"BD49*Utslippstall!$F$29","v":0},{"$f":"BE49*Utslippstall!$F$29","v":0}]
[null,null,null,null,"Krem og fløte",{"$f":"F50*Utslippstall!F30","v":0},{"$f":"G50*Utslippstall!F30","v":0},{"$f":"H50*Utslippstall!F30","v":0},{"$f":"I50*Utslippstall!$F$30","v":0},{"$f":"J50*Utslippstall!$F$30","v":0},{"$f":"K50*Utslippstall!$F$30","v":0},{"$f":"L50*Utslippstall!$F$30","v":0},{"$f":"M50*Utslippstall!$F$30","v":0},{"$f":"N50*Utslippstall!$F$30","v":0},{"$f":"O50*Utslippstall!$F$30","v":0},{"$f":"P50*Utslippstall!$F$30","v":0},{"$f":"Q50*Utslippstall!$F$30","v":0},{"$f":"R50*Utslippstall!$F$30","v":0},{"$f":"S50*Utslippstall!$F$30","v":0},{"$f":"T50*Utslippstall!$F$30","v":0},{"$f":"U50*Utslippstall!$F$30","v":0},{"$f":"V50*Utslippstall!$F$30","v":0},{"$f":"W50*Utslippstall!$F$30","v":0},{"$f":"X50*Utslippstall!$F$30","v":0},{"$f":"Y50*Utslippstall!$F$30","v":0},{"$f":"Z50*Utslippstall!$F$30","v":0},{"$f":"AA50*Utslippstall!$F$30","v":0},{"$f":"AB50*Utslippstall!$F$30","v":0},{"$f":"AC50*Utslippstall!$F$30","v":0},{"$f":"AD50*Utslippstall!$F$30","v":0},{"$f":"AE50*Utslippstall!$F$30","v":0},{"$f":"AF50*Utslippstall!$F$30","v":0},{"$f":"AG50*Utslippstall!$F$30","v":0},{"$f":"AH50*Utslippstall!$F$30","v":0},{"$f":"AI50*Utslippstall!$F$30","v":0},{"$f":"AJ50*Utslippstall!$F$30","v":0},{"$f":"AK50*Utslippstall!$F$30","v":0},{"$f":"AL50*Utslippstall!$F$30","v":0},{"$f":"AM50*Utslippstall!$F$30","v":0},{"$f":"AN50*Utslippstall!$F$30","v":0},{"$f":"AO50*Utslippstall!$F$30","v":0},{"$f":"AP50*Utslippstall!$F$30","v":0},{"$f":"AQ50*Utslippstall!$F$30","v":0},{"$f":"AR50*Utslippstall!$F$30","v":0},{"$f":"AS50*Utslippstall!$F$30","v":0},{"$f":"AT50*Utslippstall!$F$30","v":0},{"$f":"AU50*Utslippstall!$F$30","v":0},{"$f":"AV50*Utslippstall!$F$30","v":0},{"$f":"AW50*Utslippstall!$F$30","v":0},{"$f":"AX50*Utslippstall!$F$30","v":0},{"$f":"AY50*Utslippstall!$F$30","v":0},{"$f":"AZ50*Utslippstall!$F$30","v":0},{"$f":"BA50*Utslippstall!$F$30","v":0},{"$f":"BB50*Utslippstall!$F$30","v":0},{"$f":"BC50*Utslippstall!$F$30","v":0},{"$f":"BD50*Utslippstall!$F$30","v":0},{"$f":"BE50*Utslippstall!$F$30","v":0}]
[null,null,null,null,"Melk og yoghurt",{"$f":"F51*Utslippstall!F31","v":0},{"$f":"G51*Utslippstall!F31","v":0},{"$f":"H51*Utslippstall!F31","v":0},{"$f":"I51*Utslippstall!$F$31","v":0},{"$f":"J51*Utslippstall!$F$31","v":0},{"$f":"K51*Utslippstall!$F$31","v":0},{"$f":"L51*Utslippstall!$F$31","v":0},{"$f":"M51*Utslippstall!$F$31","v":0},{"$f":"N51*Utslippstall!$F$31","v":0},{"$f":"O51*Utslippstall!$F$31","v":0},{"$f":"P51*Utslippstall!$F$31","v":0},{"$f":"Q51*Utslippstall!$F$31","v":0},{"$f":"R51*Utslippstall!$F$31","v":0},{"$f":"S51*Utslippstall!$F$31","v":0},{"$f":"T51*Utslippstall!$F$31","v":0},{"$f":"U51*Utslippstall!$F$31","v":0},{"$f":"V51*Utslippstall!$F$31","v":0},{"$f":"W51*Utslippstall!$F$31","v":0},{"$f":"X51*Utslippstall!$F$31","v":0},{"$f":"Y51*Utslippstall!$F$31","v":0},{"$f":"Z51*Utslippstall!$F$31","v":0},{"$f":"AA51*Utslippstall!$F$31","v":0},{"$f":"AB51*Utslippstall!$F$31","v":0},{"$f":"AC51*Utslippstall!$F$31","v":0},{"$f":"AD51*Utslippstall!$F$31","v":0},{"$f":"AE51*Utslippstall!$F$31","v":0},{"$f":"AF51*Utslippstall!$F$31","v":0},{"$f":"AG51*Utslippstall!$F$31","v":0},{"$f":"AH51*Utslippstall!$F$31","v":0},{"$f":"AI51*Utslippstall!$F$31","v":0},{"$f":"AJ51*Utslippstall!$F$31","v":0},{"$f":"AK51*Utslippstall!$F$31","v":0},{"$f":"AL51*Utslippstall!$F$31","v":0},{"$f":"AM51*Utslippstall!$F$31","v":0},{"$f":"AN51*Utslippstall!$F$31","v":0},{"$f":"AO51*Utslippstall!$F$31","v":0},{"$f":"AP51*Utslippstall!$F$31","v":0},{"$f":"AQ51*Utslippstall!$F$31","v":0},{"$f":"AR51*Utslippstall!$F$31","v":0},{"$f":"AS51*Utslippstall!$F$31","v":0},{"$f":"AT51*Utslippstall!$F$31","v":0},{"$f":"AU51*Utslippstall!$F$31","v":0},{"$f":"AV51*Utslippstall!$F$31","v":0},{"$f":"AW51*Utslippstall!$F$31","v":0},{"$f":"AX51*Utslippstall!$F$31","v":0},{"$f":"AY51*Utslippstall!$F$31","v":0},{"$f":"AZ51*Utslippstall!$F$31","v":0},{"$f":"BA51*Utslippstall!$F$31","v":0},{"$f":"BB51*Utslippstall!$F$31","v":0},{"$f":"BC51*Utslippstall!$F$31","v":0},{"$f":"BD51*Utslippstall!$F$31","v":0},{"$f":"BE51*Utslippstall!$F$31","v":0}]
[null,null,null,null,"Ost",{"$f":"F52*Utslippstall!F32","v":0},{"$f":"G52*Utslippstall!F32","v":0},{"$f":"H52*Utslippstall!F32","v":0},{"$f":"I52*Utslippstall!$F$32","v":0},{"$f":"J52*Utslippstall!$F$32","v":0},{"$f":"K52*Utslippstall!$F$32","v":0},{"$f":"L52*Utslippstall!$F$32","v":0},{"$f":"M52*Utslippstall!$F$32","v":0},{"$f":"N52*Utslippstall!$F$32","v":0},{"$f":"O52*Utslippstall!$F$32","v":0},{"$f":"P52*Utslippstall!$F$32","v":0},{"$f":"Q52*Utslippstall!$F$32","v":0},{"$f":"R52*Utslippstall!$F$32","v":0},{"$f":"S52*Utslippstall!$F$32","v":0},{"$f":"T52*Utslippstall!$F$32","v":0},{"$f":"U52*Utslippstall!$F$32","v":0},{"$f":"V52*Utslippstall!$F$32","v":0},{"$f":"W52*Utslippstall!$F$32","v":0},{"$f":"X52*Utslippstall!$F$32","v":0},{"$f":"Y52*Utslippstall!$F$32","v":0},{"$f":"Z52*Utslippstall!$F$32","v":0},{"$f":"AA52*Utslippstall!$F$32","v":0},{"$f":"AB52*Utslippstall!$F$32","v":0},{"$f":"AC52*Utslippstall!$F$32","v":0},{"$f":"AD52*Utslippstall!$F$32","v":0},{"$f":"AE52*Utslippstall!$F$32","v":0},{"$f":"AF52*Utslippstall!$F$32","v":0},{"$f":"AG52*Utslippstall!$F$32","v":0},{"$f":"AH52*Utslippstall!$F$32","v":0},{"$f":"AI52*Utslippstall!$F$32","v":0},{"$f":"AJ52*Utslippstall!$F$32","v":0},{"$f":"AK52*Utslippstall!$F$32","v":0},{"$f":"AL52*Utslippstall!$F$32","v":0},{"$f":"AM52*Utslippstall!$F$32","v":0},{"$f":"AN52*Utslippstall!$F$32","v":0},{"$f":"AO52*Utslippstall!$F$32","v":0},{"$f":"AP52*Utslippstall!$F$32","v":0},{"$f":"AQ52*Utslippstall!$F$32","v":0},{"$f":"AR52*Utslippstall!$F$32","v":0},{"$f":"AS52*Utslippstall!$F$32","v":0},{"$f":"AT52*Utslippstall!$F$32","v":0},{"$f":"AU52*Utslippstall!$F$32","v":0},{"$f":"AV52*Utslippstall!$F$32","v":0},{"$f":"AW52*Utslippstall!$F$32","v":0},{"$f":"AX52*Utslippstall!$F$32","v":0},{"$f":"AY52*Utslippstall!$F$32","v":0},{"$f":"AZ52*Utslippstall!$F$32","v":0},{"$f":"BA52*Utslippstall!$F$32","v":0},{"$f":"BB52*Utslippstall!$F$32","v":0},{"$f":"BC52*Utslippstall!$F$32","v":0},{"$f":"BD52*Utslippstall!$F$32","v":0},{"$f":"BE52*Utslippstall!$F$32","v":0}]
[null,null,null,null,"Risgrøt",{"$f":"F53*Utslippstall!F33","v":0},{"$f":"G53*Utslippstall!F33","v":0},{"$f":"H53*Utslippstall!F33","v":0},{"$f":"I53*Utslippstall!$F$33","v":0},{"$f":"J53*Utslippstall!$F$33","v":0},{"$f":"K53*Utslippstall!$F$33","v":0},{"$f":"L53*Utslippstall!$F$33","v":0},{"$f":"M53*Utslippstall!$F$33","v":0},{"$f":"N53*Utslippstall!$F$33","v":0},{"$f":"O53*Utslippstall!$F$33","v":0},{"$f":"P53*Utslippstall!$F$33","v":0},{"$f":"Q53*Utslippstall!$F$33","v":0},{"$f":"R53*Utslippstall!$F$33","v":0},{"$f":"S53*Utslippstall!$F$33","v":0},{"$f":"T53*Utslippstall!$F$33","v":0},{"$f":"U53*Utslippstall!$F$33","v":0},{"$f":"V53*Utslippstall!$F$33","v":0},{"$f":"W53*Utslippstall!$F$33","v":0},{"$f":"X53*Utslippstall!$F$33","v":0},{"$f":"Y53*Utslippstall!$F$33","v":0},{"$f":"Z53*Utslippstall!$F$33","v":0},{"$f":"AA53*Utslippstall!$F$33","v":0},{"$f":"AB53*Utslippstall!$F$33","v":0},{"$f":"AC53*Utslippstall!$F$33","v":0},{"$f":"AD53*Utslippstall!$F$33","v":0},{"$f":"AE53*Utslippstall!$F$33","v":0},{"$f":"AF53*Utslippstall!$F$33","v":0},{"$f":"AG53*Utslippstall!$F$33","v":0},{"$f":"AH53*Utslippstall!$F$33","v":0},{"$f":"AI53*Utslippstall!$F$33","v":0},{"$f":"AJ53*Utslippstall!$F$33","v":0},{"$f":"AK53*Utslippstall!$F$33","v":0},{"$f":"AL53*Utslippstall!$F$33","v":0},{"$f":"AM53*Utslippstall!$F$33","v":0},{"$f":"AN53*Utslippstall!$F$33","v":0},{"$f":"AO53*Utslippstall!$F$33","v":0},{"$f":"AP53*Utslippstall!$F$33","v":0},{"$f":"AQ53*Utslippstall!$F$33","v":0},{"$f":"AR53*Utslippstall!$F$33","v":0},{"$f":"AS53*Utslippstall!$F$33","v":0},{"$f":"AT53*Utslippstall!$F$33","v":0},{"$f":"AU53*Utslippstall!$F$33","v":0},{"$f":"AV53*Utslippstall!$F$33","v":0},{"$f":"AW53*Utslippstall!$F$33","v":0},{"$f":"AX53*Utslippstall!$F$33","v":0},{"$f":"AY53*Utslippstall!$F$33","v":0},{"$f":"AZ53*Utslippstall!$F$33","v":0},{"$f":"BA53*Utslippstall!$F$33","v":0},{"$f":"BB53*Utslippstall!$F$33","v":0},{"$f":"BC53*Utslippstall!$F$33","v":0},{"$f":"BD53*Utslippstall!$F$33","v":0},{"$f":"BE53*Utslippstall!$F$33","v":0}]
[null,null,null,null,"Smør",{"$f":"F54*Utslippstall!F34","v":0},{"$f":"G54*Utslippstall!F34","v":0},{"$f":"H54*Utslippstall!F34","v":0},{"$f":"I54*Utslippstall!$F$34","v":0},{"$f":"J54*Utslippstall!$F$34","v":0},{"$f":"K54*Utslippstall!$F$34","v":0},{"$f":"L54*Utslippstall!$F$34","v":0},{"$f":"M54*Utslippstall!$F$34","v":0},{"$f":"N54*Utslippstall!$F$34","v":0},{"$f":"O54*Utslippstall!$F$34","v":0},{"$f":"P54*Utslippstall!$F$34","v":0},{"$f":"Q54*Utslippstall!$F$34","v":0},{"$f":"R54*Utslippstall!$F$34","v":0},{"$f":"S54*Utslippstall!$F$34","v":0},{"$f":"T54*Utslippstall!$F$34","v":0},{"$f":"U54*Utslippstall!$F$34","v":0},{"$f":"V54*Utslippstall!$F$34","v":0},{"$f":"W54*Utslippstall!$F$34","v":0},{"$f":"X54*Utslippstall!$F$34","v":0},{"$f":"Y54*Utslippstall!$F$34","v":0},{"$f":"Z54*Utslippstall!$F$34","v":0},{"$f":"AA54*Utslippstall!$F$34","v":0},{"$f":"AB54*Utslippstall!$F$34","v":0},{"$f":"AC54*Utslippstall!$F$34","v":0},{"$f":"AD54*Utslippstall!$F$34","v":0},{"$f":"AE54*Utslippstall!$F$34","v":0},{"$f":"AF54*Utslippstall!$F$34","v":0},{"$f":"AG54*Utslippstall!$F$34","v":0},{"$f":"AH54*Utslippstall!$F$34","v":0},{"$f":"AI54*Utslippstall!$F$34","v":0},{"$f":"AJ54*Utslippstall!$F$34","v":0},{"$f":"AK54*Utslippstall!$F$34","v":0},{"$f":"AL54*Utslippstall!$F$34","v":0},{"$f":"AM54*Utslippstall!$F$34","v":0},{"$f":"AN54*Utslippstall!$F$34","v":0},{"$f":"AO54*Utslippstall!$F$34","v":0},{"$f":"AP54*Utslippstall!$F$34","v":0},{"$f":"AQ54*Utslippstall!$F$34","v":0},{"$f":"AR54*Utslippstall!$F$34","v":0},{"$f":"AS54*Utslippstall!$F$34","v":0},{"$f":"AT54*Utslippstall!$F$34","v":0},{"$f":"AU54*Utslippstall!$F$34","v":0},{"$f":"AV54*Utslippstall!$F$34","v":0},{"$f":"AW54*Utslippstall!$F$34","v":0},{"$f":"AX54*Utslippstall!$F$34","v":0},{"$f":"AY54*Utslippstall!$F$34","v":0},{"$f":"AZ54*Utslippstall!$F$34","v":0},{"$f":"BA54*Utslippstall!$F$34","v":0},{"$f":"BB54*Utslippstall!$F$34","v":0},{"$f":"BC54*Utslippstall!$F$34","v":0},{"$f":"BD54*Utslippstall!$F$34","v":0},{"$f":"BE54*Utslippstall!$F$34","v":0}]
[null,null,null,null,"Korn",{"$f":"SUM(F161:F166)","v":0},{"$f":"SUM(G161:G166)","v":0},0,0,{"$f":"SUM(J161:J166)","v":0},0,0,0,0,0,0,0,0,0,0,0,0,0,0,0,0,0,0,0,0,0,0,0,0,0,0,0,0,0,0,0,0,0,0,0,0,0,0,0,0,0,0,0,0,0,0,0]
[null,null,null,null,"Brød, korn, mel og bakeprodukter",{"$f":"F56*Utslippstall!F36","v":0},{"$f":"G56*Utslippstall!F36","v":0},{"$f":"H56*Utslippstall!F36","v":0},{"$f":"I56*Utslippstall!$F$36","v":0},{"$f":"J56*Utslippstall!$F$36","v":0},{"$f":"K56*Utslippstall!$F$36","v":0},{"$f":"L56*Utslippstall!$F$36","v":0},{"$f":"M56*Utslippstall!$F$36","v":0},{"$f":"N56*Utslippstall!$F$36","v":0},{"$f":"O56*Utslippstall!$F$36","v":0},{"$f":"P56*Utslippstall!$F$36","v":0},{"$f":"Q56*Utslippstall!$F$36","v":0},{"$f":"R56*Utslippstall!$F$36","v":0},{"$f":"S56*Utslippstall!$F$36","v":0},{"$f":"T56*Utslippstall!$F$36","v":0},{"$f":"U56*Utslippstall!$F$36","v":0},{"$f":"V56*Utslippstall!$F$36","v":0},{"$f":"W56*Utslippstall!$F$36","v":0},{"$f":"X56*Utslippstall!$F$36","v":0},{"$f":"Y56*Utslippstall!$F$36","v":0},{"$f":"Z56*Utslippstall!$F$36","v":0},{"$f":"AA56*Utslippstall!$F$36","v":0},{"$f":"AB56*Utslippstall!$F$36","v":0},{"$f":"AC56*Utslippstall!$F$36","v":0},{"$f":"AD56*Utslippstall!$F$36","v":0},{"$f":"AE56*Utslippstall!$F$36","v":0},{"$f":"AF56*Utslippstall!$F$36","v":0},{"$f":"AG56*Utslippstall!$F$36","v":0},{"$f":"AH56*Utslippstall!$F$36","v":0},{"$f":"AI56*Utslippstall!$F$36","v":0},{"$f":"AJ56*Utslippstall!$F$36","v":0},{"$f":"AK56*Utslippstall!$F$36","v":0},{"$f":"AL56*Utslippstall!$F$36","v":0},{"$f":"AM56*Utslippstall!$F$36","v":0},{"$f":"AN56*Utslippstall!$F$36","v":0},{"$f":"AO56*Utslippstall!$F$36","v":0},{"$f":"AP56*Utslippstall!$F$36","v":0},{"$f":"AQ56*Utslippstall!$F$36","v":0},{"$f":"AR56*Utslippstall!$F$36","v":0},{"$f":"AS56*Utslippstall!$F$36","v":0},{"$f":"AT56*Utslippstall!$F$36","v":0},{"$f":"AU56*Utslippstall!$F$36","v":0},{"$f":"AV56*Utslippstall!$F$36","v":0},{"$f":"AW56*Utslippstall!$F$36","v":0},{"$f":"AX56*Utslippstall!$F$36","v":0},{"$f":"AY56*Utslippstall!$F$36","v":0},{"$f":"AZ56*Utslippstall!$F$36","v":0},{"$f":"BA56*Utslippstall!$F$36","v":0},{"$f":"BB56*Utslippstall!$F$36","v":0},{"$f":"BC56*Utslippstall!$F$36","v":0},{"$f":"BD56*Utslippstall!$F$36","v":0},{"$f":"BE56*Utslippstall!$F$36","v":0}]
[null,null,null,null,"Frokostblanding og bars",{"$f":"F57*Utslippstall!F37","v":0},{"$f":"G57*Utslippstall!F37","v":0},{"$f":"H57*Utslippstall!F37","v":0},{"$f":"I57*Utslippstall!$F$37","v":0},{"$f":"J57*Utslippstall!$F$37","v":0},{"$f":"K57*Utslippstall!$F$37","v":0},{"$f":"L57*Utslippstall!$F$37","v":0},{"$f":"M57*Utslippstall!$F$37","v":0},{"$f":"N57*Utslippstall!$F$37","v":0},{"$f":"O57*Utslippstall!$F$37","v":0},{"$f":"P57*Utslippstall!$F$37","v":0},{"$f":"Q57*Utslippstall!$F$37","v":0},{"$f":"R57*Utslippstall!$F$37","v":0},{"$f":"S57*Utslippstall!$F$37","v":0},{"$f":"T57*Utslippstall!$F$37","v":0},{"$f":"U57*Utslippstall!$F$37","v":0},{"$f":"V57*Utslippstall!$F$37","v":0},{"$f":"W57*Utslippstall!$F$37","v":0},{"$f":"X57*Utslippstall!$F$37","v":0},{"$f":"Y57*Utslippstall!$F$37","v":0},{"$f":"Z57*Utslippstall!$F$37","v":0},{"$f":"AA57*Utslippstall!$F$37","v":0},{"$f":"AB57*Utslippstall!$F$37","v":0},{"$f":"AC57*Utslippstall!$F$37","v":0},{"$f":"AD57*Utslippstall!$F$37","v":0},{"$f":"AE57*Utslippstall!$F$37","v":0},{"$f":"AF57*Utslippstall!$F$37","v":0},{"$f":"AG57*Utslippstall!$F$37","v":0},{"$f":"AH57*Utslippstall!$F$37","v":0},{"$f":"AI57*Utslippstall!$F$37","v":0},{"$f":"AJ57*Utslippstall!$F$37","v":0},{"$f":"AK57*Utslippstall!$F$37","v":0},{"$f":"AL57*Utslippstall!$F$37","v":0},{"$f":"AM57*Utslippstall!$F$37","v":0},{"$f":"AN57*Utslippstall!$F$37","v":0},{"$f":"AO57*Utslippstall!$F$37","v":0},{"$f":"AP57*Utslippstall!$F$37","v":0},{"$f":"AQ57*Utslippstall!$F$37","v":0},{"$f":"AR57*Utslippstall!$F$37","v":0},{"$f":"AS57*Utslippstall!$F$37","v":0},{"$f":"AT57*Utslippstall!$F$37","v":0},{"$f":"AU57*Utslippstall!$F$37","v":0},{"$f":"AV57*Utslippstall!$F$37","v":0},{"$f":"AW57*Utslippstall!$F$37","v":0},{"$f":"AX57*Utslippstall!$F$37","v":0},{"$f":"AY57*Utslippstall!$F$37","v":0},{"$f":"AZ57*Utslippstall!$F$37","v":0},{"$f":"BA57*Utslippstall!$F$37","v":0},{"$f":"BB57*Utslippstall!$F$37","v":0},{"$f":"BC57*Utslippstall!$F$37","v":0},{"$f":"BD57*Utslippstall!$F$37","v":0},{"$f":"BE57*Utslippstall!$F$37","v":0}]
[null,null,null,null,"Pannekaker, vafler, lefser, osv.",{"$f":"F58*Utslippstall!F38","v":0},{"$f":"G58*Utslippstall!F38","v":0},{"$f":"H58*Utslippstall!F38","v":0},{"$f":"I58*Utslippstall!$F$38","v":0},{"$f":"J58*Utslippstall!$F$38","v":0},{"$f":"K58*Utslippstall!$F$38","v":0},{"$f":"L58*Utslippstall!$F$38","v":0},{"$f":"M58*Utslippstall!$F$38","v":0},{"$f":"N58*Utslippstall!$F$38","v":0},{"$f":"O58*Utslippstall!$F$38","v":0},{"$f":"P58*Utslippstall!$F$38","v":0},{"$f":"Q58*Utslippstall!$F$38","v":0},{"$f":"R58*Utslippstall!$F$38","v":0},{"$f":"S58*Utslippstall!$F$38","v":0},{"$f":"T58*Utslippstall!$F$38","v":0},{"$f":"U58*Utslippstall!$F$38","v":0},{"$f":"V58*Utslippstall!$F$38","v":0},{"$f":"W58*Utslippstall!$F$38","v":0},{"$f":"X58*Utslippstall!$F$38","v":0},{"$f":"Y58*Utslippstall!$F$38","v":0},{"$f":"Z58*Utslippstall!$F$38","v":0},{"$f":"AA58*Utslippstall!$F$38","v":0},{"$f":"AB58*Utslippstall!$F$38","v":0},{"$f":"AC58*Utslippstall!$F$38","v":0},{"$f":"AD58*Utslippstall!$F$38","v":0},{"$f":"AE58*Utslippstall!$F$38","v":0},{"$f":"AF58*Utslippstall!$F$38","v":0},{"$f":"AG58*Utslippstall!$F$38","v":0},{"$f":"AH58*Utslippstall!$F$38","v":0},{"$f":"AI58*Utslippstall!$F$38","v":0},{"$f":"AJ58*Utslippstall!$F$38","v":0},{"$f":"AK58*Utslippstall!$F$38","v":0},{"$f":"AL58*Utslippstall!$F$38","v":0},{"$f":"AM58*Utslippstall!$F$38","v":0},{"$f":"AN58*Utslippstall!$F$38","v":0},{"$f":"AO58*Utslippstall!$F$38","v":0},{"$f":"AP58*Utslippstall!$F$38","v":0},{"$f":"AQ58*Utslippstall!$F$38","v":0},{"$f":"AR58*Utslippstall!$F$38","v":0},{"$f":"AS58*Utslippstall!$F$38","v":0},{"$f":"AT58*Utslippstall!$F$38","v":0},{"$f":"AU58*Utslippstall!$F$38","v":0},{"$f":"AV58*Utslippstall!$F$38","v":0},{"$f":"AW58*Utslippstall!$F$38","v":0},{"$f":"AX58*Utslippstall!$F$38","v":0},{"$f":"AY58*Utslippstall!$F$38","v":0},{"$f":"AZ58*Utslippstall!$F$38","v":0},{"$f":"BA58*Utslippstall!$F$38","v":0},{"$f":"BB58*Utslippstall!$F$38","v":0},{"$f":"BC58*Utslippstall!$F$38","v":0},{"$f":"BD58*Utslippstall!$F$38","v":0},{"$f":"BE58*Utslippstall!$F$38","v":0}]
[null,null,null,null,"Pasta",{"$f":"F59*Utslippstall!F39","v":0},{"$f":"G59*Utslippstall!F39","v":0},{"$f":"H59*Utslippstall!F39","v":0},{"$f":"I59*Utslippstall!$F$39","v":0},{"$f":"J59*Utslippstall!$F$39","v":0},{"$f":"K59*Utslippstall!$F$39","v":0},{"$f":"L59*Utslippstall!$F$39","v":0},{"$f":"M59*Utslippstall!$F$39","v":0},{"$f":"N59*Utslippstall!$F$39","v":0},{"$f":"O59*Utslippstall!$F$39","v":0},{"$f":"P59*Utslippstall!$F$39","v":0},{"$f":"Q59*Utslippstall!$F$39","v":0},{"$f":"R59*Utslippstall!$F$39","v":0},{"$f":"S59*Utslippstall!$F$39","v":0},{"$f":"T59*Utslippstall!$F$39","v":0},{"$f":"U59*Utslippstall!$F$39","v":0},{"$f":"V59*Utslippstall!$F$39","v":0},{"$f":"W59*Utslippstall!$F$39","v":0},{"$f":"X59*Utslippstall!$F$39","v":0},{"$f":"Y59*Utslippstall!$F$39","v":0},{"$f":"Z59*Utslippstall!$F$39","v":0},{"$f":"AA59*Utslippstall!$F$39","v":0},{"$f":"AB59*Utslippstall!$F$39","v":0},{"$f":"AC59*Utslippstall!$F$39","v":0},{"$f":"AD59*Utslippstall!$F$39","v":0},{"$f":"AE59*Utslippstall!$F$39","v":0},{"$f":"AF59*Utslippstall!$F$39","v":0},{"$f":"AG59*Utslippstall!$F$39","v":0},{"$f":"AH59*Utslippstall!$F$39","v":0},{"$f":"AI59*Utslippstall!$F$39","v":0},{"$f":"AJ59*Utslippstall!$F$39","v":0},{"$f":"AK59*Utslippstall!$F$39","v":0},{"$f":"AL59*Utslippstall!$F$39","v":0},{"$f":"AM59*Utslippstall!$F$39","v":0},{"$f":"AN59*Utslippstall!$F$39","v":0},{"$f":"AO59*Utslippstall!$F$39","v":0},{"$f":"AP59*Utslippstall!$F$39","v":0},{"$f":"AQ59*Utslippstall!$F$39","v":0},{"$f":"AR59*Utslippstall!$F$39","v":0},{"$f":"AS59*Utslippstall!$F$39","v":0},{"$f":"AT59*Utslippstall!$F$39","v":0},{"$f":"AU59*Utslippstall!$F$39","v":0},{"$f":"AV59*Utslippstall!$F$39","v":0},{"$f":"AW59*Utslippstall!$F$39","v":0},{"$f":"AX59*Utslippstall!$F$39","v":0},{"$f":"AY59*Utslippstall!$F$39","v":0},{"$f":"AZ59*Utslippstall!$F$39","v":0},{"$f":"BA59*Utslippstall!$F$39","v":0},{"$f":"BB59*Utslippstall!$F$39","v":0},{"$f":"BC59*Utslippstall!$F$39","v":0},{"$f":"BD59*Utslippstall!$F$39","v":0},{"$f":"BE59*Utslippstall!$F$39","v":0}]
[null,null,null,null,"Risgrøt",{"$f":"F60*Utslippstall!F40","v":0},{"$f":"G60*Utslippstall!F40","v":0},{"$f":"H60*Utslippstall!F40","v":0},{"$f":"I60*Utslippstall!$F$40","v":0},{"$f":"J60*Utslippstall!$F$40","v":0},{"$f":"K60*Utslippstall!$F$40","v":0},{"$f":"L60*Utslippstall!$F$40","v":0},{"$f":"M60*Utslippstall!$F$40","v":0},{"$f":"N60*Utslippstall!$F$40","v":0},{"$f":"O60*Utslippstall!$F$40","v":0},{"$f":"P60*Utslippstall!$F$40","v":0},{"$f":"Q60*Utslippstall!$F$40","v":0},{"$f":"R60*Utslippstall!$F$40","v":0},{"$f":"S60*Utslippstall!$F$40","v":0},{"$f":"T60*Utslippstall!$F$40","v":0},{"$f":"U60*Utslippstall!$F$40","v":0},{"$f":"V60*Utslippstall!$F$40","v":0},{"$f":"W60*Utslippstall!$F$40","v":0},{"$f":"X60*Utslippstall!$F$40","v":0},{"$f":"Y60*Utslippstall!$F$40","v":0},{"$f":"Z60*Utslippstall!$F$40","v":0},{"$f":"AA60*Utslippstall!$F$40","v":0},{"$f":"AB60*Utslippstall!$F$40","v":0},{"$f":"AC60*Utslippstall!$F$40","v":0},{"$f":"AD60*Utslippstall!$F$40","v":0},{"$f":"AE60*Utslippstall!$F$40","v":0},{"$f":"AF60*Utslippstall!$F$40","v":0},{"$f":"AG60*Utslippstall!$F$40","v":0},{"$f":"AH60*Utslippstall!$F$40","v":0},{"$f":"AI60*Utslippstall!$F$40","v":0},{"$f":"AJ60*Utslippstall!$F$40","v":0},{"$f":"AK60*Utslippstall!$F$40","v":0},{"$f":"AL60*Utslippstall!$F$40","v":0},{"$f":"AM60*Utslippstall!$F$40","v":0},{"$f":"AN60*Utslippstall!$F$40","v":0},{"$f":"AO60*Utslippstall!$F$40","v":0},{"$f":"AP60*Utslippstall!$F$40","v":0},{"$f":"AQ60*Utslippstall!$F$40","v":0},{"$f":"AR60*Utslippstall!$F$40","v":0},{"$f":"AS60*Utslippstall!$F$40","v":0},{"$f":"AT60*Utslippstall!$F$40","v":0},{"$f":"AU60*Utslippstall!$F$40","v":0},{"$f":"AV60*Utslippstall!$F$40","v":0},{"$f":"AW60*Utslippstall!$F$40","v":0},{"$f":"AX60*Utslippstall!$F$40","v":0},{"$f":"AY60*Utslippstall!$F$40","v":0},{"$f":"AZ60*Utslippstall!$F$40","v":0},{"$f":"BA60*Utslippstall!$F$40","v":0},{"$f":"BB60*Utslippstall!$F$40","v":0},{"$f":"BC60*Utslippstall!$F$40","v":0},{"$f":"BD60*Utslippstall!$F$40","v":0},{"$f":"BE60*Utslippstall!$F$40","v":0}]
[null,null,null,null,"Ris alternativ",{"$f":"F61*Utslippstall!F41","v":0},{"$f":"G61*Utslippstall!F41","v":0},{"$f":"H61*Utslippstall!F41","v":0},{"$f":"I61*Utslippstall!$F$41","v":0},{"$f":"J61*Utslippstall!$F$41","v":0},{"$f":"K61*Utslippstall!$F$41","v":0},{"$f":"L61*Utslippstall!$F$41","v":0},{"$f":"M61*Utslippstall!$F$41","v":0},{"$f":"N61*Utslippstall!$F$41","v":0},{"$f":"O61*Utslippstall!$F$41","v":0},{"$f":"P61*Utslippstall!$F$41","v":0},{"$f":"Q61*Utslippstall!$F$41","v":0},{"$f":"R61*Utslippstall!$F$41","v":0},{"$f":"S61*Utslippstall!$F$41","v":0},{"$f":"T61*Utslippstall!$F$41","v":0},{"$f":"U61*Utslippstall!$F$41","v":0},{"$f":"V61*Utslippstall!$F$41","v":0},{"$f":"W61*Utslippstall!$F$41","v":0},{"$f":"X61*Utslippstall!$F$41","v":0},{"$f":"Y61*Utslippstall!$F$41","v":0},{"$f":"Z61*Utslippstall!$F$41","v":0},{"$f":"AA61*Utslippstall!$F$41","v":0},{"$f":"AB61*Utslippstall!$F$41","v":0},{"$f":"AC61*Utslippstall!$F$41","v":0},{"$f":"AD61*Utslippstall!$F$41","v":0},{"$f":"AE61*Utslippstall!$F$41","v":0},{"$f":"AF61*Utslippstall!$F$41","v":0},{"$f":"AG61*Utslippstall!$F$41","v":0},{"$f":"AH61*Utslippstall!$F$41","v":0},{"$f":"AI61*Utslippstall!$F$41","v":0},{"$f":"AJ61*Utslippstall!$F$41","v":0},{"$f":"AK61*Utslippstall!$F$41","v":0},{"$f":"AL61*Utslippstall!$F$41","v":0},{"$f":"AM61*Utslippstall!$F$41","v":0},{"$f":"AN61*Utslippstall!$F$41","v":0},{"$f":"AO61*Utslippstall!$F$41","v":0},{"$f":"AP61*Utslippstall!$F$41","v":0},{"$f":"AQ61*Utslippstall!$F$41","v":0},{"$f":"AR61*Utslippstall!$F$41","v":0},{"$f":"AS61*Utslippstall!$F$41","v":0},{"$f":"AT61*Utslippstall!$F$41","v":0},{"$f":"AU61*Utslippstall!$F$41","v":0},{"$f":"AV61*Utslippstall!$F$41","v":0},{"$f":"AW61*Utslippstall!$F$41","v":0},{"$f":"AX61*Utslippstall!$F$41","v":0},{"$f":"AY61*Utslippstall!$F$41","v":0},{"$f":"AZ61*Utslippstall!$F$41","v":0},{"$f":"BA61*Utslippstall!$F$41","v":0},{"$f":"BB61*Utslippstall!$F$41","v":0},{"$f":"BC61*Utslippstall!$F$41","v":0},{"$f":"BD61*Utslippstall!$F$41","v":0},{"$f":"BE61*Utslippstall!$F$41","v":0}]
[null,null,null,null,"Grønnsaker, krydder og sopp",{"$f":"SUM(F168:F170)","v":0},{"$f":"SUM(G168:G170)","v":0},0,0,{"$f":"SUM(J168:J170)","v":0},0,0,0,0,0,0,0,0,0,0,0,0,0,0,0,0,0,0,0,0,0,0,0,0,0,0,0,0,0,0,0,0,0,0,0,0,0,0,0,0,0,0,0,0,0,0,0]
[null,null,null,null,"Belgfrukter",{"$f":"F63*Utslippstall!F43","v":0},{"$f":"G63*Utslippstall!F43","v":0},{"$f":"H63*Utslippstall!F43","v":0},{"$f":"I63*Utslippstall!$F$43","v":0},{"$f":"J63*Utslippstall!$F$43","v":0},{"$f":"K63*Utslippstall!$F$43","v":0},{"$f":"L63*Utslippstall!$F$43","v":0},{"$f":"M63*Utslippstall!$F$43","v":0},{"$f":"N63*Utslippstall!$F$43","v":0},{"$f":"O63*Utslippstall!$F$43","v":0},{"$f":"P63*Utslippstall!$F$43","v":0},{"$f":"Q63*Utslippstall!$F$43","v":0},{"$f":"R63*Utslippstall!$F$43","v":0},{"$f":"S63*Utslippstall!$F$43","v":0},{"$f":"T63*Utslippstall!$F$43","v":0},{"$f":"U63*Utslippstall!$F$43","v":0},{"$f":"V63*Utslippstall!$F$43","v":0},{"$f":"W63*Utslippstall!$F$43","v":0},{"$f":"X63*Utslippstall!$F$43","v":0},{"$f":"Y63*Utslippstall!$F$43","v":0},{"$f":"Z63*Utslippstall!$F$43","v":0},{"$f":"AA63*Utslippstall!$F$43","v":0},{"$f":"AB63*Utslippstall!$F$43","v":0},{"$f":"AC63*Utslippstall!$F$43","v":0},{"$f":"AD63*Utslippstall!$F$43","v":0},{"$f":"AE63*Utslippstall!$F$43","v":0},{"$f":"AF63*Utslippstall!$F$43","v":0},{"$f":"AG63*Utslippstall!$F$43","v":0},{"$f":"AH63*Utslippstall!$F$43","v":0},{"$f":"AI63*Utslippstall!$F$43","v":0},{"$f":"AJ63*Utslippstall!$F$43","v":0},{"$f":"AK63*Utslippstall!$F$43","v":0},{"$f":"AL63*Utslippstall!$F$43","v":0},{"$f":"AM63*Utslippstall!$F$43","v":0},{"$f":"AN63*Utslippstall!$F$43","v":0},{"$f":"AO63*Utslippstall!$F$43","v":0},{"$f":"AP63*Utslippstall!$F$43","v":0},{"$f":"AQ63*Utslippstall!$F$43","v":0},{"$f":"AR63*Utslippstall!$F$43","v":0},{"$f":"AS63*Utslippstall!$F$43","v":0},{"$f":"AT63*Utslippstall!$F$43","v":0},{"$f":"AU63*Utslippstall!$F$43","v":0},{"$f":"AV63*Utslippstall!$F$43","v":0},{"$f":"AW63*Utslippstall!$F$43","v":0},{"$f":"AX63*Utslippstall!$F$43","v":0},{"$f":"AY63*Utslippstall!$F$43","v":0},{"$f":"AZ63*Utslippstall!$F$43","v":0},{"$f":"BA63*Utslippstall!$F$43","v":0},{"$f":"BB63*Utslippstall!$F$43","v":0},{"$f":"BC63*Utslippstall!$F$43","v":0},{"$f":"BD63*Utslippstall!$F$43","v":0},{"$f":"BE63*Utslippstall!$F$43","v":0}]
[null,null,null,null,"Grønnsaker, krydder og urter",{"$f":"F64*Utslippstall!F44","v":0},{"$f":"G64*Utslippstall!F44","v":0},{"$f":"H64*Utslippstall!F44","v":0},{"$f":"I64*Utslippstall!$F$44","v":0},{"$f":"J64*Utslippstall!$F$44","v":0},{"$f":"K64*Utslippstall!$F$44","v":0},{"$f":"L64*Utslippstall!$F$44","v":0},{"$f":"M64*Utslippstall!$F$44","v":0},{"$f":"N64*Utslippstall!$F$44","v":0},{"$f":"O64*Utslippstall!$F$44","v":0},{"$f":"P64*Utslippstall!$F$44","v":0},{"$f":"Q64*Utslippstall!$F$44","v":0},{"$f":"R64*Utslippstall!$F$44","v":0},{"$f":"S64*Utslippstall!$F$44","v":0},{"$f":"T64*Utslippstall!$F$44","v":0},{"$f":"U64*Utslippstall!$F$44","v":0},{"$f":"V64*Utslippstall!$F$44","v":0},{"$f":"W64*Utslippstall!$F$44","v":0},{"$f":"X64*Utslippstall!$F$44","v":0},{"$f":"Y64*Utslippstall!$F$44","v":0},{"$f":"Z64*Utslippstall!$F$44","v":0},{"$f":"AA64*Utslippstall!$F$44","v":0},{"$f":"AB64*Utslippstall!$F$44","v":0},{"$f":"AC64*Utslippstall!$F$44","v":0},{"$f":"AD64*Utslippstall!$F$44","v":0},{"$f":"AE64*Utslippstall!$F$44","v":0},{"$f":"AF64*Utslippstall!$F$44","v":0},{"$f":"AG64*Utslippstall!$F$44","v":0},{"$f":"AH64*Utslippstall!$F$44","v":0},{"$f":"AI64*Utslippstall!$F$44","v":0},{"$f":"AJ64*Utslippstall!$F$44","v":0},{"$f":"AK64*Utslippstall!$F$44","v":0},{"$f":"AL64*Utslippstall!$F$44","v":0},{"$f":"AM64*Utslippstall!$F$44","v":0},{"$f":"AN64*Utslippstall!$F$44","v":0},{"$f":"AO64*Utslippstall!$F$44","v":0},{"$f":"AP64*Utslippstall!$F$44","v":0},{"$f":"AQ64*Utslippstall!$F$44","v":0},{"$f":"AR64*Utslippstall!$F$44","v":0},{"$f":"AS64*Utslippstall!$F$44","v":0},{"$f":"AT64*Utslippstall!$F$44","v":0},{"$f":"AU64*Utslippstall!$F$44","v":0},{"$f":"AV64*Utslippstall!$F$44","v":0},{"$f":"AW64*Utslippstall!$F$44","v":0},{"$f":"AX64*Utslippstall!$F$44","v":0},{"$f":"AY64*Utslippstall!$F$44","v":0},{"$f":"AZ64*Utslippstall!$F$44","v":0},{"$f":"BA64*Utslippstall!$F$44","v":0},{"$f":"BB64*Utslippstall!$F$44","v":0},{"$f":"BC64*Utslippstall!$F$44","v":0},{"$f":"BD64*Utslippstall!$F$44","v":0},{"$f":"BE64*Utslippstall!$F$44","v":0}]
[null,null,null,null,"Sopp",{"$f":"F65*Utslippstall!F45","v":0},{"$f":"G65*Utslippstall!F45","v":0},{"$f":"H65*Utslippstall!F45","v":0},{"$f":"I65*Utslippstall!$F$45","v":0},{"$f":"J65*Utslippstall!$F$45","v":0},{"$f":"K65*Utslippstall!$F$45","v":0},{"$f":"L65*Utslippstall!$F$45","v":0},{"$f":"M65*Utslippstall!$F$45","v":0},{"$f":"N65*Utslippstall!$F$45","v":0},{"$f":"O65*Utslippstall!$F$45","v":0},{"$f":"P65*Utslippstall!$F$45","v":0},{"$f":"Q65*Utslippstall!$F$45","v":0},{"$f":"R65*Utslippstall!$F$45","v":0},{"$f":"S65*Utslippstall!$F$45","v":0},{"$f":"T65*Utslippstall!$F$45","v":0},{"$f":"U65*Utslippstall!$F$45","v":0},{"$f":"V65*Utslippstall!$F$45","v":0},{"$f":"W65*Utslippstall!$F$45","v":0},{"$f":"X65*Utslippstall!$F$45","v":0},{"$f":"Y65*Utslippstall!$F$45","v":0},{"$f":"Z65*Utslippstall!$F$45","v":0},{"$f":"AA65*Utslippstall!$F$45","v":0},{"$f":"AB65*Utslippstall!$F$45","v":0},{"$f":"AC65*Utslippstall!$F$45","v":0},{"$f":"AD65*Utslippstall!$F$45","v":0},{"$f":"AE65*Utslippstall!$F$45","v":0},{"$f":"AF65*Utslippstall!$F$45","v":0},{"$f":"AG65*Utslippstall!$F$45","v":0},{"$f":"AH65*Utslippstall!$F$45","v":0},{"$f":"AI65*Utslippstall!$F$45","v":0},{"$f":"AJ65*Utslippstall!$F$45","v":0},{"$f":"AK65*Utslippstall!$F$45","v":0},{"$f":"AL65*Utslippstall!$F$45","v":0},{"$f":"AM65*Utslippstall!$F$45","v":0},{"$f":"AN65*Utslippstall!$F$45","v":0},{"$f":"AO65*Utslippstall!$F$45","v":0},{"$f":"AP65*Utslippstall!$F$45","v":0},{"$f":"AQ65*Utslippstall!$F$45","v":0},{"$f":"AR65*Utslippstall!$F$45","v":0},{"$f":"AS65*Utslippstall!$F$45","v":0},{"$f":"AT65*Utslippstall!$F$45","v":0},{"$f":"AU65*Utslippstall!$F$45","v":0},{"$f":"AV65*Utslippstall!$F$45","v":0},{"$f":"AW65*Utslippstall!$F$45","v":0},{"$f":"AX65*Utslippstall!$F$45","v":0},{"$f":"AY65*Utslippstall!$F$45","v":0},{"$f":"AZ65*Utslippstall!$F$45","v":0},{"$f":"BA65*Utslippstall!$F$45","v":0},{"$f":"BB65*Utslippstall!$F$45","v":0},{"$f":"BC65*Utslippstall!$F$45","v":0},{"$f":"BD65*Utslippstall!$F$45","v":0},{"$f":"BE65*Utslippstall!$F$45","v":0}]
[null,null,null,null,"Frukt og bær",{"$f":"F66*Utslippstall!F46","v":0},{"$f":"G66*Utslippstall!F46","v":0},{"$f":"H66*Utslippstall!F46","v":0},{"$f":"I66*Utslippstall!$F$46","v":0},{"$f":"J66*Utslippstall!$F$46","v":0},{"$f":"K66*Utslippstall!$F$46","v":0},{"$f":"L66*Utslippstall!$F$46","v":0},{"$f":"M66*Utslippstall!$F$46","v":0},{"$f":"N66*Utslippstall!$F$46","v":0},{"$f":"O66*Utslippstall!$F$46","v":0},{"$f":"P66*Utslippstall!$F$46","v":0},{"$f":"Q66*Utslippstall!$F$46","v":0},{"$f":"R66*Utslippstall!$F$46","v":0},{"$f":"S66*Utslippstall!$F$46","v":0},{"$f":"T66*Utslippstall!$F$46","v":0},{"$f":"U66*Utslippstall!$F$46","v":0},{"$f":"V66*Utslippstall!$F$46","v":0},{"$f":"W66*Utslippstall!$F$46","v":0},{"$f":"X66*Utslippstall!$F$46","v":0},{"$f":"Y66*Utslippstall!$F$46","v":0},{"$f":"Z66*Utslippstall!$F$46","v":0},{"$f":"AA66*Utslippstall!$F$46","v":0},{"$f":"AB66*Utslippstall!$F$46","v":0},{"$f":"AC66*Utslippstall!$F$46","v":0},{"$f":"AD66*Utslippstall!$F$46","v":0},{"$f":"AE66*Utslippstall!$F$46","v":0},{"$f":"AF66*Utslippstall!$F$46","v":0},{"$f":"AG66*Utslippstall!$F$46","v":0},{"$f":"AH66*Utslippstall!$F$46","v":0},{"$f":"AI66*Utslippstall!$F$46","v":0},{"$f":"AJ66*Utslippstall!$F$46","v":0},{"$f":"AK66*Utslippstall!$F$46","v":0},{"$f":"AL66*Utslippstall!$F$46","v":0},{"$f":"AM66*Utslippstall!$F$46","v":0},{"$f":"AN66*Utslippstall!$F$46","v":0},{"$f":"AO66*Utslippstall!$F$46","v":0},{"$f":"AP66*Utslippstall!$F$46","v":0},{"$f":"AQ66*Utslippstall!$F$46","v":0},{"$f":"AR66*Utslippstall!$F$46","v":0},{"$f":"AS66*Utslippstall!$F$46","v":0},{"$f":"AT66*Utslippstall!$F$46","v":0},{"$f":"AU66*Utslippstall!$F$46","v":0},{"$f":"AV66*Utslippstall!$F$46","v":0},{"$f":"AW66*Utslippstall!$F$46","v":0},{"$f":"AX66*Utslippstall!$F$46","v":0},{"$f":"AY66*Utslippstall!$F$46","v":0},{"$f":"AZ66*Utslippstall!$F$46","v":0},{"$f":"BA66*Utslippstall!$F$46","v":0},{"$f":"BB66*Utslippstall!$F$46","v":0},{"$f":"BC66*Utslippstall!$F$46","v":0},{"$f":"BD66*Utslippstall!$F$46","v":0},{"$f":"BE66*Utslippstall!$F$46","v":0}]
[null,null,null,null,"Nøtter og frø",{"$f":"F67*Utslippstall!F47","v":0},{"$f":"G67*Utslippstall!F47","v":0},{"$f":"H67*Utslippstall!F47","v":0},{"$f":"I67*Utslippstall!$F$47","v":0},{"$f":"J67*Utslippstall!$F$47","v":0},{"$f":"K67*Utslippstall!$F$47","v":0},{"$f":"L67*Utslippstall!$F$47","v":0},{"$f":"M67*Utslippstall!$F$47","v":0},{"$f":"N67*Utslippstall!$F$47","v":0},{"$f":"O67*Utslippstall!$F$47","v":0},{"$f":"P67*Utslippstall!$F$47","v":0},{"$f":"Q67*Utslippstall!$F$47","v":0},{"$f":"R67*Utslippstall!$F$47","v":0},{"$f":"S67*Utslippstall!$F$47","v":0},{"$f":"T67*Utslippstall!$F$47","v":0},{"$f":"U67*Utslippstall!$F$47","v":0},{"$f":"V67*Utslippstall!$F$47","v":0},{"$f":"W67*Utslippstall!$F$47","v":0},{"$f":"X67*Utslippstall!$F$47","v":0},{"$f":"Y67*Utslippstall!$F$47","v":0},{"$f":"Z67*Utslippstall!$F$47","v":0},{"$f":"AA67*Utslippstall!$F$47","v":0},{"$f":"AB67*Utslippstall!$F$47","v":0},{"$f":"AC67*Utslippstall!$F$47","v":0},{"$f":"AD67*Utslippstall!$F$47","v":0},{"$f":"AE67*Utslippstall!$F$47","v":0},{"$f":"AF67*Utslippstall!$F$47","v":0},{"$f":"AG67*Utslippstall!$F$47","v":0},{"$f":"AH67*Utslippstall!$F$47","v":0},{"$f":"AI67*Utslippstall!$F$47","v":0},{"$f":"AJ67*Utslippstall!$F$47","v":0},{"$f":"AK67*Utslippstall!$F$47","v":0},{"$f":"AL67*Utslippstall!$F$47","v":0},{"$f":"AM67*Utslippstall!$F$47","v":0},{"$f":"AN67*Utslippstall!$F$47","v":0},{"$f":"AO67*Utslippstall!$F$47","v":0},{"$f":"AP67*Utslippstall!$F$47","v":0},{"$f":"AQ67*Utslippstall!$F$47","v":0},{"$f":"AR67*Utslippstall!$F$47","v":0},{"$f":"AS67*Utslippstall!$F$47","v":0},{"$f":"AT67*Utslippstall!$F$47","v":0},{"$f":"AU67*Utslippstall!$F$47","v":0},{"$f":"AV67*Utslippstall!$F$47","v":0},{"$f":"AW67*Utslippstall!$F$47","v":0},{"$f":"AX67*Utslippstall!$F$47","v":0},{"$f":"AY67*Utslippstall!$F$47","v":0},{"$f":"AZ67*Utslippstall!$F$47","v":0},{"$f":"BA67*Utslippstall!$F$47","v":0},{"$f":"BB67*Utslippstall!$F$47","v":0},{"$f":"BC67*Utslippstall!$F$47","v":0},{"$f":"BD67*Utslippstall!$F$47","v":0},{"$f":"BE67*Utslippstall!$F$47","v":0}]
[null,null,null,null,"Sukker",{"$f":"SUM(F174:F176)","v":0},{"$f":"SUM(G174:G176)","v":0},0,{"$f":"SUM(I174:I176)","v":0},0,0,0,0,0,0,0,0,0,0,0,0,0,0,0,0,0,0,0,0,0,0,0,0,0,0,0,0,0,0,0,0,0,0,0,0,0,0,0,0,0,0,0,0,0,0,0,0]
[null,null,null,null,"Sirup",{"$f":"F69*Utslippstall!F49","v":0},{"$f":"G69*Utslippstall!F49","v":0},{"$f":"H69*Utslippstall!$F$49","v":0},{"$f":"I69*Utslippstall!$F$49","v":0},{"$f":"J69*Utslippstall!$F$49","v":0},{"$f":"K69*Utslippstall!$F$49","v":0},{"$f":"L69*Utslippstall!$F$49","v":0},{"$f":"M69*Utslippstall!$F$49","v":0},{"$f":"N69*Utslippstall!$F$49","v":0},{"$f":"O69*Utslippstall!$F$49","v":0},{"$f":"P69*Utslippstall!$F$49","v":0},{"$f":"Q69*Utslippstall!$F$49","v":0},{"$f":"R69*Utslippstall!$F$49","v":0},{"$f":"S69*Utslippstall!$F$49","v":0},{"$f":"T69*Utslippstall!$F$49","v":0},{"$f":"U69*Utslippstall!$F$49","v":0},{"$f":"V69*Utslippstall!$F$49","v":0},{"$f":"W69*Utslippstall!$F$49","v":0},{"$f":"X69*Utslippstall!$F$49","v":0},{"$f":"Y69*Utslippstall!$F$49","v":0},{"$f":"Z69*Utslippstall!$F$49","v":0},{"$f":"AA69*Utslippstall!$F$49","v":0},{"$f":"AB69*Utslippstall!$F$49","v":0},{"$f":"AC69*Utslippstall!$F$49","v":0},{"$f":"AD69*Utslippstall!$F$49","v":0},{"$f":"AE69*Utslippstall!$F$49","v":0},{"$f":"AF69*Utslippstall!$F$49","v":0},{"$f":"AG69*Utslippstall!$F$49","v":0},{"$f":"AH69*Utslippstall!$F$49","v":0},{"$f":"AI69*Utslippstall!$F$49","v":0},{"$f":"AJ69*Utslippstall!$F$49","v":0},{"$f":"AK69*Utslippstall!$F$49","v":0},{"$f":"AL69*Utslippstall!$F$49","v":0},{"$f":"AM69*Utslippstall!$F$49","v":0},{"$f":"AN69*Utslippstall!$F$49","v":0},{"$f":"AO69*Utslippstall!$F$49","v":0},{"$f":"AP69*Utslippstall!$F$49","v":0},{"$f":"AQ69*Utslippstall!$F$49","v":0},{"$f":"AR69*Utslippstall!$F$49","v":0},{"$f":"AS69*Utslippstall!$F$49","v":0},{"$f":"AT69*Utslippstall!$F$49","v":0},{"$f":"AU69*Utslippstall!$F$49","v":0},{"$f":"AV69*Utslippstall!$F$49","v":0},{"$f":"AW69*Utslippstall!$F$49","v":0},{"$f":"AX69*Utslippstall!$F$49","v":0},{"$f":"AY69*Utslippstall!$F$49","v":0},{"$f":"AZ69*Utslippstall!$F$49","v":0},{"$f":"BA69*Utslippstall!$F$49","v":0},{"$f":"BB69*Utslippstall!$F$49","v":0},{"$f":"BC69*Utslippstall!$F$49","v":0},{"$f":"BD69*Utslippstall!$F$49","v":0},{"$f":"BE69*Utslippstall!$F$49","v":0}]
[null,null,null,null,"Sukker",{"$f":"F70*Utslippstall!F50","v":0},{"$f":"G70*Utslippstall!F50","v":0},{"$f":"H70*Utslippstall!$F$50","v":0},{"$f":"I70*Utslippstall!$F$50","v":0},{"$f":"J70*Utslippstall!$F$50","v":0},{"$f":"K70*Utslippstall!$F$50","v":0},{"$f":"L70*Utslippstall!$F$50","v":0},{"$f":"M70*Utslippstall!$F$50","v":0},{"$f":"N70*Utslippstall!$F$50","v":0},{"$f":"O70*Utslippstall!$F$50","v":0},{"$f":"P70*Utslippstall!$F$50","v":0},{"$f":"Q70*Utslippstall!$F$50","v":0},{"$f":"R70*Utslippstall!$F$50","v":0},{"$f":"S70*Utslippstall!$F$50","v":0},{"$f":"T70*Utslippstall!$F$50","v":0},{"$f":"U70*Utslippstall!$F$50","v":0},{"$f":"V70*Utslippstall!$F$50","v":0},{"$f":"W70*Utslippstall!$F$50","v":0},{"$f":"X70*Utslippstall!$F$50","v":0},{"$f":"Y70*Utslippstall!$F$50","v":0},{"$f":"Z70*Utslippstall!$F$50","v":0},{"$f":"AA70*Utslippstall!$F$50","v":0},{"$f":"AB70*Utslippstall!$F$50","v":0},{"$f":"AC70*Utslippstall!$F$50","v":0},{"$f":"AD70*Utslippstall!$F$50","v":0},{"$f":"AE70*Utslippstall!$F$50","v":0},{"$f":"AF70*Utslippstall!$F$50","v":0},{"$f":"AG70*Utslippstall!$F$50","v":0},{"$f":"AH70*Utslippstall!$F$50","v":0},{"$f":"AI70*Utslippstall!$F$50","v":0},{"$f":"AJ70*Utslippstall!$F$50","v":0},{"$f":"AK70*Utslippstall!$F$50","v":0},{"$f":"AL70*Utslippstall!$F$50","v":0},{"$f":"AM70*Utslippstall!$F$50","v":0},{"$f":"AN70*Utslippstall!$F$50","v":0},{"$f":"AO70*Utslippstall!$F$50","v":0},{"$f":"AP70*Utslippstall!$F$50","v":0},{"$f":"AQ70*Utslippstall!$F$50","v":0},{"$f":"AR70*Utslippstall!$F$50","v":0},{"$f":"AS70*Utslippstall!$F$50","v":0},{"$f":"AT70*Utslippstall!$F$50","v":0},{"$f":"AU70*Utslippstall!$F$50","v":0},{"$f":"AV70*Utslippstall!$F$50","v":0},{"$f":"AW70*Utslippstall!$F$50","v":0},{"$f":"AX70*Utslippstall!$F$50","v":0},{"$f":"AY70*Utslippstall!$F$50","v":0},{"$f":"AZ70*Utslippstall!$F$50","v":0},{"$f":"BA70*Utslippstall!$F$50","v":0},{"$f":"BB70*Utslippstall!$F$50","v":0},{"$f":"BC70*Utslippstall!$F$50","v":0},{"$f":"BD70*Utslippstall!$F$50","v":0},{"$f":"BE70*Utslippstall!$F$50","v":0}]
[null,null,null,null,"Søtningsmidler, dessertpynt",{"$f":"F71*Utslippstall!F51","v":0},{"$f":"G71*Utslippstall!F51","v":0},{"$f":"H71*Utslippstall!$F$51","v":0},{"$f":"I71*Utslippstall!$F$51","v":0},{"$f":"J71*Utslippstall!$F$51","v":0},{"$f":"K71*Utslippstall!$F$51","v":0},{"$f":"L71*Utslippstall!$F$51","v":0},{"$f":"M71*Utslippstall!$F$51","v":0},{"$f":"N71*Utslippstall!$F$51","v":0},{"$f":"O71*Utslippstall!$F$51","v":0},{"$f":"P71*Utslippstall!$F$51","v":0},{"$f":"Q71*Utslippstall!$F$51","v":0},{"$f":"R71*Utslippstall!$F$51","v":0},{"$f":"S71*Utslippstall!$F$51","v":0},{"$f":"T71*Utslippstall!$F$51","v":0},{"$f":"U71*Utslippstall!$F$51","v":0},{"$f":"V71*Utslippstall!$F$51","v":0},{"$f":"W71*Utslippstall!$F$51","v":0},{"$f":"X71*Utslippstall!$F$51","v":0},{"$f":"Y71*Utslippstall!$F$51","v":0},{"$f":"Z71*Utslippstall!$F$51","v":0},{"$f":"AA71*Utslippstall!$F$51","v":0},{"$f":"AB71*Utslippstall!$F$51","v":0},{"$f":"AC71*Utslippstall!$F$51","v":0},{"$f":"AD71*Utslippstall!$F$51","v":0},{"$f":"AE71*Utslippstall!$F$51","v":0},{"$f":"AF71*Utslippstall!$F$51","v":0},{"$f":"AG71*Utslippstall!$F$51","v":0},{"$f":"AH71*Utslippstall!$F$51","v":0},{"$f":"AI71*Utslippstall!$F$51","v":0},{"$f":"AJ71*Utslippstall!$F$51","v":0},{"$f":"AK71*Utslippstall!$F$51","v":0},{"$f":"AL71*Utslippstall!$F$51","v":0},{"$f":"AM71*Utslippstall!$F$51","v":0},{"$f":"AN71*Utslippstall!$F$51","v":0},{"$f":"AO71*Utslippstall!$F$51","v":0},{"$f":"AP71*Utslippstall!$F$51","v":0},{"$f":"AQ71*Utslippstall!$F$51","v":0},{"$f":"AR71*Utslippstall!$F$51","v":0},{"$f":"AS71*Utslippstall!$F$51","v":0},{"$f":"AT71*Utslippstall!$F$51","v":0},{"$f":"AU71*Utslippstall!$F$51","v":0},{"$f":"AV71*Utslippstall!$F$51","v":0},{"$f":"AW71*Utslippstall!$F$51","v":0},{"$f":"AX71*Utslippstall!$F$51","v":0},{"$f":"AY71*Utslippstall!$F$51","v":0},{"$f":"AZ71*Utslippstall!$F$51","v":0},{"$f":"BA71*Utslippstall!$F$51","v":0},{"$f":"BB71*Utslippstall!$F$51","v":0},{"$f":"BC71*Utslippstall!$F$51","v":0},{"$f":"BD71*Utslippstall!$F$51","v":0},{"$f":"BE71*Utslippstall!$F$51","v":0}]
[null,null,null,null,"Olje og fett",{"$f":"SUM(F178:F183)","v":0},{"$f":"SUM(G178:G183)","v":0},0,{"$f":"SUM(I178:I183)","v":0},0,0,0,0,0,0,0,0,0,0,0,0,0,0,0,0,0,0,0,0,0,0,0,0,0,0,0,0,0,0,0,0,0,0,0,0,0,0,0,0,0,0,0,0,0,0,0,0]
[null,null,null,null,"Matfett, smørblanding, margarin",{"$f":"F73*Utslippstall!F53","v":0},{"$f":"G73*Utslippstall!F53","v":0},{"$f":"H73*Utslippstall!$F$53","v":0},{"$f":"I73*Utslippstall!$F$53","v":0},{"$f":"J73*Utslippstall!$F$53","v":0},{"$f":"K73*Utslippstall!$F$53","v":0},{"$f":"L73*Utslippstall!$F$53","v":0},{"$f":"M73*Utslippstall!$F$53","v":0},{"$f":"N73*Utslippstall!$F$53","v":0},{"$f":"O73*Utslippstall!$F$53","v":0},{"$f":"P73*Utslippstall!$F$53","v":0},{"$f":"Q73*Utslippstall!$F$53","v":0},{"$f":"R73*Utslippstall!$F$53","v":0},{"$f":"S73*Utslippstall!$F$53","v":0},{"$f":"T73*Utslippstall!$F$53","v":0},{"$f":"U73*Utslippstall!$F$53","v":0},{"$f":"V73*Utslippstall!$F$53","v":0},{"$f":"W73*Utslippstall!$F$53","v":0},{"$f":"X73*Utslippstall!$F$53","v":0},{"$f":"Y73*Utslippstall!$F$53","v":0},{"$f":"Z73*Utslippstall!$F$53","v":0},{"$f":"AA73*Utslippstall!$F$53","v":0},{"$f":"AB73*Utslippstall!$F$53","v":0},{"$f":"AC73*Utslippstall!$F$53","v":0},{"$f":"AD73*Utslippstall!$F$53","v":0},{"$f":"AE73*Utslippstall!$F$53","v":0},{"$f":"AF73*Utslippstall!$F$53","v":0},{"$f":"AG73*Utslippstall!$F$53","v":0},{"$f":"AH73*Utslippstall!$F$53","v":0},{"$f":"AI73*Utslippstall!$F$53","v":0},{"$f":"AJ73*Utslippstall!$F$53","v":0},{"$f":"AK73*Utslippstall!$F$53","v":0},{"$f":"AL73*Utslippstall!$F$53","v":0},{"$f":"AM73*Utslippstall!$F$53","v":0},{"$f":"AN73*Utslippstall!$F$53","v":0},{"$f":"AO73*Utslippstall!$F$53","v":0},{"$f":"AP73*Utslippstall!$F$53","v":0},{"$f":"AQ73*Utslippstall!$F$53","v":0},{"$f":"AR73*Utslippstall!$F$53","v":0},{"$f":"AS73*Utslippstall!$F$53","v":0},{"$f":"AT73*Utslippstall!$F$53","v":0},{"$f":"AU73*Utslippstall!$F$53","v":0},{"$f":"AV73*Utslippstall!$F$53","v":0},{"$f":"AW73*Utslippstall!$F$53","v":0},{"$f":"AX73*Utslippstall!$F$53","v":0},{"$f":"AY73*Utslippstall!$F$53","v":0},{"$f":"AZ73*Utslippstall!$F$53","v":0},{"$f":"BA73*Utslippstall!$F$53","v":0},{"$f":"BB73*Utslippstall!$F$53","v":0},{"$f":"BC73*Utslippstall!$F$53","v":0},{"$f":"BD73*Utslippstall!$F$53","v":0},{"$f":"BE73*Utslippstall!$F$53","v":0}]
[null,null,null,null,"Matolje",{"$f":"F74*Utslippstall!F54","v":0},{"$f":"G74*Utslippstall!F54","v":0},{"$f":"H74*Utslippstall!$F$54","v":0},{"$f":"I74*Utslippstall!$F$54","v":0},{"$f":"J74*Utslippstall!$F$54","v":0},{"$f":"K74*Utslippstall!$F$54","v":0},{"$f":"L74*Utslippstall!$F$54","v":0},{"$f":"M74*Utslippstall!$F$54","v":0},{"$f":"N74*Utslippstall!$F$54","v":0},{"$f":"O74*Utslippstall!$F$54","v":0},{"$f":"P74*Utslippstall!$F$54","v":0},{"$f":"Q74*Utslippstall!$F$54","v":0},{"$f":"R74*Utslippstall!$F$54","v":0},{"$f":"S74*Utslippstall!$F$54","v":0},{"$f":"T74*Utslippstall!$F$54","v":0},{"$f":"U74*Utslippstall!$F$54","v":0},{"$f":"V74*Utslippstall!$F$54","v":0},{"$f":"W74*Utslippstall!$F$54","v":0},{"$f":"X74*Utslippstall!$F$54","v":0},{"$f":"Y74*Utslippstall!$F$54","v":0},{"$f":"Z74*Utslippstall!$F$54","v":0},{"$f":"AA74*Utslippstall!$F$54","v":0},{"$f":"AB74*Utslippstall!$F$54","v":0},{"$f":"AC74*Utslippstall!$F$54","v":0},{"$f":"AD74*Utslippstall!$F$54","v":0},{"$f":"AE74*Utslippstall!$F$54","v":0},{"$f":"AF74*Utslippstall!$F$54","v":0},{"$f":"AG74*Utslippstall!$F$54","v":0},{"$f":"AH74*Utslippstall!$F$54","v":0},{"$f":"AI74*Utslippstall!$F$54","v":0},{"$f":"AJ74*Utslippstall!$F$54","v":0},{"$f":"AK74*Utslippstall!$F$54","v":0},{"$f":"AL74*Utslippstall!$F$54","v":0},{"$f":"AM74*Utslippstall!$F$54","v":0},{"$f":"AN74*Utslippstall!$F$54","v":0},{"$f":"AO74*Utslippstall!$F$54","v":0},{"$f":"AP74*Utslippstall!$F$54","v":0},{"$f":"AQ74*Utslippstall!$F$54","v":0},{"$f":"AR74*Utslippstall!$F$54","v":0},{"$f":"AS74*Utslippstall!$F$54","v":0},{"$f":"AT74*Utslippstall!$F$54","v":0},{"$f":"AU74*Utslippstall!$F$54","v":0},{"$f":"AV74*Utslippstall!$F$54","v":0},{"$f":"AW74*Utslippstall!$F$54","v":0},{"$f":"AX74*Utslippstall!$F$54","v":0},{"$f":"AY74*Utslippstall!$F$54","v":0},{"$f":"AZ74*Utslippstall!$F$54","v":0},{"$f":"BA74*Utslippstall!$F$54","v":0},{"$f":"BB74*Utslippstall!$F$54","v":0},{"$f":"BC74*Utslippstall!$F$54","v":0},{"$f":"BD74*Utslippstall!$F$54","v":0},{"$f":"BE74*Utslippstall!$F$54","v":0}]
[null,null,null,null,"Olivenolje",{"$f":"F75*Utslippstall!F55","v":0},{"$f":"G75*Utslippstall!F55","v":0},{"$f":"H75*Utslippstall!$F$55","v":0},{"$f":"I75*Utslippstall!$F$55","v":0},{"$f":"J75*Utslippstall!$F$55","v":0},{"$f":"K75*Utslippstall!$F$55","v":0},{"$f":"L75*Utslippstall!$F$55","v":0},{"$f":"M75*Utslippstall!$F$55","v":0},{"$f":"N75*Utslippstall!$F$55","v":0},{"$f":"O75*Utslippstall!$F$55","v":0},{"$f":"P75*Utslippstall!$F$55","v":0},{"$f":"Q75*Utslippstall!$F$55","v":0},{"$f":"R75*Utslippstall!$F$55","v":0},{"$f":"S75*Utslippstall!$F$55","v":0},{"$f":"T75*Utslippstall!$F$55","v":0},{"$f":"U75*Utslippstall!$F$55","v":0},{"$f":"V75*Utslippstall!$F$55","v":0},{"$f":"W75*Utslippstall!$F$55","v":0},{"$f":"X75*Utslippstall!$F$55","v":0},{"$f":"Y75*Utslippstall!$F$55","v":0},{"$f":"Z75*Utslippstall!$F$55","v":0},{"$f":"AA75*Utslippstall!$F$55","v":0},{"$f":"AB75*Utslippstall!$F$55","v":0},{"$f":"AC75*Utslippstall!$F$55","v":0},{"$f":"AD75*Utslippstall!$F$55","v":0},{"$f":"AE75*Utslippstall!$F$55","v":0},{"$f":"AF75*Utslippstall!$F$55","v":0},{"$f":"AG75*Utslippstall!$F$55","v":0},{"$f":"AH75*Utslippstall!$F$55","v":0},{"$f":"AI75*Utslippstall!$F$55","v":0},{"$f":"AJ75*Utslippstall!$F$55","v":0},{"$f":"AK75*Utslippstall!$F$55","v":0},{"$f":"AL75*Utslippstall!$F$55","v":0},{"$f":"AM75*Utslippstall!$F$55","v":0},{"$f":"AN75*Utslippstall!$F$55","v":0},{"$f":"AO75*Utslippstall!$F$55","v":0},{"$f":"AP75*Utslippstall!$F$55","v":0},{"$f":"AQ75*Utslippstall!$F$55","v":0},{"$f":"AR75*Utslippstall!$F$55","v":0},{"$f":"AS75*Utslippstall!$F$55","v":0},{"$f":"AT75*Utslippstall!$F$55","v":0},{"$f":"AU75*Utslippstall!$F$55","v":0},{"$f":"AV75*Utslippstall!$F$55","v":0},{"$f":"AW75*Utslippstall!$F$55","v":0},{"$f":"AX75*Utslippstall!$F$55","v":0},{"$f":"AY75*Utslippstall!$F$55","v":0},{"$f":"AZ75*Utslippstall!$F$55","v":0},{"$f":"BA75*Utslippstall!$F$55","v":0},{"$f":"BB75*Utslippstall!$F$55","v":0},{"$f":"BC75*Utslippstall!$F$55","v":0},{"$f":"BD75*Utslippstall!$F$55","v":0},{"$f":"BE75*Utslippstall!$F$55","v":0}]
[null,null,null,null,"Rapsolje",{"$f":"F76*Utslippstall!F56","v":0},{"$f":"G76*Utslippstall!F56","v":0},{"$f":"H76*Utslippstall!$F$56","v":0},{"$f":"I76*Utslippstall!$F$56","v":0},{"$f":"J76*Utslippstall!$F$56","v":0},{"$f":"K76*Utslippstall!$F$56","v":0},{"$f":"L76*Utslippstall!$F$56","v":0},{"$f":"M76*Utslippstall!$F$56","v":0},{"$f":"N76*Utslippstall!$F$56","v":0},{"$f":"O76*Utslippstall!$F$56","v":0},{"$f":"P76*Utslippstall!$F$56","v":0},{"$f":"Q76*Utslippstall!$F$56","v":0},{"$f":"R76*Utslippstall!$F$56","v":0},{"$f":"S76*Utslippstall!$F$56","v":0},{"$f":"T76*Utslippstall!$F$56","v":0},{"$f":"U76*Utslippstall!$F$56","v":0},{"$f":"V76*Utslippstall!$F$56","v":0},{"$f":"W76*Utslippstall!$F$56","v":0},{"$f":"X76*Utslippstall!$F$56","v":0},{"$f":"Y76*Utslippstall!$F$56","v":0},{"$f":"Z76*Utslippstall!$F$56","v":0},{"$f":"AA76*Utslippstall!$F$56","v":0},{"$f":"AB76*Utslippstall!$F$56","v":0},{"$f":"AC76*Utslippstall!$F$56","v":0},{"$f":"AD76*Utslippstall!$F$56","v":0},{"$f":"AE76*Utslippstall!$F$56","v":0},{"$f":"AF76*Utslippstall!$F$56","v":0},{"$f":"AG76*Utslippstall!$F$56","v":0},{"$f":"AH76*Utslippstall!$F$56","v":0},{"$f":"AI76*Utslippstall!$F$56","v":0},{"$f":"AJ76*Utslippstall!$F$56","v":0},{"$f":"AK76*Utslippstall!$F$56","v":0},{"$f":"AL76*Utslippstall!$F$56","v":0},{"$f":"AM76*Utslippstall!$F$56","v":0},{"$f":"AN76*Utslippstall!$F$56","v":0},{"$f":"AO76*Utslippstall!$F$56","v":0},{"$f":"AP76*Utslippstall!$F$56","v":0},{"$f":"AQ76*Utslippstall!$F$56","v":0},{"$f":"AR76*Utslippstall!$F$56","v":0},{"$f":"AS76*Utslippstall!$F$56","v":0},{"$f":"AT76*Utslippstall!$F$56","v":0},{"$f":"AU76*Utslippstall!$F$56","v":0},{"$f":"AV76*Utslippstall!$F$56","v":0},{"$f":"AW76*Utslippstall!$F$56","v":0},{"$f":"AX76*Utslippstall!$F$56","v":0},{"$f":"AY76*Utslippstall!$F$56","v":0},{"$f":"AZ76*Utslippstall!$F$56","v":0},{"$f":"BA76*Utslippstall!$F$56","v":0},{"$f":"BB76*Utslippstall!$F$56","v":0},{"$f":"BC76*Utslippstall!$F$56","v":0},{"$f":"BD76*Utslippstall!$F$56","v":0},{"$f":"BE76*Utslippstall!$F$56","v":0}]
[null,null,null,null,"Solsikkeolje",{"$f":"F77*Utslippstall!F57","v":0},{"$f":"G77*Utslippstall!F57","v":0},{"$f":"H77*Utslippstall!$F$57","v":0},{"$f":"I77*Utslippstall!$F$57","v":0},{"$f":"J77*Utslippstall!$F$57","v":0},{"$f":"K77*Utslippstall!$F$57","v":0},{"$f":"L77*Utslippstall!$F$57","v":0},{"$f":"M77*Utslippstall!$F$57","v":0},{"$f":"N77*Utslippstall!$F$57","v":0},{"$f":"O77*Utslippstall!$F$57","v":0},{"$f":"P77*Utslippstall!$F$57","v":0},{"$f":"Q77*Utslippstall!$F$57","v":0},{"$f":"R77*Utslippstall!$F$57","v":0},{"$f":"S77*Utslippstall!$F$57","v":0},{"$f":"T77*Utslippstall!$F$57","v":0},{"$f":"U77*Utslippstall!$F$57","v":0},{"$f":"V77*Utslippstall!$F$57","v":0},{"$f":"W77*Utslippstall!$F$57","v":0},{"$f":"X77*Utslippstall!$F$57","v":0},{"$f":"Y77*Utslippstall!$F$57","v":0},{"$f":"Z77*Utslippstall!$F$57","v":0},{"$f":"AA77*Utslippstall!$F$57","v":0},{"$f":"AB77*Utslippstall!$F$57","v":0},{"$f":"AC77*Utslippstall!$F$57","v":0},{"$f":"AD77*Utslippstall!$F$57","v":0},{"$f":"AE77*Utslippstall!$F$57","v":0},{"$f":"AF77*Utslippstall!$F$57","v":0},{"$f":"AG77*Utslippstall!$F$57","v":0},{"$f":"AH77*Utslippstall!$F$57","v":0},{"$f":"AI77*Utslippstall!$F$57","v":0},{"$f":"AJ77*Utslippstall!$F$57","v":0},{"$f":"AK77*Utslippstall!$F$57","v":0},{"$f":"AL77*Utslippstall!$F$57","v":0},{"$f":"AM77*Utslippstall!$F$57","v":0},{"$f":"AN77*Utslippstall!$F$57","v":0},{"$f":"AO77*Utslippstall!$F$57","v":0},{"$f":"AP77*Utslippstall!$F$57","v":0},{"$f":"AQ77*Utslippstall!$F$57","v":0},{"$f":"AR77*Utslippstall!$F$57","v":0},{"$f":"AS77*Utslippstall!$F$57","v":0},{"$f":"AT77*Utslippstall!$F$57","v":0},{"$f":"AU77*Utslippstall!$F$57","v":0},{"$f":"AV77*Utslippstall!$F$57","v":0},{"$f":"AW77*Utslippstall!$F$57","v":0},{"$f":"AX77*Utslippstall!$F$57","v":0},{"$f":"AY77*Utslippstall!$F$57","v":0},{"$f":"AZ77*Utslippstall!$F$57","v":0},{"$f":"BA77*Utslippstall!$F$57","v":0},{"$f":"BB77*Utslippstall!$F$57","v":0},{"$f":"BC77*Utslippstall!$F$57","v":0},{"$f":"BD77*Utslippstall!$F$57","v":0},{"$f":"BE77*Utslippstall!$F$57","v":0}]
[null,null,null,null,"Soyaolje",{"$f":"F78*Utslippstall!F58","v":0},{"$f":"G78*Utslippstall!F58","v":0},{"$f":"H78*Utslippstall!$F$58","v":0},{"$f":"I78*Utslippstall!$F$58","v":0},{"$f":"J78*Utslippstall!$F$58","v":0},{"$f":"K78*Utslippstall!$F$58","v":0},{"$f":"L78*Utslippstall!$F$58","v":0},{"$f":"M78*Utslippstall!$F$58","v":0},{"$f":"N78*Utslippstall!$F$58","v":0},{"$f":"O78*Utslippstall!$F$58","v":0},{"$f":"P78*Utslippstall!$F$58","v":0},{"$f":"Q78*Utslippstall!$F$58","v":0},{"$f":"R78*Utslippstall!$F$58","v":0},{"$f":"S78*Utslippstall!$F$58","v":0},{"$f":"T78*Utslippstall!$F$58","v":0},{"$f":"U78*Utslippstall!$F$58","v":0},{"$f":"V78*Utslippstall!$F$58","v":0},{"$f":"W78*Utslippstall!$F$58","v":0},{"$f":"X78*Utslippstall!$F$58","v":0},{"$f":"Y78*Utslippstall!$F$58","v":0},{"$f":"Z78*Utslippstall!$F$58","v":0},{"$f":"AA78*Utslippstall!$F$58","v":0},{"$f":"AB78*Utslippstall!$F$58","v":0},{"$f":"AC78*Utslippstall!$F$58","v":0},{"$f":"AD78*Utslippstall!$F$58","v":0},{"$f":"AE78*Utslippstall!$F$58","v":0},{"$f":"AF78*Utslippstall!$F$58","v":0},{"$f":"AG78*Utslippstall!$F$58","v":0},{"$f":"AH78*Utslippstall!$F$58","v":0},{"$f":"AI78*Utslippstall!$F$58","v":0},{"$f":"AJ78*Utslippstall!$F$58","v":0},{"$f":"AK78*Utslippstall!$F$58","v":0},{"$f":"AL78*Utslippstall!$F$58","v":0},{"$f":"AM78*Utslippstall!$F$58","v":0},{"$f":"AN78*Utslippstall!$F$58","v":0},{"$f":"AO78*Utslippstall!$F$58","v":0},{"$f":"AP78*Utslippstall!$F$58","v":0},{"$f":"AQ78*Utslippstall!$F$58","v":0},{"$f":"AR78*Utslippstall!$F$58","v":0},{"$f":"AS78*Utslippstall!$F$58","v":0},{"$f":"AT78*Utslippstall!$F$58","v":0},{"$f":"AU78*Utslippstall!$F$58","v":0},{"$f":"AV78*Utslippstall!$F$58","v":0},{"$f":"AW78*Utslippstall!$F$58","v":0},{"$f":"AX78*Utslippstall!$F$58","v":0},{"$f":"AY78*Utslippstall!$F$58","v":0},{"$f":"AZ78*Utslippstall!$F$58","v":0},{"$f":"BA78*Utslippstall!$F$58","v":0},{"$f":"BB78*Utslippstall!$F$58","v":0},{"$f":"BC78*Utslippstall!$F$58","v":0},{"$f":"BD78*Utslippstall!$F$58","v":0},{"$f":"BE78*Utslippstall!$F$58","v":0}]
[null,null,null,null,"Kjeks, kaker og godteri",{"$f":"SUM(F185:F188)","v":0},{"$f":"SUM(G185:G188)","v":0},{"$f":"SUM(H185:H188)","v":0},{"$f":"SUM(I185:I188)","v":0},0,0,0,0,0,0,0,0,0,0,0,0,0,0,0,0,0,0,0,0,0,0,0,0,0,0,0,0,0,0,0,0,0,0,0,0,0,0,0,0,0,0,0,0,0,0,0,0]
[null,null,null,null,"Sjokolade",{"$f":"F80*Utslippstall!F60","v":0},{"$f":"G80*Utslippstall!F60","v":0},{"$f":"H80*Utslippstall!$F$60","v":0},{"$f":"I80*Utslippstall!$F$60","v":0},{"$f":"J80*Utslippstall!$F$60","v":0},{"$f":"K80*Utslippstall!$F$60","v":0},{"$f":"L80*Utslippstall!$F$60","v":0},{"$f":"M80*Utslippstall!$F$60","v":0},{"$f":"N80*Utslippstall!$F$60","v":0},{"$f":"O80*Utslippstall!$F$60","v":0},{"$f":"P80*Utslippstall!$F$60","v":0},{"$f":"Q80*Utslippstall!$F$60","v":0},{"$f":"R80*Utslippstall!$F$60","v":0},{"$f":"S80*Utslippstall!$F$60","v":0},{"$f":"T80*Utslippstall!$F$60","v":0},{"$f":"U80*Utslippstall!$F$60","v":0},{"$f":"V80*Utslippstall!$F$60","v":0},{"$f":"W80*Utslippstall!$F$60","v":0},{"$f":"X80*Utslippstall!$F$60","v":0},{"$f":"Y80*Utslippstall!$F$60","v":0},{"$f":"Z80*Utslippstall!$F$60","v":0},{"$f":"AA80*Utslippstall!$F$60","v":0},{"$f":"AB80*Utslippstall!$F$60","v":0},{"$f":"AC80*Utslippstall!$F$60","v":0},{"$f":"AD80*Utslippstall!$F$60","v":0},{"$f":"AE80*Utslippstall!$F$60","v":0},{"$f":"AF80*Utslippstall!$F$60","v":0},{"$f":"AG80*Utslippstall!$F$60","v":0},{"$f":"AH80*Utslippstall!$F$60","v":0},{"$f":"AI80*Utslippstall!$F$60","v":0},{"$f":"AJ80*Utslippstall!$F$60","v":0},{"$f":"AK80*Utslippstall!$F$60","v":0},{"$f":"AL80*Utslippstall!$F$60","v":0},{"$f":"AM80*Utslippstall!$F$60","v":0},{"$f":"AN80*Utslippstall!$F$60","v":0},{"$f":"AO80*Utslippstall!$F$60","v":0},{"$f":"AP80*Utslippstall!$F$60","v":0},{"$f":"AQ80*Utslippstall!$F$60","v":0},{"$f":"AR80*Utslippstall!$F$60","v":0},{"$f":"AS80*Utslippstall!$F$60","v":0},{"$f":"AT80*Utslippstall!$F$60","v":0},{"$f":"AU80*Utslippstall!$F$60","v":0},{"$f":"AV80*Utslippstall!$F$60","v":0},{"$f":"AW80*Utslippstall!$F$60","v":0},{"$f":"AX80*Utslippstall!$F$60","v":0},{"$f":"AY80*Utslippstall!$F$60","v":0},{"$f":"AZ80*Utslippstall!$F$60","v":0},{"$f":"BA80*Utslippstall!$F$60","v":0},{"$f":"BB80*Utslippstall!$F$60","v":0},{"$f":"BC80*Utslippstall!$F$60","v":0},{"$f":"BD80*Utslippstall!$F$60","v":0},{"$f":"BE80*Utslippstall!$F$60","v":0}]
[null,null,null,null,"Godteri",{"$f":"F81*Utslippstall!F61","v":0},{"$f":"G81*Utslippstall!F61","v":0},{"$f":"H81*Utslippstall!$F$61","v":0},{"$f":"I81*Utslippstall!$F$61","v":0},{"$f":"J81*Utslippstall!$F$61","v":0},{"$f":"K81*Utslippstall!$F$61","v":0},{"$f":"L81*Utslippstall!$F$61","v":0},{"$f":"M81*Utslippstall!$F$61","v":0},{"$f":"N81*Utslippstall!$F$61","v":0},{"$f":"O81*Utslippstall!$F$61","v":0},{"$f":"P81*Utslippstall!$F$61","v":0},{"$f":"Q81*Utslippstall!$F$61","v":0},{"$f":"R81*Utslippstall!$F$61","v":0},{"$f":"S81*Utslippstall!$F$61","v":0},{"$f":"T81*Utslippstall!$F$61","v":0},{"$f":"U81*Utslippstall!$F$61","v":0},{"$f":"V81*Utslippstall!$F$61","v":0},{"$f":"W81*Utslippstall!$F$61","v":0},{"$f":"X81*Utslippstall!$F$61","v":0},{"$f":"Y81*Utslippstall!$F$61","v":0},{"$f":"Z81*Utslippstall!$F$61","v":0},{"$f":"AA81*Utslippstall!$F$61","v":0},{"$f":"AB81*Utslippstall!$F$61","v":0},{"$f":"AC81*Utslippstall!$F$61","v":0},{"$f":"AD81*Utslippstall!$F$61","v":0},{"$f":"AE81*Utslippstall!$F$61","v":0},{"$f":"AF81*Utslippstall!$F$61","v":0},{"$f":"AG81*Utslippstall!$F$61","v":0},{"$f":"AH81*Utslippstall!$F$61","v":0},{"$f":"AI81*Utslippstall!$F$61","v":0},{"$f":"AJ81*Utslippstall!$F$61","v":0},{"$f":"AK81*Utslippstall!$F$61","v":0},{"$f":"AL81*Utslippstall!$F$61","v":0},{"$f":"AM81*Utslippstall!$F$61","v":0},{"$f":"AN81*Utslippstall!$F$61","v":0},{"$f":"AO81*Utslippstall!$F$61","v":0},{"$f":"AP81*Utslippstall!$F$61","v":0},{"$f":"AQ81*Utslippstall!$F$61","v":0},{"$f":"AR81*Utslippstall!$F$61","v":0},{"$f":"AS81*Utslippstall!$F$61","v":0},{"$f":"AT81*Utslippstall!$F$61","v":0},{"$f":"AU81*Utslippstall!$F$61","v":0},{"$f":"AV81*Utslippstall!$F$61","v":0},{"$f":"AW81*Utslippstall!$F$61","v":0},{"$f":"AX81*Utslippstall!$F$61","v":0},{"$f":"AY81*Utslippstall!$F$61","v":0},{"$f":"AZ81*Utslippstall!$F$61","v":0},{"$f":"BA81*Utslippstall!$F$61","v":0},{"$f":"BB81*Utslippstall!$F$61","v":0},{"$f":"BC81*Utslippstall!$F$61","v":0},{"$f":"BD81*Utslippstall!$F$61","v":0},{"$f":"BE81*Utslippstall!$F$61","v":0}]
[null,null,null,null,"Marsipan",{"$f":"F82*Utslippstall!F62","v":0},{"$f":"G82*Utslippstall!F62","v":0},{"$f":"H82*Utslippstall!$F$62","v":0},{"$f":"I82*Utslippstall!$F$62","v":0},{"$f":"J82*Utslippstall!$F$62","v":0},{"$f":"K82*Utslippstall!$F$62","v":0},{"$f":"L82*Utslippstall!$F$62","v":0},{"$f":"M82*Utslippstall!$F$62","v":0},{"$f":"N82*Utslippstall!$F$62","v":0},{"$f":"O82*Utslippstall!$F$62","v":0},{"$f":"P82*Utslippstall!$F$62","v":0},{"$f":"Q82*Utslippstall!$F$62","v":0},{"$f":"R82*Utslippstall!$F$62","v":0},{"$f":"S82*Utslippstall!$F$62","v":0},{"$f":"T82*Utslippstall!$F$62","v":0},{"$f":"U82*Utslippstall!$F$62","v":0},{"$f":"V82*Utslippstall!$F$62","v":0},{"$f":"W82*Utslippstall!$F$62","v":0},{"$f":"X82*Utslippstall!$F$62","v":0},{"$f":"Y82*Utslippstall!$F$62","v":0},{"$f":"Z82*Utslippstall!$F$62","v":0},{"$f":"AA82*Utslippstall!$F$62","v":0},{"$f":"AB82*Utslippstall!$F$62","v":0},{"$f":"AC82*Utslippstall!$F$62","v":0},{"$f":"AD82*Utslippstall!$F$62","v":0},{"$f":"AE82*Utslippstall!$F$62","v":0},{"$f":"AF82*Utslippstall!$F$62","v":0},{"$f":"AG82*Utslippstall!$F$62","v":0},{"$f":"AH82*Utslippstall!$F$62","v":0},{"$f":"AI82*Utslippstall!$F$62","v":0},{"$f":"AJ82*Utslippstall!$F$62","v":0},{"$f":"AK82*Utslippstall!$F$62","v":0},{"$f":"AL82*Utslippstall!$F$62","v":0},{"$f":"AM82*Utslippstall!$F$62","v":0},{"$f":"AN82*Utslippstall!$F$62","v":0},{"$f":"AO82*Utslippstall!$F$62","v":0},{"$f":"AP82*Utslippstall!$F$62","v":0},{"$f":"AQ82*Utslippstall!$F$62","v":0},{"$f":"AR82*Utslippstall!$F$62","v":0},{"$f":"AS82*Utslippstall!$F$62","v":0},{"$f":"AT82*Utslippstall!$F$62","v":0},{"$f":"AU82*Utslippstall!$F$62","v":0},{"$f":"AV82*Utslippstall!$F$62","v":0},{"$f":"AW82*Utslippstall!$F$62","v":0},{"$f":"AX82*Utslippstall!$F$62","v":0},{"$f":"AY82*Utslippstall!$F$62","v":0},{"$f":"AZ82*Utslippstall!$F$62","v":0},{"$f":"BA82*Utslippstall!$F$62","v":0},{"$f":"BB82*Utslippstall!$F$62","v":0},{"$f":"BC82*Utslippstall!$F$62","v":0},{"$f":"BD82*Utslippstall!$F$62","v":0},{"$f":"BE82*Utslippstall!$F$62","v":0}]
[null,null,null,null,"Kjeks og kaker",{"$f":"F83*Utslippstall!F63","v":0},{"$f":"G83*Utslippstall!F63","v":0},{"$f":"H83*Utslippstall!$F$63","v":0},{"$f":"I83*Utslippstall!$F$63","v":0},{"$f":"J83*Utslippstall!$F$63","v":0},{"$f":"K83*Utslippstall!$F$63","v":0},{"$f":"L83*Utslippstall!$F$63","v":0},{"$f":"M83*Utslippstall!$F$63","v":0},{"$f":"N83*Utslippstall!$F$63","v":0},{"$f":"O83*Utslippstall!$F$63","v":0},{"$f":"P83*Utslippstall!$F$63","v":0},{"$f":"Q83*Utslippstall!$F$63","v":0},{"$f":"R83*Utslippstall!$F$63","v":0},{"$f":"S83*Utslippstall!$F$63","v":0},{"$f":"T83*Utslippstall!$F$63","v":0},{"$f":"U83*Utslippstall!$F$63","v":0},{"$f":"V83*Utslippstall!$F$63","v":0},{"$f":"W83*Utslippstall!$F$63","v":0},{"$f":"X83*Utslippstall!$F$63","v":0},{"$f":"Y83*Utslippstall!$F$63","v":0},{"$f":"Z83*Utslippstall!$F$63","v":0},{"$f":"AA83*Utslippstall!$F$63","v":0},{"$f":"AB83*Utslippstall!$F$63","v":0},{"$f":"AC83*Utslippstall!$F$63","v":0},{"$f":"AD83*Utslippstall!$F$63","v":0},{"$f":"AE83*Utslippstall!$F$63","v":0},{"$f":"AF83*Utslippstall!$F$63","v":0},{"$f":"AG83*Utslippstall!$F$63","v":0},{"$f":"AH83*Utslippstall!$F$63","v":0},{"$f":"AI83*Utslippstall!$F$63","v":0},{"$f":"AJ83*Utslippstall!$F$63","v":0},{"$f":"AK83*Utslippstall!$F$63","v":0},{"$f":"AL83*Utslippstall!$F$63","v":0},{"$f":"AM83*Utslippstall!$F$63","v":0},{"$f":"AN83*Utslippstall!$F$63","v":0},{"$f":"AO83*Utslippstall!$F$63","v":0},{"$f":"AP83*Utslippstall!$F$63","v":0},{"$f":"AQ83*Utslippstall!$F$63","v":0},{"$f":"AR83*Utslippstall!$F$63","v":0},{"$f":"AS83*Utslippstall!$F$63","v":0},{"$f":"AT83*Utslippstall!$F$63","v":0},{"$f":"AU83*Utslippstall!$F$63","v":0},{"$f":"AV83*Utslippstall!$F$63","v":0},{"$f":"AW83*Utslippstall!$F$63","v":0},{"$f":"AX83*Utslippstall!$F$63","v":0},{"$f":"AY83*Utslippstall!$F$63","v":0},{"$f":"AZ83*Utslippstall!$F$63","v":0},{"$f":"BA83*Utslippstall!$F$63","v":0},{"$f":"BB83*Utslippstall!$F$63","v":0},{"$f":"BC83*Utslippstall!$F$63","v":0},{"$f":"BD83*Utslippstall!$F$63","v":0},{"$f":"BE83*Utslippstall!$F$63","v":0}]
[null,null,null,null,"Kombinasjonsmåltider",{"$f":"SUM(F190:F197)","v":0},{"$f":"SUM(G190:G197)","v":0},0,{"$f":"SUM(I190:I197)","v":0},0,0,0,0,0,0,0,0,0,0,0,0,0,0,0,0,0,0,0,0,0,0,0,0,0,0,0,0,0,0,0,0,0,0,0,0,0,0,0,0,0,0,0,0,0,0,0,0]
[null,null,null,null,"Kombinasjonsmåltider blandet kjøtt",{"$f":"F85*Utslippstall!F65","v":0},{"$f":"G85*Utslippstall!F65","v":0},{"$f":"H85*Utslippstall!$F$65","v":0},{"$f":"I85*Utslippstall!$F$65","v":0},{"$f":"J85*Utslippstall!$F$65","v":0},{"$f":"K85*Utslippstall!$F$65","v":0},{"$f":"L85*Utslippstall!$F$65","v":0},{"$f":"M85*Utslippstall!$F$65","v":0},{"$f":"N85*Utslippstall!$F$65","v":0},{"$f":"O85*Utslippstall!$F$65","v":0},{"$f":"P85*Utslippstall!$F$65","v":0},{"$f":"Q85*Utslippstall!$F$65","v":0},{"$f":"R85*Utslippstall!$F$65","v":0},{"$f":"S85*Utslippstall!$F$65","v":0},{"$f":"T85*Utslippstall!$F$65","v":0},{"$f":"U85*Utslippstall!$F$65","v":0},{"$f":"V85*Utslippstall!$F$65","v":0},{"$f":"W85*Utslippstall!$F$65","v":0},{"$f":"X85*Utslippstall!$F$65","v":0},{"$f":"Y85*Utslippstall!$F$65","v":0},{"$f":"Z85*Utslippstall!$F$65","v":0},{"$f":"AA85*Utslippstall!$F$65","v":0},{"$f":"AB85*Utslippstall!$F$65","v":0},{"$f":"AC85*Utslippstall!$F$65","v":0},{"$f":"AD85*Utslippstall!$F$65","v":0},{"$f":"AE85*Utslippstall!$F$65","v":0},{"$f":"AF85*Utslippstall!$F$65","v":0},{"$f":"AG85*Utslippstall!$F$65","v":0},{"$f":"AH85*Utslippstall!$F$65","v":0},{"$f":"AI85*Utslippstall!$F$65","v":0},{"$f":"AJ85*Utslippstall!$F$65","v":0},{"$f":"AK85*Utslippstall!$F$65","v":0},{"$f":"AL85*Utslippstall!$F$65","v":0},{"$f":"AM85*Utslippstall!$F$65","v":0},{"$f":"AN85*Utslippstall!$F$65","v":0},{"$f":"AO85*Utslippstall!$F$65","v":0},{"$f":"AP85*Utslippstall!$F$65","v":0},{"$f":"AQ85*Utslippstall!$F$65","v":0},{"$f":"AR85*Utslippstall!$F$65","v":0},{"$f":"AS85*Utslippstall!$F$65","v":0},{"$f":"AT85*Utslippstall!$F$65","v":0},{"$f":"AU85*Utslippstall!$F$65","v":0},{"$f":"AV85*Utslippstall!$F$65","v":0},{"$f":"AW85*Utslippstall!$F$65","v":0},{"$f":"AX85*Utslippstall!$F$65","v":0},{"$f":"AY85*Utslippstall!$F$65","v":0},{"$f":"AZ85*Utslippstall!$F$65","v":0},{"$f":"BA85*Utslippstall!$F$65","v":0},{"$f":"BB85*Utslippstall!$F$65","v":0},{"$f":"BC85*Utslippstall!$F$65","v":0},{"$f":"BD85*Utslippstall!$F$65","v":0},{"$f":"BE85*Utslippstall!$F$65","v":0}]
[null,null,null,null,"Kombinasjonsmåltid sau",{"$f":"F86*Utslippstall!F66","v":0},{"$f":"G86*Utslippstall!F66","v":0},{"$f":"H86*Utslippstall!$F$66","v":0},{"$f":"I86*Utslippstall!$F$66","v":0},{"$f":"J86*Utslippstall!$F$66","v":0},{"$f":"K86*Utslippstall!$F$66","v":0},{"$f":"L86*Utslippstall!$F$66","v":0},{"$f":"M86*Utslippstall!$F$66","v":0},{"$f":"N86*Utslippstall!$F$66","v":0},{"$f":"O86*Utslippstall!$F$66","v":0},{"$f":"P86*Utslippstall!$F$66","v":0},{"$f":"Q86*Utslippstall!$F$66","v":0},{"$f":"R86*Utslippstall!$F$66","v":0},{"$f":"S86*Utslippstall!$F$66","v":0},{"$f":"T86*Utslippstall!$F$66","v":0},{"$f":"U86*Utslippstall!$F$66","v":0},{"$f":"V86*Utslippstall!$F$66","v":0},{"$f":"W86*Utslippstall!$F$66","v":0},{"$f":"X86*Utslippstall!$F$66","v":0},{"$f":"Y86*Utslippstall!$F$66","v":0},{"$f":"Z86*Utslippstall!$F$66","v":0},{"$f":"AA86*Utslippstall!$F$66","v":0},{"$f":"AB86*Utslippstall!$F$66","v":0},{"$f":"AC86*Utslippstall!$F$66","v":0},{"$f":"AD86*Utslippstall!$F$66","v":0},{"$f":"AE86*Utslippstall!$F$66","v":0},{"$f":"AF86*Utslippstall!$F$66","v":0},{"$f":"AG86*Utslippstall!$F$66","v":0},{"$f":"AH86*Utslippstall!$F$66","v":0},{"$f":"AI86*Utslippstall!$F$66","v":0},{"$f":"AJ86*Utslippstall!$F$66","v":0},{"$f":"AK86*Utslippstall!$F$66","v":0},{"$f":"AL86*Utslippstall!$F$66","v":0},{"$f":"AM86*Utslippstall!$F$66","v":0},{"$f":"AN86*Utslippstall!$F$66","v":0},{"$f":"AO86*Utslippstall!$F$66","v":0},{"$f":"AP86*Utslippstall!$F$66","v":0},{"$f":"AQ86*Utslippstall!$F$66","v":0},{"$f":"AR86*Utslippstall!$F$66","v":0},{"$f":"AS86*Utslippstall!$F$66","v":0},{"$f":"AT86*Utslippstall!$F$66","v":0},{"$f":"AU86*Utslippstall!$F$66","v":0},{"$f":"AV86*Utslippstall!$F$66","v":0},{"$f":"AW86*Utslippstall!$F$66","v":0},{"$f":"AX86*Utslippstall!$F$66","v":0},{"$f":"AY86*Utslippstall!$F$66","v":0},{"$f":"AZ86*Utslippstall!$F$66","v":0},{"$f":"BA86*Utslippstall!$F$66","v":0},{"$f":"BB86*Utslippstall!$F$66","v":0},{"$f":"BC86*Utslippstall!$F$66","v":0},{"$f":"BD86*Utslippstall!$F$66","v":0},{"$f":"BE86*Utslippstall!$F$66","v":0}]
[null,null,null,null,"Kombinasjonsmåltid storfe",{"$f":"F87*Utslippstall!F67","v":0},{"$f":"G87*Utslippstall!F67","v":0},{"$f":"H87*Utslippstall!$F$67","v":0},{"$f":"I87*Utslippstall!$F$67","v":0},{"$f":"J87*Utslippstall!$F$67","v":0},{"$f":"K87*Utslippstall!$F$67","v":0},{"$f":"L87*Utslippstall!$F$67","v":0},{"$f":"M87*Utslippstall!$F$67","v":0},{"$f":"N87*Utslippstall!$F$67","v":0},{"$f":"O87*Utslippstall!$F$67","v":0},{"$f":"P87*Utslippstall!$F$67","v":0},{"$f":"Q87*Utslippstall!$F$67","v":0},{"$f":"R87*Utslippstall!$F$67","v":0},{"$f":"S87*Utslippstall!$F$67","v":0},{"$f":"T87*Utslippstall!$F$67","v":0},{"$f":"U87*Utslippstall!$F$67","v":0},{"$f":"V87*Utslippstall!$F$67","v":0},{"$f":"W87*Utslippstall!$F$67","v":0},{"$f":"X87*Utslippstall!$F$67","v":0},{"$f":"Y87*Utslippstall!$F$67","v":0},{"$f":"Z87*Utslippstall!$F$67","v":0},{"$f":"AA87*Utslippstall!$F$67","v":0},{"$f":"AB87*Utslippstall!$F$67","v":0},{"$f":"AC87*Utslippstall!$F$67","v":0},{"$f":"AD87*Utslippstall!$F$67","v":0},{"$f":"AE87*Utslippstall!$F$67","v":0},{"$f":"AF87*Utslippstall!$F$67","v":0},{"$f":"AG87*Utslippstall!$F$67","v":0},{"$f":"AH87*Utslippstall!$F$67","v":0},{"$f":"AI87*Utslippstall!$F$67","v":0},{"$f":"AJ87*Utslippstall!$F$67","v":0},{"$f":"AK87*Utslippstall!$F$67","v":0},{"$f":"AL87*Utslippstall!$F$67","v":0},{"$f":"AM87*Utslippstall!$F$67","v":0},{"$f":"AN87*Utslippstall!$F$67","v":0},{"$f":"AO87*Utslippstall!$F$67","v":0},{"$f":"AP87*Utslippstall!$F$67","v":0},{"$f":"AQ87*Utslippstall!$F$67","v":0},{"$f":"AR87*Utslippstall!$F$67","v":0},{"$f":"AS87*Utslippstall!$F$67","v":0},{"$f":"AT87*Utslippstall!$F$67","v":0},{"$f":"AU87*Utslippstall!$F$67","v":0},{"$f":"AV87*Utslippstall!$F$67","v":0},{"$f":"AW87*Utslippstall!$F$67","v":0},{"$f":"AX87*Utslippstall!$F$67","v":0},{"$f":"AY87*Utslippstall!$F$67","v":0},{"$f":"AZ87*Utslippstall!$F$67","v":0},{"$f":"BA87*Utslippstall!$F$67","v":0},{"$f":"BB87*Utslippstall!$F$67","v":0},{"$f":"BC87*Utslippstall!$F$67","v":0},{"$f":"BD87*Utslippstall!$F$67","v":0},{"$f":"BE87*Utslippstall!$F$67","v":0}]
[null,null,null,null,"Kombinasjonsmåltid ost",{"$f":"F88*Utslippstall!F68","v":0},{"$f":"G88*Utslippstall!F68","v":0},{"$f":"H88*Utslippstall!$F$68","v":0},{"$f":"I88*Utslippstall!$F$68","v":0},{"$f":"J88*Utslippstall!$F$68","v":0},{"$f":"K88*Utslippstall!$F$68","v":0},{"$f":"L88*Utslippstall!$F$68","v":0},{"$f":"M88*Utslippstall!$F$68","v":0},{"$f":"N88*Utslippstall!$F$68","v":0},{"$f":"O88*Utslippstall!$F$68","v":0},{"$f":"P88*Utslippstall!$F$68","v":0},{"$f":"Q88*Utslippstall!$F$68","v":0},{"$f":"R88*Utslippstall!$F$68","v":0},{"$f":"S88*Utslippstall!$F$68","v":0},{"$f":"T88*Utslippstall!$F$68","v":0},{"$f":"U88*Utslippstall!$F$68","v":0},{"$f":"V88*Utslippstall!$F$68","v":0},{"$f":"W88*Utslippstall!$F$68","v":0},{"$f":"X88*Utslippstall!$F$68","v":0},{"$f":"Y88*Utslippstall!$F$68","v":0},{"$f":"Z88*Utslippstall!$F$68","v":0},{"$f":"AA88*Utslippstall!$F$68","v":0},{"$f":"AB88*Utslippstall!$F$68","v":0},{"$f":"AC88*Utslippstall!$F$68","v":0},{"$f":"AD88*Utslippstall!$F$68","v":0},{"$f":"AE88*Utslippstall!$F$68","v":0},{"$f":"AF88*Utslippstall!$F$68","v":0},{"$f":"AG88*Utslippstall!$F$68","v":0},{"$f":"AH88*Utslippstall!$F$68","v":0},{"$f":"AI88*Utslippstall!$F$68","v":0},{"$f":"AJ88*Utslippstall!$F$68","v":0},{"$f":"AK88*Utslippstall!$F$68","v":0},{"$f":"AL88*Utslippstall!$F$68","v":0},{"$f":"AM88*Utslippstall!$F$68","v":0},{"$f":"AN88*Utslippstall!$F$68","v":0},{"$f":"AO88*Utslippstall!$F$68","v":0},{"$f":"AP88*Utslippstall!$F$68","v":0},{"$f":"AQ88*Utslippstall!$F$68","v":0},{"$f":"AR88*Utslippstall!$F$68","v":0},{"$f":"AS88*Utslippstall!$F$68","v":0},{"$f":"AT88*Utslippstall!$F$68","v":0},{"$f":"AU88*Utslippstall!$F$68","v":0},{"$f":"AV88*Utslippstall!$F$68","v":0},{"$f":"AW88*Utslippstall!$F$68","v":0},{"$f":"AX88*Utslippstall!$F$68","v":0},{"$f":"AY88*Utslippstall!$F$68","v":0},{"$f":"AZ88*Utslippstall!$F$68","v":0},{"$f":"BA88*Utslippstall!$F$68","v":0},{"$f":"BB88*Utslippstall!$F$68","v":0},{"$f":"BC88*Utslippstall!$F$68","v":0},{"$f":"BD88*Utslippstall!$F$68","v":0},{"$f":"BE88*Utslippstall!$F$68","v":0}]
[null,null,null,null,"Kombinasjonsmåltid svin",{"$f":"F89*Utslippstall!F69","v":0},{"$f":"G89*Utslippstall!F69","v":0},{"$f":"H89*Utslippstall!$F$69","v":0},{"$f":"I89*Utslippstall!$F$69","v":0},{"$f":"J89*Utslippstall!$F$69","v":0},{"$f":"K89*Utslippstall!$F$69","v":0},{"$f":"L89*Utslippstall!$F$69","v":0},{"$f":"M89*Utslippstall!$F$69","v":0},{"$f":"N89*Utslippstall!$F$69","v":0},{"$f":"O89*Utslippstall!$F$69","v":0},{"$f":"P89*Utslippstall!$F$69","v":0},{"$f":"Q89*Utslippstall!$F$69","v":0},{"$f":"R89*Utslippstall!$F$69","v":0},{"$f":"S89*Utslippstall!$F$69","v":0},{"$f":"T89*Utslippstall!$F$69","v":0},{"$f":"U89*Utslippstall!$F$69","v":0},{"$f":"V89*Utslippstall!$F$69","v":0},{"$f":"W89*Utslippstall!$F$69","v":0},{"$f":"X89*Utslippstall!$F$69","v":0},{"$f":"Y89*Utslippstall!$F$69","v":0},{"$f":"Z89*Utslippstall!$F$69","v":0},{"$f":"AA89*Utslippstall!$F$69","v":0},{"$f":"AB89*Utslippstall!$F$69","v":0},{"$f":"AC89*Utslippstall!$F$69","v":0},{"$f":"AD89*Utslippstall!$F$69","v":0},{"$f":"AE89*Utslippstall!$F$69","v":0},{"$f":"AF89*Utslippstall!$F$69","v":0},{"$f":"AG89*Utslippstall!$F$69","v":0},{"$f":"AH89*Utslippstall!$F$69","v":0},{"$f":"AI89*Utslippstall!$F$69","v":0},{"$f":"AJ89*Utslippstall!$F$69","v":0},{"$f":"AK89*Utslippstall!$F$69","v":0},{"$f":"AL89*Utslippstall!$F$69","v":0},{"$f":"AM89*Utslippstall!$F$69","v":0},{"$f":"AN89*Utslippstall!$F$69","v":0},{"$f":"AO89*Utslippstall!$F$69","v":0},{"$f":"AP89*Utslippstall!$F$69","v":0},{"$f":"AQ89*Utslippstall!$F$69","v":0},{"$f":"AR89*Utslippstall!$F$69","v":0},{"$f":"AS89*Utslippstall!$F$69","v":0},{"$f":"AT89*Utslippstall!$F$69","v":0},{"$f":"AU89*Utslippstall!$F$69","v":0},{"$f":"AV89*Utslippstall!$F$69","v":0},{"$f":"AW89*Utslippstall!$F$69","v":0},{"$f":"AX89*Utslippstall!$F$69","v":0},{"$f":"AY89*Utslippstall!$F$69","v":0},{"$f":"AZ89*Utslippstall!$F$69","v":0},{"$f":"BA89*Utslippstall!$F$69","v":0},{"$f":"BB89*Utslippstall!$F$69","v":0},{"$f":"BC89*Utslippstall!$F$69","v":0},{"$f":"BD89*Utslippstall!$F$69","v":0},{"$f":"BE89*Utslippstall!$F$69","v":0}]
[null,null,null,null,"Kombinasjonsmåltid kylling",{"$f":"F90*Utslippstall!F70","v":0},{"$f":"G90*Utslippstall!F70","v":0},{"$f":"H90*Utslippstall!$F$70","v":0},{"$f":"I90*Utslippstall!$F$70","v":0},{"$f":"J90*Utslippstall!$F$70","v":0},{"$f":"K90*Utslippstall!$F$70","v":0},{"$f":"L90*Utslippstall!$F$70","v":0},{"$f":"M90*Utslippstall!$F$70","v":0},{"$f":"N90*Utslippstall!$F$70","v":0},{"$f":"O90*Utslippstall!$F$70","v":0},{"$f":"P90*Utslippstall!$F$70","v":0},{"$f":"Q90*Utslippstall!$F$70","v":0},{"$f":"R90*Utslippstall!$F$70","v":0},{"$f":"S90*Utslippstall!$F$70","v":0},{"$f":"T90*Utslippstall!$F$70","v":0},{"$f":"U90*Utslippstall!$F$70","v":0},{"$f":"V90*Utslippstall!$F$70","v":0},{"$f":"W90*Utslippstall!$F$70","v":0},{"$f":"X90*Utslippstall!$F$70","v":0},{"$f":"Y90*Utslippstall!$F$70","v":0},{"$f":"Z90*Utslippstall!$F$70","v":0},{"$f":"AA90*Utslippstall!$F$70","v":0},{"$f":"AB90*Utslippstall!$F$70","v":0},{"$f":"AC90*Utslippstall!$F$70","v":0},{"$f":"AD90*Utslippstall!$F$70","v":0},{"$f":"AE90*Utslippstall!$F$70","v":0},{"$f":"AF90*Utslippstall!$F$70","v":0},{"$f":"AG90*Utslippstall!$F$70","v":0},{"$f":"AH90*Utslippstall!$F$70","v":0},{"$f":"AI90*Utslippstall!$F$70","v":0},{"$f":"AJ90*Utslippstall!$F$70","v":0},{"$f":"AK90*Utslippstall!$F$70","v":0},{"$f":"AL90*Utslippstall!$F$70","v":0},{"$f":"AM90*Utslippstall!$F$70","v":0},{"$f":"AN90*Utslippstall!$F$70","v":0},{"$f":"AO90*Utslippstall!$F$70","v":0},{"$f":"AP90*Utslippstall!$F$70","v":0},{"$f":"AQ90*Utslippstall!$F$70","v":0},{"$f":"AR90*Utslippstall!$F$70","v":0},{"$f":"AS90*Utslippstall!$F$70","v":0},{"$f":"AT90*Utslippstall!$F$70","v":0},{"$f":"AU90*Utslippstall!$F$70","v":0},{"$f":"AV90*Utslippstall!$F$70","v":0},{"$f":"AW90*Utslippstall!$F$70","v":0},{"$f":"AX90*Utslippstall!$F$70","v":0},{"$f":"AY90*Utslippstall!$F$70","v":0},{"$f":"AZ90*Utslippstall!$F$70","v":0},{"$f":"BA90*Utslippstall!$F$70","v":0},{"$f":"BB90*Utslippstall!$F$70","v":0},{"$f":"BC90*Utslippstall!$F$70","v":0},{"$f":"BD90*Utslippstall!$F$70","v":0},{"$f":"BE90*Utslippstall!$F$70","v":0}]
[null,null,null,null,"Kombinasjonsmåltid fisk",{"$f":"F91*Utslippstall!F71","v":0},{"$f":"G91*Utslippstall!F71","v":0},{"$f":"H91*Utslippstall!$F$71","v":0},{"$f":"I91*Utslippstall!$F$71","v":0},{"$f":"J91*Utslippstall!$F$71","v":0},{"$f":"K91*Utslippstall!$F$71","v":0},{"$f":"L91*Utslippstall!$F$71","v":0},{"$f":"M91*Utslippstall!$F$71","v":0},{"$f":"N91*Utslippstall!$F$71","v":0},{"$f":"O91*Utslippstall!$F$71","v":0},{"$f":"P91*Utslippstall!$F$71","v":0},{"$f":"Q91*Utslippstall!$F$71","v":0},{"$f":"R91*Utslippstall!$F$71","v":0},{"$f":"S91*Utslippstall!$F$71","v":0},{"$f":"T91*Utslippstall!$F$71","v":0},{"$f":"U91*Utslippstall!$F$71","v":0},{"$f":"V91*Utslippstall!$F$71","v":0},{"$f":"W91*Utslippstall!$F$71","v":0},{"$f":"X91*Utslippstall!$F$71","v":0},{"$f":"Y91*Utslippstall!$F$71","v":0},{"$f":"Z91*Utslippstall!$F$71","v":0},{"$f":"AA91*Utslippstall!$F$71","v":0},{"$f":"AB91*Utslippstall!$F$71","v":0},{"$f":"AC91*Utslippstall!$F$71","v":0},{"$f":"AD91*Utslippstall!$F$71","v":0},{"$f":"AE91*Utslippstall!$F$71","v":0},{"$f":"AF91*Utslippstall!$F$71","v":0},{"$f":"AG91*Utslippstall!$F$71","v":0},{"$f":"AH91*Utslippstall!$F$71","v":0},{"$f":"AI91*Utslippstall!$F$71","v":0},{"$f":"AJ91*Utslippstall!$F$71","v":0},{"$f":"AK91*Utslippstall!$F$71","v":0},{"$f":"AL91*Utslippstall!$F$71","v":0},{"$f":"AM91*Utslippstall!$F$71","v":0},{"$f":"AN91*Utslippstall!$F$71","v":0},{"$f":"AO91*Utslippstall!$F$71","v":0},{"$f":"AP91*Utslippstall!$F$71","v":0},{"$f":"AQ91*Utslippstall!$F$71","v":0},{"$f":"AR91*Utslippstall!$F$71","v":0},{"$f":"AS91*Utslippstall!$F$71","v":0},{"$f":"AT91*Utslippstall!$F$71","v":0},{"$f":"AU91*Utslippstall!$F$71","v":0},{"$f":"AV91*Utslippstall!$F$71","v":0},{"$f":"AW91*Utslippstall!$F$71","v":0},{"$f":"AX91*Utslippstall!$F$71","v":0},{"$f":"AY91*Utslippstall!$F$71","v":0},{"$f":"AZ91*Utslippstall!$F$71","v":0},{"$f":"BA91*Utslippstall!$F$71","v":0},{"$f":"BB91*Utslippstall!$F$71","v":0},{"$f":"BC91*Utslippstall!$F$71","v":0},{"$f":"BD91*Utslippstall!$F$71","v":0},{"$f":"BE91*Utslippstall!$F$71","v":0}]
[null,null,null,null,"Kombinasjonsmåltid vegetar",{"$f":"F92*Utslippstall!F72","v":0},{"$f":"G92*Utslippstall!F72","v":0},{"$f":"H92*Utslippstall!$F$72","v":0},{"$f":"I92*Utslippstall!$F$72","v":0},{"$f":"J92*Utslippstall!$F$72","v":0},{"$f":"K92*Utslippstall!$F$72","v":0},{"$f":"L92*Utslippstall!$F$72","v":0},{"$f":"M92*Utslippstall!$F$72","v":0},{"$f":"N92*Utslippstall!$F$72","v":0},{"$f":"O92*Utslippstall!$F$72","v":0},{"$f":"P92*Utslippstall!$F$72","v":0},{"$f":"Q92*Utslippstall!$F$72","v":0},{"$f":"R92*Utslippstall!$F$72","v":0},{"$f":"S92*Utslippstall!$F$72","v":0},{"$f":"T92*Utslippstall!$F$72","v":0},{"$f":"U92*Utslippstall!$F$72","v":0},{"$f":"V92*Utslippstall!$F$72","v":0},{"$f":"W92*Utslippstall!$F$72","v":0},{"$f":"X92*Utslippstall!$F$72","v":0},{"$f":"Y92*Utslippstall!$F$72","v":0},{"$f":"Z92*Utslippstall!$F$72","v":0},{"$f":"AA92*Utslippstall!$F$72","v":0},{"$f":"AB92*Utslippstall!$F$72","v":0},{"$f":"AC92*Utslippstall!$F$72","v":0},{"$f":"AD92*Utslippstall!$F$72","v":0},{"$f":"AE92*Utslippstall!$F$72","v":0},{"$f":"AF92*Utslippstall!$F$72","v":0},{"$f":"AG92*Utslippstall!$F$72","v":0},{"$f":"AH92*Utslippstall!$F$72","v":0},{"$f":"AI92*Utslippstall!$F$72","v":0},{"$f":"AJ92*Utslippstall!$F$72","v":0},{"$f":"AK92*Utslippstall!$F$72","v":0},{"$f":"AL92*Utslippstall!$F$72","v":0},{"$f":"AM92*Utslippstall!$F$72","v":0},{"$f":"AN92*Utslippstall!$F$72","v":0},{"$f":"AO92*Utslippstall!$F$72","v":0},{"$f":"AP92*Utslippstall!$F$72","v":0},{"$f":"AQ92*Utslippstall!$F$72","v":0},{"$f":"AR92*Utslippstall!$F$72","v":0},{"$f":"AS92*Utslippstall!$F$72","v":0},{"$f":"AT92*Utslippstall!$F$72","v":0},{"$f":"AU92*Utslippstall!$F$72","v":0},{"$f":"AV92*Utslippstall!$F$72","v":0},{"$f":"AW92*Utslippstall!$F$72","v":0},{"$f":"AX92*Utslippstall!$F$72","v":0},{"$f":"AY92*Utslippstall!$F$72","v":0},{"$f":"AZ92*Utslippstall!$F$72","v":0},{"$f":"BA92*Utslippstall!$F$72","v":0},{"$f":"BB92*Utslippstall!$F$72","v":0},{"$f":"BC92*Utslippstall!$F$72","v":0},{"$f":"BD92*Utslippstall!$F$72","v":0},{"$f":"BE92*Utslippstall!$F$72","v":0}]
[null,null,null,null,"Sandwicher",{"$f":"SUM(F199:F208)","v":0},{"$f":"SUM(G199:G208)","v":0},0,{"$f":"SUM(I199:I208)","v":0},0,0,0,0,0,0,0,0,0,0,0,0,0,0,0,0,0,0,0,0,0,0,0,0,0,0,0,0,0,0,0,0,0,0,0,0,0,0,0,0,0,0,0,0,0,0,0,0]
[null,null,null,null,"Sandwich storfe",{"$f":"F94*Utslippstall!F74","v":0},{"$f":"G94*Utslippstall!F74","v":0},{"$f":"H94*Utslippstall!$F$74","v":0},{"$f":"I94*Utslippstall!$F$74","v":0},{"$f":"J94*Utslippstall!$F$74","v":0},{"$f":"K94*Utslippstall!$F$74","v":0},{"$f":"L94*Utslippstall!$F$74","v":0},{"$f":"M94*Utslippstall!$F$74","v":0},{"$f":"N94*Utslippstall!$F$74","v":0},{"$f":"O94*Utslippstall!$F$74","v":0},{"$f":"P94*Utslippstall!$F$74","v":0},{"$f":"Q94*Utslippstall!$F$74","v":0},{"$f":"R94*Utslippstall!$F$74","v":0},{"$f":"S94*Utslippstall!$F$74","v":0},{"$f":"T94*Utslippstall!$F$74","v":0},{"$f":"U94*Utslippstall!$F$74","v":0},{"$f":"V94*Utslippstall!$F$74","v":0},{"$f":"W94*Utslippstall!$F$74","v":0},{"$f":"X94*Utslippstall!$F$74","v":0},{"$f":"Y94*Utslippstall!$F$74","v":0},{"$f":"Z94*Utslippstall!$F$74","v":0},{"$f":"AA94*Utslippstall!$F$74","v":0},{"$f":"AB94*Utslippstall!$F$74","v":0},{"$f":"AC94*Utslippstall!$F$74","v":0},{"$f":"AD94*Utslippstall!$F$74","v":0},{"$f":"AE94*Utslippstall!$F$74","v":0},{"$f":"AF94*Utslippstall!$F$74","v":0},{"$f":"AG94*Utslippstall!$F$74","v":0},{"$f":"AH94*Utslippstall!$F$74","v":0},{"$f":"AI94*Utslippstall!$F$74","v":0},{"$f":"AJ94*Utslippstall!$F$74","v":0},{"$f":"AK94*Utslippstall!$F$74","v":0},{"$f":"AL94*Utslippstall!$F$74","v":0},{"$f":"AM94*Utslippstall!$F$74","v":0},{"$f":"AN94*Utslippstall!$F$74","v":0},{"$f":"AO94*Utslippstall!$F$74","v":0},{"$f":"AP94*Utslippstall!$F$74","v":0},{"$f":"AQ94*Utslippstall!$F$74","v":0},{"$f":"AR94*Utslippstall!$F$74","v":0},{"$f":"AS94*Utslippstall!$F$74","v":0},{"$f":"AT94*Utslippstall!$F$74","v":0},{"$f":"AU94*Utslippstall!$F$74","v":0},{"$f":"AV94*Utslippstall!$F$74","v":0},{"$f":"AW94*Utslippstall!$F$74","v":0},{"$f":"AX94*Utslippstall!$F$74","v":0},{"$f":"AY94*Utslippstall!$F$74","v":0},{"$f":"AZ94*Utslippstall!$F$74","v":0},{"$f":"BA94*Utslippstall!$F$74","v":0},{"$f":"BB94*Utslippstall!$F$74","v":0},{"$f":"BC94*Utslippstall!$F$74","v":0},{"$f":"BD94*Utslippstall!$F$74","v":0},{"$f":"BE94*Utslippstall!$F$74","v":0}]
[null,null,null,null,"Sandwich ost og skinke",{"$f":"F95*Utslippstall!F75","v":0},{"$f":"G95*Utslippstall!F75","v":0},{"$f":"H95*Utslippstall!$F$75","v":0},{"$f":"I95*Utslippstall!$F$75","v":0},{"$f":"J95*Utslippstall!$F$75","v":0},{"$f":"K95*Utslippstall!$F$75","v":0},{"$f":"L95*Utslippstall!$F$75","v":0},{"$f":"M95*Utslippstall!$F$75","v":0},{"$f":"N95*Utslippstall!$F$75","v":0},{"$f":"O95*Utslippstall!$F$75","v":0},{"$f":"P95*Utslippstall!$F$75","v":0},{"$f":"Q95*Utslippstall!$F$75","v":0},{"$f":"R95*Utslippstall!$F$75","v":0},{"$f":"S95*Utslippstall!$F$75","v":0},{"$f":"T95*Utslippstall!$F$75","v":0},{"$f":"U95*Utslippstall!$F$75","v":0},{"$f":"V95*Utslippstall!$F$75","v":0},{"$f":"W95*Utslippstall!$F$75","v":0},{"$f":"X95*Utslippstall!$F$75","v":0},{"$f":"Y95*Utslippstall!$F$75","v":0},{"$f":"Z95*Utslippstall!$F$75","v":0},{"$f":"AA95*Utslippstall!$F$75","v":0},{"$f":"AB95*Utslippstall!$F$75","v":0},{"$f":"AC95*Utslippstall!$F$75","v":0},{"$f":"AD95*Utslippstall!$F$75","v":0},{"$f":"AE95*Utslippstall!$F$75","v":0},{"$f":"AF95*Utslippstall!$F$75","v":0},{"$f":"AG95*Utslippstall!$F$75","v":0},{"$f":"AH95*Utslippstall!$F$75","v":0},{"$f":"AI95*Utslippstall!$F$75","v":0},{"$f":"AJ95*Utslippstall!$F$75","v":0},{"$f":"AK95*Utslippstall!$F$75","v":0},{"$f":"AL95*Utslippstall!$F$75","v":0},{"$f":"AM95*Utslippstall!$F$75","v":0},{"$f":"AN95*Utslippstall!$F$75","v":0},{"$f":"AO95*Utslippstall!$F$75","v":0},{"$f":"AP95*Utslippstall!$F$75","v":0},{"$f":"AQ95*Utslippstall!$F$75","v":0},{"$f":"AR95*Utslippstall!$F$75","v":0},{"$f":"AS95*Utslippstall!$F$75","v":0},{"$f":"AT95*Utslippstall!$F$75","v":0},{"$f":"AU95*Utslippstall!$F$75","v":0},{"$f":"AV95*Utslippstall!$F$75","v":0},{"$f":"AW95*Utslippstall!$F$75","v":0},{"$f":"AX95*Utslippstall!$F$75","v":0},{"$f":"AY95*Utslippstall!$F$75","v":0},{"$f":"AZ95*Utslippstall!$F$75","v":0},{"$f":"BA95*Utslippstall!$F$75","v":0},{"$f":"BB95*Utslippstall!$F$75","v":0},{"$f":"BC95*Utslippstall!$F$75","v":0},{"$f":"BD95*Utslippstall!$F$75","v":0},{"$f":"BE95*Utslippstall!$F$75","v":0}]
[null,null,null,null,"Sandwich ukjent",{"$f":"F96*Utslippstall!F76","v":0},{"$f":"G96*Utslippstall!F76","v":0},{"$f":"H96*Utslippstall!$F$76","v":0},{"$f":"I96*Utslippstall!$F$76","v":0},{"$f":"J96*Utslippstall!$F$76","v":0},{"$f":"K96*Utslippstall!$F$76","v":0},{"$f":"L96*Utslippstall!$F$76","v":0},{"$f":"M96*Utslippstall!$F$76","v":0},{"$f":"N96*Utslippstall!$F$76","v":0},{"$f":"O96*Utslippstall!$F$76","v":0},{"$f":"P96*Utslippstall!$F$76","v":0},{"$f":"Q96*Utslippstall!$F$76","v":0},{"$f":"R96*Utslippstall!$F$76","v":0},{"$f":"S96*Utslippstall!$F$76","v":0},{"$f":"T96*Utslippstall!$F$76","v":0},{"$f":"U96*Utslippstall!$F$76","v":0},{"$f":"V96*Utslippstall!$F$76","v":0},{"$f":"W96*Utslippstall!$F$76","v":0},{"$f":"X96*Utslippstall!$F$76","v":0},{"$f":"Y96*Utslippstall!$F$76","v":0},{"$f":"Z96*Utslippstall!$F$76","v":0},{"$f":"AA96*Utslippstall!$F$76","v":0},{"$f":"AB96*Utslippstall!$F$76","v":0},{"$f":"AC96*Utslippstall!$F$76","v":0},{"$f":"AD96*Utslippstall!$F$76","v":0},{"$f":"AE96*Utslippstall!$F$76","v":0},{"$f":"AF96*Utslippstall!$F$76","v":0},{"$f":"AG96*Utslippstall!$F$76","v":0},{"$f":"AH96*Utslippstall!$F$76","v":0},{"$f":"AI96*Utslippstall!$F$76","v":0},{"$f":"AJ96*Utslippstall!$F$76","v":0},{"$f":"AK96*Utslippstall!$F$76","v":0},{"$f":"AL96*Utslippstall!$F$76","v":0},{"$f":"AM96*Utslippstall!$F$76","v":0},{"$f":"AN96*Utslippstall!$F$76","v":0},{"$f":"AO96*Utslippstall!$F$76","v":0},{"$f":"AP96*Utslippstall!$F$76","v":0},{"$f":"AQ96*Utslippstall!$F$76","v":0},{"$f":"AR96*Utslippstall!$F$76","v":0},{"$f":"AS96*Utslippstall!$F$76","v":0},{"$f":"AT96*Utslippstall!$F$76","v":0},{"$f":"AU96*Utslippstall!$F$76","v":0},{"$f":"AV96*Utslippstall!$F$76","v":0},{"$f":"AW96*Utslippstall!$F$76","v":0},{"$f":"AX96*Utslippstall!$F$76","v":0},{"$f":"AY96*Utslippstall!$F$76","v":0},{"$f":"AZ96*Utslippstall!$F$76","v":0},{"$f":"BA96*Utslippstall!$F$76","v":0},{"$f":"BB96*Utslippstall!$F$76","v":0},{"$f":"BC96*Utslippstall!$F$76","v":0},{"$f":"BD96*Utslippstall!$F$76","v":0},{"$f":"BE96*Utslippstall!$F$76","v":0}]
[null,null,null,null,"Sandwich ost",{"$f":"F97*Utslippstall!F77","v":0},{"$f":"G97*Utslippstall!F77","v":0},{"$f":"H97*Utslippstall!$F$77","v":0},{"$f":"I97*Utslippstall!$F$77","v":0},{"$f":"J97*Utslippstall!$F$77","v":0},{"$f":"K97*Utslippstall!$F$77","v":0},{"$f":"L97*Utslippstall!$F$77","v":0},{"$f":"M97*Utslippstall!$F$77","v":0},{"$f":"N97*Utslippstall!$F$77","v":0},{"$f":"O97*Utslippstall!$F$77","v":0},{"$f":"P97*Utslippstall!$F$77","v":0},{"$f":"Q97*Utslippstall!$F$77","v":0},{"$f":"R97*Utslippstall!$F$77","v":0},{"$f":"S97*Utslippstall!$F$77","v":0},{"$f":"T97*Utslippstall!$F$77","v":0},{"$f":"U97*Utslippstall!$F$77","v":0},{"$f":"V97*Utslippstall!$F$77","v":0},{"$f":"W97*Utslippstall!$F$77","v":0},{"$f":"X97*Utslippstall!$F$77","v":0},{"$f":"Y97*Utslippstall!$F$77","v":0},{"$f":"Z97*Utslippstall!$F$77","v":0},{"$f":"AA97*Utslippstall!$F$77","v":0},{"$f":"AB97*Utslippstall!$F$77","v":0},{"$f":"AC97*Utslippstall!$F$77","v":0},{"$f":"AD97*Utslippstall!$F$77","v":0},{"$f":"AE97*Utslippstall!$F$77","v":0},{"$f":"AF97*Utslippstall!$F$77","v":0},{"$f":"AG97*Utslippstall!$F$77","v":0},{"$f":"AH97*Utslippstall!$F$77","v":0},{"$f":"AI97*Utslippstall!$F$77","v":0},{"$f":"AJ97*Utslippstall!$F$77","v":0},{"$f":"AK97*Utslippstall!$F$77","v":0},{"$f":"AL97*Utslippstall!$F$77","v":0},{"$f":"AM97*Utslippstall!$F$77","v":0},{"$f":"AN97*Utslippstall!$F$77","v":0},{"$f":"AO97*Utslippstall!$F$77","v":0},{"$f":"AP97*Utslippstall!$F$77","v":0},{"$f":"AQ97*Utslippstall!$F$77","v":0},{"$f":"AR97*Utslippstall!$F$77","v":0},{"$f":"AS97*Utslippstall!$F$77","v":0},{"$f":"AT97*Utslippstall!$F$77","v":0},{"$f":"AU97*Utslippstall!$F$77","v":0},{"$f":"AV97*Utslippstall!$F$77","v":0},{"$f":"AW97*Utslippstall!$F$77","v":0},{"$f":"AX97*Utslippstall!$F$77","v":0},{"$f":"AY97*Utslippstall!$F$77","v":0},{"$f":"AZ97*Utslippstall!$F$77","v":0},{"$f":"BA97*Utslippstall!$F$77","v":0},{"$f":"BB97*Utslippstall!$F$77","v":0},{"$f":"BC97*Utslippstall!$F$77","v":0},{"$f":"BD97*Utslippstall!$F$77","v":0},{"$f":"BE97*Utslippstall!$F$77","v":0}]
[null,null,null,null,"Sandwich svin",{"$f":"F98*Utslippstall!F78","v":0},{"$f":"G98*Utslippstall!F78","v":0},{"$f":"H98*Utslippstall!$F$78","v":0},{"$f":"I98*Utslippstall!$F$78","v":0},{"$f":"J98*Utslippstall!$F$78","v":0},{"$f":"K98*Utslippstall!$F$78","v":0},{"$f":"L98*Utslippstall!$F$78","v":0},{"$f":"M98*Utslippstall!$F$78","v":0},{"$f":"N98*Utslippstall!$F$78","v":0},{"$f":"O98*Utslippstall!$F$78","v":0},{"$f":"P98*Utslippstall!$F$78","v":0},{"$f":"Q98*Utslippstall!$F$78","v":0},{"$f":"R98*Utslippstall!$F$78","v":0},{"$f":"S98*Utslippstall!$F$78","v":0},{"$f":"T98*Utslippstall!$F$78","v":0},{"$f":"U98*Utslippstall!$F$78","v":0},{"$f":"V98*Utslippstall!$F$78","v":0},{"$f":"W98*Utslippstall!$F$78","v":0},{"$f":"X98*Utslippstall!$F$78","v":0},{"$f":"Y98*Utslippstall!$F$78","v":0},{"$f":"Z98*Utslippstall!$F$78","v":0},{"$f":"AA98*Utslippstall!$F$78","v":0},{"$f":"AB98*Utslippstall!$F$78","v":0},{"$f":"AC98*Utslippstall!$F$78","v":0},{"$f":"AD98*Utslippstall!$F$78","v":0},{"$f":"AE98*Utslippstall!$F$78","v":0},{"$f":"AF98*Utslippstall!$F$78","v":0},{"$f":"AG98*Utslippstall!$F$78","v":0},{"$f":"AH98*Utslippstall!$F$78","v":0},{"$f":"AI98*Utslippstall!$F$78","v":0},{"$f":"AJ98*Utslippstall!$F$78","v":0},{"$f":"AK98*Utslippstall!$F$78","v":0},{"$f":"AL98*Utslippstall!$F$78","v":0},{"$f":"AM98*Utslippstall!$F$78","v":0},{"$f":"AN98*Utslippstall!$F$78","v":0},{"$f":"AO98*Utslippstall!$F$78","v":0},{"$f":"AP98*Utslippstall!$F$78","v":0},{"$f":"AQ98*Utslippstall!$F$78","v":0},{"$f":"AR98*Utslippstall!$F$78","v":0},{"$f":"AS98*Utslippstall!$F$78","v":0},{"$f":"AT98*Utslippstall!$F$78","v":0},{"$f":"AU98*Utslippstall!$F$78","v":0},{"$f":"AV98*Utslippstall!$F$78","v":0},{"$f":"AW98*Utslippstall!$F$78","v":0},{"$f":"AX98*Utslippstall!$F$78","v":0},{"$f":"AY98*Utslippstall!$F$78","v":0},{"$f":"AZ98*Utslippstall!$F$78","v":0},{"$f":"BA98*Utslippstall!$F$78","v":0},{"$f":"BB98*Utslippstall!$F$78","v":0},{"$f":"BC98*Utslippstall!$F$78","v":0},{"$f":"BD98*Utslippstall!$F$78","v":0},{"$f":"BE98*Utslippstall!$F$78","v":0}]
[null,null,null,null,"Sandwich kylling",{"$f":"F99*Utslippstall!F79","v":0},{"$f":"G99*Utslippstall!F79","v":0},{"$f":"H99*Utslippstall!$F$79","v":0},{"$f":"I99*Utslippstall!$F$79","v":0},{"$f":"J99*Utslippstall!$F$79","v":0},{"$f":"K99*Utslippstall!$F$79","v":0},{"$f":"L99*Utslippstall!$F$79","v":0},{"$f":"M99*Utslippstall!$F$79","v":0},{"$f":"N99*Utslippstall!$F$79","v":0},{"$f":"O99*Utslippstall!$F$79","v":0},{"$f":"P99*Utslippstall!$F$79","v":0},{"$f":"Q99*Utslippstall!$F$79","v":0},{"$f":"R99*Utslippstall!$F$79","v":0},{"$f":"S99*Utslippstall!$F$79","v":0},{"$f":"T99*Utslippstall!$F$79","v":0},{"$f":"U99*Utslippstall!$F$79","v":0},{"$f":"V99*Utslippstall!$F$79","v":0},{"$f":"W99*Utslippstall!$F$79","v":0},{"$f":"X99*Utslippstall!$F$79","v":0},{"$f":"Y99*Utslippstall!$F$79","v":0},{"$f":"Z99*Utslippstall!$F$79","v":0},{"$f":"AA99*Utslippstall!$F$79","v":0},{"$f":"AB99*Utslippstall!$F$79","v":0},{"$f":"AC99*Utslippstall!$F$79","v":0},{"$f":"AD99*Utslippstall!$F$79","v":0},{"$f":"AE99*Utslippstall!$F$79","v":0},{"$f":"AF99*Utslippstall!$F$79","v":0},{"$f":"AG99*Utslippstall!$F$79","v":0},{"$f":"AH99*Utslippstall!$F$79","v":0},{"$f":"AI99*Utslippstall!$F$79","v":0},{"$f":"AJ99*Utslippstall!$F$79","v":0},{"$f":"AK99*Utslippstall!$F$79","v":0},{"$f":"AL99*Utslippstall!$F$79","v":0},{"$f":"AM99*Utslippstall!$F$79","v":0},{"$f":"AN99*Utslippstall!$F$79","v":0},{"$f":"AO99*Utslippstall!$F$79","v":0},{"$f":"AP99*Utslippstall!$F$79","v":0},{"$f":"AQ99*Utslippstall!$F$79","v":0},{"$f":"AR99*Utslippstall!$F$79","v":0},{"$f":"AS99*Utslippstall!$F$79","v":0},{"$f":"AT99*Utslippstall!$F$79","v":0},{"$f":"AU99*Utslippstall!$F$79","v":0},{"$f":"AV99*Utslippstall!$F$79","v":0},{"$f":"AW99*Utslippstall!$F$79","v":0},{"$f":"AX99*Utslippstall!$F$79","v":0},{"$f":"AY99*Utslippstall!$F$79","v":0},{"$f":"AZ99*Utslippstall!$F$79","v":0},{"$f":"BA99*Utslippstall!$F$79","v":0},{"$f":"BB99*Utslippstall!$F$79","v":0},{"$f":"BC99*Utslippstall!$F$79","v":0},{"$f":"BD99*Utslippstall!$F$79","v":0},{"$f":"BE99*Utslippstall!$F$79","v":0}]
[null,null,null,null,"Sandwich reker",{"$f":"F100*Utslippstall!F80","v":0},{"$f":"G100*Utslippstall!F80","v":0},{"$f":"H100*Utslippstall!$F$80","v":0},{"$f":"I100*Utslippstall!$F$80","v":0},{"$f":"J100*Utslippstall!$F$80","v":0},{"$f":"K100*Utslippstall!$F$80","v":0},{"$f":"L100*Utslippstall!$F$80","v":0},{"$f":"M100*Utslippstall!$F$80","v":0},{"$f":"N100*Utslippstall!$F$80","v":0},{"$f":"O100*Utslippstall!$F$80","v":0},{"$f":"P100*Utslippstall!$F$80","v":0},{"$f":"Q100*Utslippstall!$F$80","v":0},{"$f":"R100*Utslippstall!$F$80","v":0},{"$f":"S100*Utslippstall!$F$80","v":0},{"$f":"T100*Utslippstall!$F$80","v":0},{"$f":"U100*Utslippstall!$F$80","v":0},{"$f":"V100*Utslippstall!$F$80","v":0},{"$f":"W100*Utslippstall!$F$80","v":0},{"$f":"X100*Utslippstall!$F$80","v":0},{"$f":"Y100*Utslippstall!$F$80","v":0},{"$f":"Z100*Utslippstall!$F$80","v":0},{"$f":"AA100*Utslippstall!$F$80","v":0},{"$f":"AB100*Utslippstall!$F$80","v":0},{"$f":"AC100*Utslippstall!$F$80","v":0},{"$f":"AD100*Utslippstall!$F$80","v":0},{"$f":"AE100*Utslippstall!$F$80","v":0},{"$f":"AF100*Utslippstall!$F$80","v":0},{"$f":"AG100*Utslippstall!$F$80","v":0},{"$f":"AH100*Utslippstall!$F$80","v":0},{"$f":"AI100*Utslippstall!$F$80","v":0},{"$f":"AJ100*Utslippstall!$F$80","v":0},{"$f":"AK100*Utslippstall!$F$80","v":0},{"$f":"AL100*Utslippstall!$F$80","v":0},{"$f":"AM100*Utslippstall!$F$80","v":0},{"$f":"AN100*Utslippstall!$F$80","v":0},{"$f":"AO100*Utslippstall!$F$80","v":0},{"$f":"AP100*Utslippstall!$F$80","v":0},{"$f":"AQ100*Utslippstall!$F$80","v":0},{"$f":"AR100*Utslippstall!$F$80","v":0},{"$f":"AS100*Utslippstall!$F$80","v":0},{"$f":"AT100*Utslippstall!$F$80","v":0},{"$f":"AU100*Utslippstall!$F$80","v":0},{"$f":"AV100*Utslippstall!$F$80","v":0},{"$f":"AW100*Utslippstall!$F$80","v":0},{"$f":"AX100*Utslippstall!$F$80","v":0},{"$f":"AY100*Utslippstall!$F$80","v":0},{"$f":"AZ100*Utslippstall!$F$80","v":0},{"$f":"BA100*Utslippstall!$F$80","v":0},{"$f":"BB100*Utslippstall!$F$80","v":0},{"$f":"BC100*Utslippstall!$F$80","v":0},{"$f":"BD100*Utslippstall!$F$80","v":0},{"$f":"BE100*Utslippstall!$F$80","v":0}]
[null,null,null,null,"Sandwich egg",{"$f":"F101*Utslippstall!F81","v":0},{"$f":"G101*Utslippstall!F81","v":0},{"$f":"H101*Utslippstall!$F$81","v":0},{"$f":"I101*Utslippstall!$F$81","v":0},{"$f":"J101*Utslippstall!$F$81","v":0},{"$f":"K101*Utslippstall!$F$81","v":0},{"$f":"L101*Utslippstall!$F$81","v":0},{"$f":"M101*Utslippstall!$F$81","v":0},{"$f":"N101*Utslippstall!$F$81","v":0},{"$f":"O101*Utslippstall!$F$81","v":0},{"$f":"P101*Utslippstall!$F$81","v":0},{"$f":"Q101*Utslippstall!$F$81","v":0},{"$f":"R101*Utslippstall!$F$81","v":0},{"$f":"S101*Utslippstall!$F$81","v":0},{"$f":"T101*Utslippstall!$F$81","v":0},{"$f":"U101*Utslippstall!$F$81","v":0},{"$f":"V101*Utslippstall!$F$81","v":0},{"$f":"W101*Utslippstall!$F$81","v":0},{"$f":"X101*Utslippstall!$F$81","v":0},{"$f":"Y101*Utslippstall!$F$81","v":0},{"$f":"Z101*Utslippstall!$F$81","v":0},{"$f":"AA101*Utslippstall!$F$81","v":0},{"$f":"AB101*Utslippstall!$F$81","v":0},{"$f":"AC101*Utslippstall!$F$81","v":0},{"$f":"AD101*Utslippstall!$F$81","v":0},{"$f":"AE101*Utslippstall!$F$81","v":0},{"$f":"AF101*Utslippstall!$F$81","v":0},{"$f":"AG101*Utslippstall!$F$81","v":0},{"$f":"AH101*Utslippstall!$F$81","v":0},{"$f":"AI101*Utslippstall!$F$81","v":0},{"$f":"AJ101*Utslippstall!$F$81","v":0},{"$f":"AK101*Utslippstall!$F$81","v":0},{"$f":"AL101*Utslippstall!$F$81","v":0},{"$f":"AM101*Utslippstall!$F$81","v":0},{"$f":"AN101*Utslippstall!$F$81","v":0},{"$f":"AO101*Utslippstall!$F$81","v":0},{"$f":"AP101*Utslippstall!$F$81","v":0},{"$f":"AQ101*Utslippstall!$F$81","v":0},{"$f":"AR101*Utslippstall!$F$81","v":0},{"$f":"AS101*Utslippstall!$F$81","v":0},{"$f":"AT101*Utslippstall!$F$81","v":0},{"$f":"AU101*Utslippstall!$F$81","v":0},{"$f":"AV101*Utslippstall!$F$81","v":0},{"$f":"AW101*Utslippstall!$F$81","v":0},{"$f":"AX101*Utslippstall!$F$81","v":0},{"$f":"AY101*Utslippstall!$F$81","v":0},{"$f":"AZ101*Utslippstall!$F$81","v":0},{"$f":"BA101*Utslippstall!$F$81","v":0},{"$f":"BB101*Utslippstall!$F$81","v":0},{"$f":"BC101*Utslippstall!$F$81","v":0},{"$f":"BD101*Utslippstall!$F$81","v":0},{"$f":"BE101*Utslippstall!$F$81","v":0}]
[null,null,null,null,"Sandwich fisk",{"$f":"F102*Utslippstall!F82","v":0},{"$f":"G102*Utslippstall!F82","v":0},{"$f":"H102*Utslippstall!$F$82","v":0},{"$f":"I102*Utslippstall!$F$82","v":0},{"$f":"J102*Utslippstall!$F$82","v":0},{"$f":"K102*Utslippstall!$F$82","v":0},{"$f":"L102*Utslippstall!$F$82","v":0},{"$f":"M102*Utslippstall!$F$82","v":0},{"$f":"N102*Utslippstall!$F$82","v":0},{"$f":"O102*Utslippstall!$F$82","v":0},{"$f":"P102*Utslippstall!$F$82","v":0},{"$f":"Q102*Utslippstall!$F$82","v":0},{"$f":"R102*Utslippstall!$F$82","v":0},{"$f":"S102*Utslippstall!$F$82","v":0},{"$f":"T102*Utslippstall!$F$82","v":0},{"$f":"U102*Utslippstall!$F$82","v":0},{"$f":"V102*Utslippstall!$F$82","v":0},{"$f":"W102*Utslippstall!$F$82","v":0},{"$f":"X102*Utslippstall!$F$82","v":0},{"$f":"Y102*Utslippstall!$F$82","v":0},{"$f":"Z102*Utslippstall!$F$82","v":0},{"$f":"AA102*Utslippstall!$F$82","v":0},{"$f":"AB102*Utslippstall!$F$82","v":0},{"$f":"AC102*Utslippstall!$F$82","v":0},{"$f":"AD102*Utslippstall!$F$82","v":0},{"$f":"AE102*Utslippstall!$F$82","v":0},{"$f":"AF102*Utslippstall!$F$82","v":0},{"$f":"AG102*Utslippstall!$F$82","v":0},{"$f":"AH102*Utslippstall!$F$82","v":0},{"$f":"AI102*Utslippstall!$F$82","v":0},{"$f":"AJ102*Utslippstall!$F$82","v":0},{"$f":"AK102*Utslippstall!$F$82","v":0},{"$f":"AL102*Utslippstall!$F$82","v":0},{"$f":"AM102*Utslippstall!$F$82","v":0},{"$f":"AN102*Utslippstall!$F$82","v":0},{"$f":"AO102*Utslippstall!$F$82","v":0},{"$f":"AP102*Utslippstall!$F$82","v":0},{"$f":"AQ102*Utslippstall!$F$82","v":0},{"$f":"AR102*Utslippstall!$F$82","v":0},{"$f":"AS102*Utslippstall!$F$82","v":0},{"$f":"AT102*Utslippstall!$F$82","v":0},{"$f":"AU102*Utslippstall!$F$82","v":0},{"$f":"AV102*Utslippstall!$F$82","v":0},{"$f":"AW102*Utslippstall!$F$82","v":0},{"$f":"AX102*Utslippstall!$F$82","v":0},{"$f":"AY102*Utslippstall!$F$82","v":0},{"$f":"AZ102*Utslippstall!$F$82","v":0},{"$f":"BA102*Utslippstall!$F$82","v":0},{"$f":"BB102*Utslippstall!$F$82","v":0},{"$f":"BC102*Utslippstall!$F$82","v":0},{"$f":"BD102*Utslippstall!$F$82","v":0},{"$f":"BE102*Utslippstall!$F$82","v":0}]
[null,null,null,null,"Sandwich vegetar",{"$f":"F103*Utslippstall!F83","v":0},{"$f":"G103*Utslippstall!F83","v":0},{"$f":"H103*Utslippstall!$F$83","v":0},{"$f":"I103*Utslippstall!$F$83","v":0},{"$f":"J103*Utslippstall!$F$83","v":0},{"$f":"K103*Utslippstall!$F$83","v":0},{"$f":"L103*Utslippstall!$F$83","v":0},{"$f":"M103*Utslippstall!$F$83","v":0},{"$f":"N103*Utslippstall!$F$83","v":0},{"$f":"O103*Utslippstall!$F$83","v":0},{"$f":"P103*Utslippstall!$F$83","v":0},{"$f":"Q103*Utslippstall!$F$83","v":0},{"$f":"R103*Utslippstall!$F$83","v":0},{"$f":"S103*Utslippstall!$F$83","v":0},{"$f":"T103*Utslippstall!$F$83","v":0},{"$f":"U103*Utslippstall!$F$83","v":0},{"$f":"V103*Utslippstall!$F$83","v":0},{"$f":"W103*Utslippstall!$F$83","v":0},{"$f":"X103*Utslippstall!$F$83","v":0},{"$f":"Y103*Utslippstall!$F$83","v":0},{"$f":"Z103*Utslippstall!$F$83","v":0},{"$f":"AA103*Utslippstall!$F$83","v":0},{"$f":"AB103*Utslippstall!$F$83","v":0},{"$f":"AC103*Utslippstall!$F$83","v":0},{"$f":"AD103*Utslippstall!$F$83","v":0},{"$f":"AE103*Utslippstall!$F$83","v":0},{"$f":"AF103*Utslippstall!$F$83","v":0},{"$f":"AG103*Utslippstall!$F$83","v":0},{"$f":"AH103*Utslippstall!$F$83","v":0},{"$f":"AI103*Utslippstall!$F$83","v":0},{"$f":"AJ103*Utslippstall!$F$83","v":0},{"$f":"AK103*Utslippstall!$F$83","v":0},{"$f":"AL103*Utslippstall!$F$83","v":0},{"$f":"AM103*Utslippstall!$F$83","v":0},{"$f":"AN103*Utslippstall!$F$83","v":0},{"$f":"AO103*Utslippstall!$F$83","v":0},{"$f":"AP103*Utslippstall!$F$83","v":0},{"$f":"AQ103*Utslippstall!$F$83","v":0},{"$f":"AR103*Utslippstall!$F$83","v":0},{"$f":"AS103*Utslippstall!$F$83","v":0},{"$f":"AT103*Utslippstall!$F$83","v":0},{"$f":"AU103*Utslippstall!$F$83","v":0},{"$f":"AV103*Utslippstall!$F$83","v":0},{"$f":"AW103*Utslippstall!$F$83","v":0},{"$f":"AX103*Utslippstall!$F$83","v":0},{"$f":"AY103*Utslippstall!$F$83","v":0},{"$f":"AZ103*Utslippstall!$F$83","v":0},{"$f":"BA103*Utslippstall!$F$83","v":0},{"$f":"BB103*Utslippstall!$F$83","v":0},{"$f":"BC103*Utslippstall!$F$83","v":0},{"$f":"BD103*Utslippstall!$F$83","v":0},{"$f":"BE103*Utslippstall!$F$83","v":0}]
[null,null,null,null,"Frukt- og nøttepålegg",{"$f":"SUM(F210:F211)","v":0},{"$f":"SUM(G210:G211)","v":0},0,0,{"$f":"SUM(J210:J211)","v":0},0,0,0,0,0,0,0,0,0,0,0,0,0,0,0,0,0,0,0,0,0,0,0,0,0,0,0,0,0,0,0,0,0,0,0,0,0,0,0,0,0,0,0,0,0,0,0]
[null,null,null,null,"Honning",{"$f":"F105*Utslippstall!F85","v":0},{"$f":"G105*Utslippstall!F85","v":0},{"$f":"H105*Utslippstall!F85","v":0},{"$f":"I105*Utslippstall!$F$85","v":0},{"$f":"J105*Utslippstall!$F$85","v":0},{"$f":"K105*Utslippstall!$F$85","v":0},{"$f":"L105*Utslippstall!$F$85","v":0},{"$f":"M105*Utslippstall!$F$85","v":0},{"$f":"N105*Utslippstall!$F$85","v":0},{"$f":"O105*Utslippstall!$F$85","v":0},{"$f":"P105*Utslippstall!$F$85","v":0},{"$f":"Q105*Utslippstall!$F$85","v":0},{"$f":"R105*Utslippstall!$F$85","v":0},{"$f":"S105*Utslippstall!$F$85","v":0},{"$f":"T105*Utslippstall!$F$85","v":0},{"$f":"U105*Utslippstall!$F$85","v":0},{"$f":"V105*Utslippstall!$F$85","v":0},{"$f":"W105*Utslippstall!$F$85","v":0},{"$f":"X105*Utslippstall!$F$85","v":0},{"$f":"Y105*Utslippstall!$F$85","v":0},{"$f":"Z105*Utslippstall!$F$85","v":0},{"$f":"AA105*Utslippstall!$F$85","v":0},{"$f":"AB105*Utslippstall!$F$85","v":0},{"$f":"AC105*Utslippstall!$F$85","v":0},{"$f":"AD105*Utslippstall!$F$85","v":0},{"$f":"AE105*Utslippstall!$F$85","v":0},{"$f":"AF105*Utslippstall!$F$85","v":0},{"$f":"AG105*Utslippstall!$F$85","v":0},{"$f":"AH105*Utslippstall!$F$85","v":0},{"$f":"AI105*Utslippstall!$F$85","v":0},{"$f":"AJ105*Utslippstall!$F$85","v":0},{"$f":"AK105*Utslippstall!$F$85","v":0},{"$f":"AL105*Utslippstall!$F$85","v":0},{"$f":"AM105*Utslippstall!$F$85","v":0},{"$f":"AN105*Utslippstall!$F$85","v":0},{"$f":"AO105*Utslippstall!$F$85","v":0},{"$f":"AP105*Utslippstall!$F$85","v":0},{"$f":"AQ105*Utslippstall!$F$85","v":0},{"$f":"AR105*Utslippstall!$F$85","v":0},{"$f":"AS105*Utslippstall!$F$85","v":0},{"$f":"AT105*Utslippstall!$F$85","v":0},{"$f":"AU105*Utslippstall!$F$85","v":0},{"$f":"AV105*Utslippstall!$F$85","v":0},{"$f":"AW105*Utslippstall!$F$85","v":0},{"$f":"AX105*Utslippstall!$F$85","v":0},{"$f":"AY105*Utslippstall!$F$85","v":0},{"$f":"AZ105*Utslippstall!$F$85","v":0},{"$f":"BA105*Utslippstall!$F$85","v":0},{"$f":"BB105*Utslippstall!$F$85","v":0},{"$f":"BC105*Utslippstall!$F$85","v":0},{"$f":"BD105*Utslippstall!$F$85","v":0},{"$f":"BE105*Utslippstall!$F$85","v":0}]
[null,null,null,null,"Frukt- og nøttepålegg",{"$f":"F106*Utslippstall!F86","v":0},{"$f":"G106*Utslippstall!F86","v":0},{"$f":"H106*Utslippstall!F86","v":0},{"$f":"I106*Utslippstall!$F$86","v":0},{"$f":"J106*Utslippstall!$F$86","v":0},{"$f":"K106*Utslippstall!$F$86","v":0},{"$f":"L106*Utslippstall!$F$86","v":0},{"$f":"M106*Utslippstall!$F$86","v":0},{"$f":"N106*Utslippstall!$F$86","v":0},{"$f":"O106*Utslippstall!$F$86","v":0},{"$f":"P106*Utslippstall!$F$86","v":0},{"$f":"Q106*Utslippstall!$F$86","v":0},{"$f":"R106*Utslippstall!$F$86","v":0},{"$f":"S106*Utslippstall!$F$86","v":0},{"$f":"T106*Utslippstall!$F$86","v":0},{"$f":"U106*Utslippstall!$F$86","v":0},{"$f":"V106*Utslippstall!$F$86","v":0},{"$f":"W106*Utslippstall!$F$86","v":0},{"$f":"X106*Utslippstall!$F$86","v":0},{"$f":"Y106*Utslippstall!$F$86","v":0},{"$f":"Z106*Utslippstall!$F$86","v":0},{"$f":"AA106*Utslippstall!$F$86","v":0},{"$f":"AB106*Utslippstall!$F$86","v":0},{"$f":"AC106*Utslippstall!$F$86","v":0},{"$f":"AD106*Utslippstall!$F$86","v":0},{"$f":"AE106*Utslippstall!$F$86","v":0},{"$f":"AF106*Utslippstall!$F$86","v":0},{"$f":"AG106*Utslippstall!$F$86","v":0},{"$f":"AH106*Utslippstall!$F$86","v":0},{"$f":"AI106*Utslippstall!$F$86","v":0},{"$f":"AJ106*Utslippstall!$F$86","v":0},{"$f":"AK106*Utslippstall!$F$86","v":0},{"$f":"AL106*Utslippstall!$F$86","v":0},{"$f":"AM106*Utslippstall!$F$86","v":0},{"$f":"AN106*Utslippstall!$F$86","v":0},{"$f":"AO106*Utslippstall!$F$86","v":0},{"$f":"AP106*Utslippstall!$F$86","v":0},{"$f":"AQ106*Utslippstall!$F$86","v":0},{"$f":"AR106*Utslippstall!$F$86","v":0},{"$f":"AS106*Utslippstall!$F$86","v":0},{"$f":"AT106*Utslippstall!$F$86","v":0},{"$f":"AU106*Utslippstall!$F$86","v":0},{"$f":"AV106*Utslippstall!$F$86","v":0},{"$f":"AW106*Utslippstall!$F$86","v":0},{"$f":"AX106*Utslippstall!$F$86","v":0},{"$f":"AY106*Utslippstall!$F$86","v":0},{"$f":"AZ106*Utslippstall!$F$86","v":0},{"$f":"BA106*Utslippstall!$F$86","v":0},{"$f":"BB106*Utslippstall!$F$86","v":0},{"$f":"BC106*Utslippstall!$F$86","v":0},{"$f":"BD106*Utslippstall!$F$86","v":0},{"$f":"BE106*Utslippstall!$F$86","v":0}]
[null,null,null,null,"Sauser og supper",{"$f":"SUM(F213:F221)","v":0},{"$f":"SUM(G213:G221)","v":0},0,0,{"$f":"SUM(J213:J221)","v":0},0,0,0,0,0,0,0,0,0,0,0,0,0,0,0,0,0,0,0,0,0,0,0,0,0,0,0,0,0,0,0,0,0,0,0,0,0,0,0,0,0,0,0,0,0,0,0]
[null,null,null,null,"Rømmedressing",{"$f":"F108*Utslippstall!F88","v":0},{"$f":"G108*Utslippstall!F88","v":0},{"$f":"H108*Utslippstall!F88","v":0},{"$f":"I108*Utslippstall!$F$88","v":0},{"$f":"J108*Utslippstall!$F$88","v":0},{"$f":"K108*Utslippstall!$F$88","v":0},{"$f":"L108*Utslippstall!$F$88","v":0},{"$f":"M108*Utslippstall!$F$88","v":0},{"$f":"N108*Utslippstall!$F$88","v":0},{"$f":"O108*Utslippstall!$F$88","v":0},{"$f":"P108*Utslippstall!$F$88","v":0},{"$f":"Q108*Utslippstall!$F$88","v":0},{"$f":"R108*Utslippstall!$F$88","v":0},{"$f":"S108*Utslippstall!$F$88","v":0},{"$f":"T108*Utslippstall!$F$88","v":0},{"$f":"U108*Utslippstall!$F$88","v":0},{"$f":"V108*Utslippstall!$F$88","v":0},{"$f":"W108*Utslippstall!$F$88","v":0},{"$f":"X108*Utslippstall!$F$88","v":0},{"$f":"Y108*Utslippstall!$F$88","v":0},{"$f":"Z108*Utslippstall!$F$88","v":0},{"$f":"AA108*Utslippstall!$F$88","v":0},{"$f":"AB108*Utslippstall!$F$88","v":0},{"$f":"AC108*Utslippstall!$F$88","v":0},{"$f":"AD108*Utslippstall!$F$88","v":0},{"$f":"AE108*Utslippstall!$F$88","v":0},{"$f":"AF108*Utslippstall!$F$88","v":0},{"$f":"AG108*Utslippstall!$F$88","v":0},{"$f":"AH108*Utslippstall!$F$88","v":0},{"$f":"AI108*Utslippstall!$F$88","v":0},{"$f":"AJ108*Utslippstall!$F$88","v":0},{"$f":"AK108*Utslippstall!$F$88","v":0},{"$f":"AL108*Utslippstall!$F$88","v":0},{"$f":"AM108*Utslippstall!$F$88","v":0},{"$f":"AN108*Utslippstall!$F$88","v":0},{"$f":"AO108*Utslippstall!$F$88","v":0},{"$f":"AP108*Utslippstall!$F$88","v":0},{"$f":"AQ108*Utslippstall!$F$88","v":0},{"$f":"AR108*Utslippstall!$F$88","v":0},{"$f":"AS108*Utslippstall!$F$88","v":0},{"$f":"AT108*Utslippstall!$F$88","v":0},{"$f":"AU108*Utslippstall!$F$88","v":0},{"$f":"AV108*Utslippstall!$F$88","v":0},{"$f":"AW108*Utslippstall!$F$88","v":0},{"$f":"AX108*Utslippstall!$F$88","v":0},{"$f":"AY108*Utslippstall!$F$88","v":0},{"$f":"AZ108*Utslippstall!$F$88","v":0},{"$f":"BA108*Utslippstall!$F$88","v":0},{"$f":"BB108*Utslippstall!$F$88","v":0},{"$f":"BC108*Utslippstall!$F$88","v":0},{"$f":"BD108*Utslippstall!$F$88","v":0},{"$f":"BE108*Utslippstall!$F$88","v":0}]
[null,null,null,null,"Dessertsaus",{"$f":"F109*Utslippstall!F89","v":0},{"$f":"G109*Utslippstall!F89","v":0},{"$f":"H109*Utslippstall!F89","v":0},{"$f":"I109*Utslippstall!$F$89","v":0},{"$f":"J109*Utslippstall!$F$89","v":0},{"$f":"K109*Utslippstall!$F$89","v":0},{"$f":"L109*Utslippstall!$F$89","v":0},{"$f":"M109*Utslippstall!$F$89","v":0},{"$f":"N109*Utslippstall!$F$89","v":0},{"$f":"O109*Utslippstall!$F$89","v":0},{"$f":"P109*Utslippstall!$F$89","v":0},{"$f":"Q109*Utslippstall!$F$89","v":0},{"$f":"R109*Utslippstall!$F$89","v":0},{"$f":"S109*Utslippstall!$F$89","v":0},{"$f":"T109*Utslippstall!$F$89","v":0},{"$f":"U109*Utslippstall!$F$89","v":0},{"$f":"V109*Utslippstall!$F$89","v":0},{"$f":"W109*Utslippstall!$F$89","v":0},{"$f":"X109*Utslippstall!$F$89","v":0},{"$f":"Y109*Utslippstall!$F$89","v":0},{"$f":"Z109*Utslippstall!$F$89","v":0},{"$f":"AA109*Utslippstall!$F$89","v":0},{"$f":"AB109*Utslippstall!$F$89","v":0},{"$f":"AC109*Utslippstall!$F$89","v":0},{"$f":"AD109*Utslippstall!$F$89","v":0},{"$f":"AE109*Utslippstall!$F$89","v":0},{"$f":"AF109*Utslippstall!$F$89","v":0},{"$f":"AG109*Utslippstall!$F$89","v":0},{"$f":"AH109*Utslippstall!$F$89","v":0},{"$f":"AI109*Utslippstall!$F$89","v":0},{"$f":"AJ109*Utslippstall!$F$89","v":0},{"$f":"AK109*Utslippstall!$F$89","v":0},{"$f":"AL109*Utslippstall!$F$89","v":0},{"$f":"AM109*Utslippstall!$F$89","v":0},{"$f":"AN109*Utslippstall!$F$89","v":0},{"$f":"AO109*Utslippstall!$F$89","v":0},{"$f":"AP109*Utslippstall!$F$89","v":0},{"$f":"AQ109*Utslippstall!$F$89","v":0},{"$f":"AR109*Utslippstall!$F$89","v":0},{"$f":"AS109*Utslippstall!$F$89","v":0},{"$f":"AT109*Utslippstall!$F$89","v":0},{"$f":"AU109*Utslippstall!$F$89","v":0},{"$f":"AV109*Utslippstall!$F$89","v":0},{"$f":"AW109*Utslippstall!$F$89","v":0},{"$f":"AX109*Utslippstall!$F$89","v":0},{"$f":"AY109*Utslippstall!$F$89","v":0},{"$f":"AZ109*Utslippstall!$F$89","v":0},{"$f":"BA109*Utslippstall!$F$89","v":0},{"$f":"BB109*Utslippstall!$F$89","v":0},{"$f":"BC109*Utslippstall!$F$89","v":0},{"$f":"BD109*Utslippstall!$F$89","v":0},{"$f":"BE109*Utslippstall!$F$89","v":0}]
[null,null,null,null,"Majones",{"$f":"F110*Utslippstall!F90","v":0},{"$f":"G110*Utslippstall!F90","v":0},{"$f":"H110*Utslippstall!F90","v":0},{"$f":"I110*Utslippstall!$F$90","v":0},{"$f":"J110*Utslippstall!$F$90","v":0},{"$f":"K110*Utslippstall!$F$90","v":0},{"$f":"L110*Utslippstall!$F$90","v":0},{"$f":"M110*Utslippstall!$F$90","v":0},{"$f":"N110*Utslippstall!$F$90","v":0},{"$f":"O110*Utslippstall!$F$90","v":0},{"$f":"P110*Utslippstall!$F$90","v":0},{"$f":"Q110*Utslippstall!$F$90","v":0},{"$f":"R110*Utslippstall!$F$90","v":0},{"$f":"S110*Utslippstall!$F$90","v":0},{"$f":"T110*Utslippstall!$F$90","v":0},{"$f":"U110*Utslippstall!$F$90","v":0},{"$f":"V110*Utslippstall!$F$90","v":0},{"$f":"W110*Utslippstall!$F$90","v":0},{"$f":"X110*Utslippstall!$F$90","v":0},{"$f":"Y110*Utslippstall!$F$90","v":0},{"$f":"Z110*Utslippstall!$F$90","v":0},{"$f":"AA110*Utslippstall!$F$90","v":0},{"$f":"AB110*Utslippstall!$F$90","v":0},{"$f":"AC110*Utslippstall!$F$90","v":0},{"$f":"AD110*Utslippstall!$F$90","v":0},{"$f":"AE110*Utslippstall!$F$90","v":0},{"$f":"AF110*Utslippstall!$F$90","v":0},{"$f":"AG110*Utslippstall!$F$90","v":0},{"$f":"AH110*Utslippstall!$F$90","v":0},{"$f":"AI110*Utslippstall!$F$90","v":0},{"$f":"AJ110*Utslippstall!$F$90","v":0},{"$f":"AK110*Utslippstall!$F$90","v":0},{"$f":"AL110*Utslippstall!$F$90","v":0},{"$f":"AM110*Utslippstall!$F$90","v":0},{"$f":"AN110*Utslippstall!$F$90","v":0},{"$f":"AO110*Utslippstall!$F$90","v":0},{"$f":"AP110*Utslippstall!$F$90","v":0},{"$f":"AQ110*Utslippstall!$F$90","v":0},{"$f":"AR110*Utslippstall!$F$90","v":0},{"$f":"AS110*Utslippstall!$F$90","v":0},{"$f":"AT110*Utslippstall!$F$90","v":0},{"$f":"AU110*Utslippstall!$F$90","v":0},{"$f":"AV110*Utslippstall!$F$90","v":0},{"$f":"AW110*Utslippstall!$F$90","v":0},{"$f":"AX110*Utslippstall!$F$90","v":0},{"$f":"AY110*Utslippstall!$F$90","v":0},{"$f":"AZ110*Utslippstall!$F$90","v":0},{"$f":"BA110*Utslippstall!$F$90","v":0},{"$f":"BB110*Utslippstall!$F$90","v":0},{"$f":"BC110*Utslippstall!$F$90","v":0},{"$f":"BD110*Utslippstall!$F$90","v":0},{"$f":"BE110*Utslippstall!$F$90","v":0}]
[null,null,null,null,"Pesto, sambal og tahini",{"$f":"F111*Utslippstall!F91","v":0},{"$f":"G111*Utslippstall!F91","v":0},{"$f":"H111*Utslippstall!F91","v":0},{"$f":"I111*Utslippstall!$F$91","v":0},{"$f":"J111*Utslippstall!$F$91","v":0},{"$f":"K111*Utslippstall!$F$91","v":0},{"$f":"L111*Utslippstall!$F$91","v":0},{"$f":"M111*Utslippstall!$F$91","v":0},{"$f":"N111*Utslippstall!$F$91","v":0},{"$f":"O111*Utslippstall!$F$91","v":0},{"$f":"P111*Utslippstall!$F$91","v":0},{"$f":"Q111*Utslippstall!$F$91","v":0},{"$f":"R111*Utslippstall!$F$91","v":0},{"$f":"S111*Utslippstall!$F$91","v":0},{"$f":"T111*Utslippstall!$F$91","v":0},{"$f":"U111*Utslippstall!$F$91","v":0},{"$f":"V111*Utslippstall!$F$91","v":0},{"$f":"W111*Utslippstall!$F$91","v":0},{"$f":"X111*Utslippstall!$F$91","v":0},{"$f":"Y111*Utslippstall!$F$91","v":0},{"$f":"Z111*Utslippstall!$F$91","v":0},{"$f":"AA111*Utslippstall!$F$91","v":0},{"$f":"AB111*Utslippstall!$F$91","v":0},{"$f":"AC111*Utslippstall!$F$91","v":0},{"$f":"AD111*Utslippstall!$F$91","v":0},{"$f":"AE111*Utslippstall!$F$91","v":0},{"$f":"AF111*Utslippstall!$F$91","v":0},{"$f":"AG111*Utslippstall!$F$91","v":0},{"$f":"AH111*Utslippstall!$F$91","v":0},{"$f":"AI111*Utslippstall!$F$91","v":0},{"$f":"AJ111*Utslippstall!$F$91","v":0},{"$f":"AK111*Utslippstall!$F$91","v":0},{"$f":"AL111*Utslippstall!$F$91","v":0},{"$f":"AM111*Utslippstall!$F$91","v":0},{"$f":"AN111*Utslippstall!$F$91","v":0},{"$f":"AO111*Utslippstall!$F$91","v":0},{"$f":"AP111*Utslippstall!$F$91","v":0},{"$f":"AQ111*Utslippstall!$F$91","v":0},{"$f":"AR111*Utslippstall!$F$91","v":0},{"$f":"AS111*Utslippstall!$F$91","v":0},{"$f":"AT111*Utslippstall!$F$91","v":0},{"$f":"AU111*Utslippstall!$F$91","v":0},{"$f":"AV111*Utslippstall!$F$91","v":0},{"$f":"AW111*Utslippstall!$F$91","v":0},{"$f":"AX111*Utslippstall!$F$91","v":0},{"$f":"AY111*Utslippstall!$F$91","v":0},{"$f":"AZ111*Utslippstall!$F$91","v":0},{"$f":"BA111*Utslippstall!$F$91","v":0},{"$f":"BB111*Utslippstall!$F$91","v":0},{"$f":"BC111*Utslippstall!$F$91","v":0},{"$f":"BD111*Utslippstall!$F$91","v":0},{"$f":"BE111*Utslippstall!$F$91","v":0}]
[null,null,null,null,"Dip, dressing, middagssaus",{"$f":"F112*Utslippstall!F92","v":0},{"$f":"G112*Utslippstall!F92","v":0},{"$f":"H112*Utslippstall!F92","v":0},{"$f":"I112*Utslippstall!$F$92","v":0},{"$f":"J112*Utslippstall!$F$92","v":0},{"$f":"K112*Utslippstall!$F$92","v":0},{"$f":"L112*Utslippstall!$F$92","v":0},{"$f":"M112*Utslippstall!$F$92","v":0},{"$f":"N112*Utslippstall!$F$92","v":0},{"$f":"O112*Utslippstall!$F$92","v":0},{"$f":"P112*Utslippstall!$F$92","v":0},{"$f":"Q112*Utslippstall!$F$92","v":0},{"$f":"R112*Utslippstall!$F$92","v":0},{"$f":"S112*Utslippstall!$F$92","v":0},{"$f":"T112*Utslippstall!$F$92","v":0},{"$f":"U112*Utslippstall!$F$92","v":0},{"$f":"V112*Utslippstall!$F$92","v":0},{"$f":"W112*Utslippstall!$F$92","v":0},{"$f":"X112*Utslippstall!$F$92","v":0},{"$f":"Y112*Utslippstall!$F$92","v":0},{"$f":"Z112*Utslippstall!$F$92","v":0},{"$f":"AA112*Utslippstall!$F$92","v":0},{"$f":"AB112*Utslippstall!$F$92","v":0},{"$f":"AC112*Utslippstall!$F$92","v":0},{"$f":"AD112*Utslippstall!$F$92","v":0},{"$f":"AE112*Utslippstall!$F$92","v":0},{"$f":"AF112*Utslippstall!$F$92","v":0},{"$f":"AG112*Utslippstall!$F$92","v":0},{"$f":"AH112*Utslippstall!$F$92","v":0},{"$f":"AI112*Utslippstall!$F$92","v":0},{"$f":"AJ112*Utslippstall!$F$92","v":0},{"$f":"AK112*Utslippstall!$F$92","v":0},{"$f":"AL112*Utslippstall!$F$92","v":0},{"$f":"AM112*Utslippstall!$F$92","v":0},{"$f":"AN112*Utslippstall!$F$92","v":0},{"$f":"AO112*Utslippstall!$F$92","v":0},{"$f":"AP112*Utslippstall!$F$92","v":0},{"$f":"AQ112*Utslippstall!$F$92","v":0},{"$f":"AR112*Utslippstall!$F$92","v":0},{"$f":"AS112*Utslippstall!$F$92","v":0},{"$f":"AT112*Utslippstall!$F$92","v":0},{"$f":"AU112*Utslippstall!$F$92","v":0},{"$f":"AV112*Utslippstall!$F$92","v":0},{"$f":"AW112*Utslippstall!$F$92","v":0},{"$f":"AX112*Utslippstall!$F$92","v":0},{"$f":"AY112*Utslippstall!$F$92","v":0},{"$f":"AZ112*Utslippstall!$F$92","v":0},{"$f":"BA112*Utslippstall!$F$92","v":0},{"$f":"BB112*Utslippstall!$F$92","v":0},{"$f":"BC112*Utslippstall!$F$92","v":0},{"$f":"BD112*Utslippstall!$F$92","v":0},{"$f":"BE112*Utslippstall!$F$92","v":0}]
[null,null,null,null,"Suppe",{"$f":"F113*Utslippstall!F93","v":0},{"$f":"G113*Utslippstall!F93","v":0},{"$f":"H113*Utslippstall!F93","v":0},{"$f":"I113*Utslippstall!$F$93","v":0},{"$f":"J113*Utslippstall!$F$93","v":0},{"$f":"K113*Utslippstall!$F$93","v":0},{"$f":"L113*Utslippstall!$F$93","v":0},{"$f":"M113*Utslippstall!$F$93","v":0},{"$f":"N113*Utslippstall!$F$93","v":0},{"$f":"O113*Utslippstall!$F$93","v":0},{"$f":"P113*Utslippstall!$F$93","v":0},{"$f":"Q113*Utslippstall!$F$93","v":0},{"$f":"R113*Utslippstall!$F$93","v":0},{"$f":"S113*Utslippstall!$F$93","v":0},{"$f":"T113*Utslippstall!$F$93","v":0},{"$f":"U113*Utslippstall!$F$93","v":0},{"$f":"V113*Utslippstall!$F$93","v":0},{"$f":"W113*Utslippstall!$F$93","v":0},{"$f":"X113*Utslippstall!$F$93","v":0},{"$f":"Y113*Utslippstall!$F$93","v":0},{"$f":"Z113*Utslippstall!$F$93","v":0},{"$f":"AA113*Utslippstall!$F$93","v":0},{"$f":"AB113*Utslippstall!$F$93","v":0},{"$f":"AC113*Utslippstall!$F$93","v":0},{"$f":"AD113*Utslippstall!$F$93","v":0},{"$f":"AE113*Utslippstall!$F$93","v":0},{"$f":"AF113*Utslippstall!$F$93","v":0},{"$f":"AG113*Utslippstall!$F$93","v":0},{"$f":"AH113*Utslippstall!$F$93","v":0},{"$f":"AI113*Utslippstall!$F$93","v":0},{"$f":"AJ113*Utslippstall!$F$93","v":0},{"$f":"AK113*Utslippstall!$F$93","v":0},{"$f":"AL113*Utslippstall!$F$93","v":0},{"$f":"AM113*Utslippstall!$F$93","v":0},{"$f":"AN113*Utslippstall!$F$93","v":0},{"$f":"AO113*Utslippstall!$F$93","v":0},{"$f":"AP113*Utslippstall!$F$93","v":0},{"$f":"AQ113*Utslippstall!$F$93","v":0},{"$f":"AR113*Utslippstall!$F$93","v":0},{"$f":"AS113*Utslippstall!$F$93","v":0},{"$f":"AT113*Utslippstall!$F$93","v":0},{"$f":"AU113*Utslippstall!$F$93","v":0},{"$f":"AV113*Utslippstall!$F$93","v":0},{"$f":"AW113*Utslippstall!$F$93","v":0},{"$f":"AX113*Utslippstall!$F$93","v":0},{"$f":"AY113*Utslippstall!$F$93","v":0},{"$f":"AZ113*Utslippstall!$F$93","v":0},{"$f":"BA113*Utslippstall!$F$93","v":0},{"$f":"BB113*Utslippstall!$F$93","v":0},{"$f":"BC113*Utslippstall!$F$93","v":0},{"$f":"BD113*Utslippstall!$F$93","v":0},{"$f":"BE113*Utslippstall!$F$93","v":0}]
[null,null,null,null,"Buljong",{"$f":"F114*Utslippstall!F94","v":0},{"$f":"G114*Utslippstall!F94","v":0},{"$f":"H114*Utslippstall!F94","v":0},{"$f":"I114*Utslippstall!$F$94","v":0},{"$f":"J114*Utslippstall!$F$94","v":0},{"$f":"K114*Utslippstall!$F$94","v":0},{"$f":"L114*Utslippstall!$F$94","v":0},{"$f":"M114*Utslippstall!$F$94","v":0},{"$f":"N114*Utslippstall!$F$94","v":0},{"$f":"O114*Utslippstall!$F$94","v":0},{"$f":"P114*Utslippstall!$F$94","v":0},{"$f":"Q114*Utslippstall!$F$94","v":0},{"$f":"R114*Utslippstall!$F$94","v":0},{"$f":"S114*Utslippstall!$F$94","v":0},{"$f":"T114*Utslippstall!$F$94","v":0},{"$f":"U114*Utslippstall!$F$94","v":0},{"$f":"V114*Utslippstall!$F$94","v":0},{"$f":"W114*Utslippstall!$F$94","v":0},{"$f":"X114*Utslippstall!$F$94","v":0},{"$f":"Y114*Utslippstall!$F$94","v":0},{"$f":"Z114*Utslippstall!$F$94","v":0},{"$f":"AA114*Utslippstall!$F$94","v":0},{"$f":"AB114*Utslippstall!$F$94","v":0},{"$f":"AC114*Utslippstall!$F$94","v":0},{"$f":"AD114*Utslippstall!$F$94","v":0},{"$f":"AE114*Utslippstall!$F$94","v":0},{"$f":"AF114*Utslippstall!$F$94","v":0},{"$f":"AG114*Utslippstall!$F$94","v":0},{"$f":"AH114*Utslippstall!$F$94","v":0},{"$f":"AI114*Utslippstall!$F$94","v":0},{"$f":"AJ114*Utslippstall!$F$94","v":0},{"$f":"AK114*Utslippstall!$F$94","v":0},{"$f":"AL114*Utslippstall!$F$94","v":0},{"$f":"AM114*Utslippstall!$F$94","v":0},{"$f":"AN114*Utslippstall!$F$94","v":0},{"$f":"AO114*Utslippstall!$F$94","v":0},{"$f":"AP114*Utslippstall!$F$94","v":0},{"$f":"AQ114*Utslippstall!$F$94","v":0},{"$f":"AR114*Utslippstall!$F$94","v":0},{"$f":"AS114*Utslippstall!$F$94","v":0},{"$f":"AT114*Utslippstall!$F$94","v":0},{"$f":"AU114*Utslippstall!$F$94","v":0},{"$f":"AV114*Utslippstall!$F$94","v":0},{"$f":"AW114*Utslippstall!$F$94","v":0},{"$f":"AX114*Utslippstall!$F$94","v":0},{"$f":"AY114*Utslippstall!$F$94","v":0},{"$f":"AZ114*Utslippstall!$F$94","v":0},{"$f":"BA114*Utslippstall!$F$94","v":0},{"$f":"BB114*Utslippstall!$F$94","v":0},{"$f":"BC114*Utslippstall!$F$94","v":0},{"$f":"BD114*Utslippstall!$F$94","v":0},{"$f":"BE114*Utslippstall!$F$94","v":0}]
[null,null,null,null,"Vegdip",{"$f":"F115*Utslippstall!F95","v":0},{"$f":"G115*Utslippstall!F95","v":0},{"$f":"H115*Utslippstall!F95","v":0},{"$f":"I115*Utslippstall!$F$95","v":0},{"$f":"J115*Utslippstall!$F$95","v":0},{"$f":"K115*Utslippstall!$F$95","v":0},{"$f":"L115*Utslippstall!$F$95","v":0},{"$f":"M115*Utslippstall!$F$95","v":0},{"$f":"N115*Utslippstall!$F$95","v":0},{"$f":"O115*Utslippstall!$F$95","v":0},{"$f":"P115*Utslippstall!$F$95","v":0},{"$f":"Q115*Utslippstall!$F$95","v":0},{"$f":"R115*Utslippstall!$F$95","v":0},{"$f":"S115*Utslippstall!$F$95","v":0},{"$f":"T115*Utslippstall!$F$95","v":0},{"$f":"U115*Utslippstall!$F$95","v":0},{"$f":"V115*Utslippstall!$F$95","v":0},{"$f":"W115*Utslippstall!$F$95","v":0},{"$f":"X115*Utslippstall!$F$95","v":0},{"$f":"Y115*Utslippstall!$F$95","v":0},{"$f":"Z115*Utslippstall!$F$95","v":0},{"$f":"AA115*Utslippstall!$F$95","v":0},{"$f":"AB115*Utslippstall!$F$95","v":0},{"$f":"AC115*Utslippstall!$F$95","v":0},{"$f":"AD115*Utslippstall!$F$95","v":0},{"$f":"AE115*Utslippstall!$F$95","v":0},{"$f":"AF115*Utslippstall!$F$95","v":0},{"$f":"AG115*Utslippstall!$F$95","v":0},{"$f":"AH115*Utslippstall!$F$95","v":0},{"$f":"AI115*Utslippstall!$F$95","v":0},{"$f":"AJ115*Utslippstall!$F$95","v":0},{"$f":"AK115*Utslippstall!$F$95","v":0},{"$f":"AL115*Utslippstall!$F$95","v":0},{"$f":"AM115*Utslippstall!$F$95","v":0},{"$f":"AN115*Utslippstall!$F$95","v":0},{"$f":"AO115*Utslippstall!$F$95","v":0},{"$f":"AP115*Utslippstall!$F$95","v":0},{"$f":"AQ115*Utslippstall!$F$95","v":0},{"$f":"AR115*Utslippstall!$F$95","v":0},{"$f":"AS115*Utslippstall!$F$95","v":0},{"$f":"AT115*Utslippstall!$F$95","v":0},{"$f":"AU115*Utslippstall!$F$95","v":0},{"$f":"AV115*Utslippstall!$F$95","v":0},{"$f":"AW115*Utslippstall!$F$95","v":0},{"$f":"AX115*Utslippstall!$F$95","v":0},{"$f":"AY115*Utslippstall!$F$95","v":0},{"$f":"AZ115*Utslippstall!$F$95","v":0},{"$f":"BA115*Utslippstall!$F$95","v":0},{"$f":"BB115*Utslippstall!$F$95","v":0},{"$f":"BC115*Utslippstall!$F$95","v":0},{"$f":"BD115*Utslippstall!$F$95","v":0},{"$f":"BE115*Utslippstall!$F$95","v":0}]
[null,null,null,null,"Soya, fiske og chilisaus",{"$f":"F116*Utslippstall!F96","v":0},{"$f":"G116*Utslippstall!F96","v":0},{"$f":"H116*Utslippstall!F96","v":0},{"$f":"I116*Utslippstall!$F$96","v":0},{"$f":"J116*Utslippstall!$F$96","v":0},{"$f":"K116*Utslippstall!$F$96","v":0},{"$f":"L116*Utslippstall!$F$96","v":0},{"$f":"M116*Utslippstall!$F$96","v":0},{"$f":"N116*Utslippstall!$F$96","v":0},{"$f":"O116*Utslippstall!$F$96","v":0},{"$f":"P116*Utslippstall!$F$96","v":0},{"$f":"Q116*Utslippstall!$F$96","v":0},{"$f":"R116*Utslippstall!$F$96","v":0},{"$f":"S116*Utslippstall!$F$96","v":0},{"$f":"T116*Utslippstall!$F$96","v":0},{"$f":"U116*Utslippstall!$F$96","v":0},{"$f":"V116*Utslippstall!$F$96","v":0},{"$f":"W116*Utslippstall!$F$96","v":0},{"$f":"X116*Utslippstall!$F$96","v":0},{"$f":"Y116*Utslippstall!$F$96","v":0},{"$f":"Z116*Utslippstall!$F$96","v":0},{"$f":"AA116*Utslippstall!$F$96","v":0},{"$f":"AB116*Utslippstall!$F$96","v":0},{"$f":"AC116*Utslippstall!$F$96","v":0},{"$f":"AD116*Utslippstall!$F$96","v":0},{"$f":"AE116*Utslippstall!$F$96","v":0},{"$f":"AF116*Utslippstall!$F$96","v":0},{"$f":"AG116*Utslippstall!$F$96","v":0},{"$f":"AH116*Utslippstall!$F$96","v":0},{"$f":"AI116*Utslippstall!$F$96","v":0},{"$f":"AJ116*Utslippstall!$F$96","v":0},{"$f":"AK116*Utslippstall!$F$96","v":0},{"$f":"AL116*Utslippstall!$F$96","v":0},{"$f":"AM116*Utslippstall!$F$96","v":0},{"$f":"AN116*Utslippstall!$F$96","v":0},{"$f":"AO116*Utslippstall!$F$96","v":0},{"$f":"AP116*Utslippstall!$F$96","v":0},{"$f":"AQ116*Utslippstall!$F$96","v":0},{"$f":"AR116*Utslippstall!$F$96","v":0},{"$f":"AS116*Utslippstall!$F$96","v":0},{"$f":"AT116*Utslippstall!$F$96","v":0},{"$f":"AU116*Utslippstall!$F$96","v":0},{"$f":"AV116*Utslippstall!$F$96","v":0},{"$f":"AW116*Utslippstall!$F$96","v":0},{"$f":"AX116*Utslippstall!$F$96","v":0},{"$f":"AY116*Utslippstall!$F$96","v":0},{"$f":"AZ116*Utslippstall!$F$96","v":0},{"$f":"BA116*Utslippstall!$F$96","v":0},{"$f":"BB116*Utslippstall!$F$96","v":0},{"$f":"BC116*Utslippstall!$F$96","v":0},{"$f":"BD116*Utslippstall!$F$96","v":0},{"$f":"BE116*Utslippstall!$F$96","v":0}]
[null,null,null,null,"Vegetar/vegan alternativ produkter",{"$f":"SUM(F223:F225)","v":0},{"$f":"SUM(G223:G225)","v":0},0,0,{"$f":"SUM(J223:J225)","v":0},0,0,0,0,0,0,0,0,0,0,0,0,0,0,0,0,0,0,0,0,0,0,0,0,0,0,0,0,0,0,0,0,0,0,0,0,0,0,0,0,0,0,0,0,0,0,0]
[null,null,null,null,"Blandet vegetar",{"$f":"F118*Utslippstall!F98","v":0},{"$f":"G118*Utslippstall!F98","v":0},{"$f":"H118*Utslippstall!F98","v":0},{"$f":"I118*Utslippstall!$F$98","v":0},{"$f":"J118*Utslippstall!$F$98","v":0},{"$f":"K118*Utslippstall!$F$98","v":0},{"$f":"L118*Utslippstall!$F$98","v":0},{"$f":"M118*Utslippstall!$F$98","v":0},{"$f":"N118*Utslippstall!$F$98","v":0},{"$f":"O118*Utslippstall!$F$98","v":0},{"$f":"P118*Utslippstall!$F$98","v":0},{"$f":"Q118*Utslippstall!$F$98","v":0},{"$f":"R118*Utslippstall!$F$98","v":0},{"$f":"S118*Utslippstall!$F$98","v":0},{"$f":"T118*Utslippstall!$F$98","v":0},{"$f":"U118*Utslippstall!$F$98","v":0},{"$f":"V118*Utslippstall!$F$98","v":0},{"$f":"W118*Utslippstall!$F$98","v":0},{"$f":"X118*Utslippstall!$F$98","v":0},{"$f":"Y118*Utslippstall!$F$98","v":0},{"$f":"Z118*Utslippstall!$F$98","v":0},{"$f":"AA118*Utslippstall!$F$98","v":0},{"$f":"AB118*Utslippstall!$F$98","v":0},{"$f":"AC118*Utslippstall!$F$98","v":0},{"$f":"AD118*Utslippstall!$F$98","v":0},{"$f":"AE118*Utslippstall!$F$98","v":0},{"$f":"AF118*Utslippstall!$F$98","v":0},{"$f":"AG118*Utslippstall!$F$98","v":0},{"$f":"AH118*Utslippstall!$F$98","v":0},{"$f":"AI118*Utslippstall!$F$98","v":0},{"$f":"AJ118*Utslippstall!$F$98","v":0},{"$f":"AK118*Utslippstall!$F$98","v":0},{"$f":"AL118*Utslippstall!$F$98","v":0},{"$f":"AM118*Utslippstall!$F$98","v":0},{"$f":"AN118*Utslippstall!$F$98","v":0},{"$f":"AO118*Utslippstall!$F$98","v":0},{"$f":"AP118*Utslippstall!$F$98","v":0},{"$f":"AQ118*Utslippstall!$F$98","v":0},{"$f":"AR118*Utslippstall!$F$98","v":0},{"$f":"AS118*Utslippstall!$F$98","v":0},{"$f":"AT118*Utslippstall!$F$98","v":0},{"$f":"AU118*Utslippstall!$F$98","v":0},{"$f":"AV118*Utslippstall!$F$98","v":0},{"$f":"AW118*Utslippstall!$F$98","v":0},{"$f":"AX118*Utslippstall!$F$98","v":0},{"$f":"AY118*Utslippstall!$F$98","v":0},{"$f":"AZ118*Utslippstall!$F$98","v":0},{"$f":"BA118*Utslippstall!$F$98","v":0},{"$f":"BB118*Utslippstall!$F$98","v":0},{"$f":"BC118*Utslippstall!$F$98","v":0},{"$f":"BD118*Utslippstall!$F$98","v":0},{"$f":"BE118*Utslippstall!$F$98","v":0}]
[null,null,null,null,"Melk og yoghurt alternativ",{"$f":"F119*Utslippstall!F99","v":0},{"$f":"G119*Utslippstall!F99","v":0},{"$f":"H119*Utslippstall!F99","v":0},{"$f":"I119*Utslippstall!$F$99","v":0},{"$f":"J119*Utslippstall!$F$99","v":0},{"$f":"K119*Utslippstall!$F$99","v":0},{"$f":"L119*Utslippstall!$F$99","v":0},{"$f":"M119*Utslippstall!$F$99","v":0},{"$f":"N119*Utslippstall!$F$99","v":0},{"$f":"O119*Utslippstall!$F$99","v":0},{"$f":"P119*Utslippstall!$F$99","v":0},{"$f":"Q119*Utslippstall!$F$99","v":0},{"$f":"R119*Utslippstall!$F$99","v":0},{"$f":"S119*Utslippstall!$F$99","v":0},{"$f":"T119*Utslippstall!$F$99","v":0},{"$f":"U119*Utslippstall!$F$99","v":0},{"$f":"V119*Utslippstall!$F$99","v":0},{"$f":"W119*Utslippstall!$F$99","v":0},{"$f":"X119*Utslippstall!$F$99","v":0},{"$f":"Y119*Utslippstall!$F$99","v":0},{"$f":"Z119*Utslippstall!$F$99","v":0},{"$f":"AA119*Utslippstall!$F$99","v":0},{"$f":"AB119*Utslippstall!$F$99","v":0},{"$f":"AC119*Utslippstall!$F$99","v":0},{"$f":"AD119*Utslippstall!$F$99","v":0},{"$f":"AE119*Utslippstall!$F$99","v":0},{"$f":"AF119*Utslippstall!$F$99","v":0},{"$f":"AG119*Utslippstall!$F$99","v":0},{"$f":"AH119*Utslippstall!$F$99","v":0},{"$f":"AI119*Utslippstall!$F$99","v":0},{"$f":"AJ119*Utslippstall!$F$99","v":0},{"$f":"AK119*Utslippstall!$F$99","v":0},{"$f":"AL119*Utslippstall!$F$99","v":0},{"$f":"AM119*Utslippstall!$F$99","v":0},{"$f":"AN119*Utslippstall!$F$99","v":0},{"$f":"AO119*Utslippstall!$F$99","v":0},{"$f":"AP119*Utslippstall!$F$99","v":0},{"$f":"AQ119*Utslippstall!$F$99","v":0},{"$f":"AR119*Utslippstall!$F$99","v":0},{"$f":"AS119*Utslippstall!$F$99","v":0},{"$f":"AT119*Utslippstall!$F$99","v":0},{"$f":"AU119*Utslippstall!$F$99","v":0},{"$f":"AV119*Utslippstall!$F$99","v":0},{"$f":"AW119*Utslippstall!$F$99","v":0},{"$f":"AX119*Utslippstall!$F$99","v":0},{"$f":"AY119*Utslippstall!$F$99","v":0},{"$f":"AZ119*Utslippstall!$F$99","v":0},{"$f":"BA119*Utslippstall!$F$99","v":0},{"$f":"BB119*Utslippstall!$F$99","v":0},{"$f":"BC119*Utslippstall!$F$99","v":0},{"$f":"BD119*Utslippstall!$F$99","v":0},{"$f":"BE119*Utslippstall!$F$99","v":0}]
[null,null,null,null,"Ost alternativ",{"$f":"F120*Utslippstall!F100","v":0},{"$f":"G120*Utslippstall!F100","v":0},{"$f":"H120*Utslippstall!F100","v":0},{"$f":"I120*Utslippstall!$F$100","v":0},{"$f":"J120*Utslippstall!$F$100","v":0},{"$f":"K120*Utslippstall!$F$100","v":0},{"$f":"L120*Utslippstall!$F$100","v":0},{"$f":"M120*Utslippstall!$F$100","v":0},{"$f":"N120*Utslippstall!$F$100","v":0},{"$f":"O120*Utslippstall!$F$100","v":0},{"$f":"P120*Utslippstall!$F$100","v":0},{"$f":"Q120*Utslippstall!$F$100","v":0},{"$f":"R120*Utslippstall!$F$100","v":0},{"$f":"S120*Utslippstall!$F$100","v":0},{"$f":"T120*Utslippstall!$F$100","v":0},{"$f":"U120*Utslippstall!$F$100","v":0},{"$f":"V120*Utslippstall!$F$100","v":0},{"$f":"W120*Utslippstall!$F$100","v":0},{"$f":"X120*Utslippstall!$F$100","v":0},{"$f":"Y120*Utslippstall!$F$100","v":0},{"$f":"Z120*Utslippstall!$F$100","v":0},{"$f":"AA120*Utslippstall!$F$100","v":0},{"$f":"AB120*Utslippstall!$F$100","v":0},{"$f":"AC120*Utslippstall!$F$100","v":0},{"$f":"AD120*Utslippstall!$F$100","v":0},{"$f":"AE120*Utslippstall!$F$100","v":0},{"$f":"AF120*Utslippstall!$F$100","v":0},{"$f":"AG120*Utslippstall!$F$100","v":0},{"$f":"AH120*Utslippstall!$F$100","v":0},{"$f":"AI120*Utslippstall!$F$100","v":0},{"$f":"AJ120*Utslippstall!$F$100","v":0},{"$f":"AK120*Utslippstall!$F$100","v":0},{"$f":"AL120*Utslippstall!$F$100","v":0},{"$f":"AM120*Utslippstall!$F$100","v":0},{"$f":"AN120*Utslippstall!$F$100","v":0},{"$f":"AO120*Utslippstall!$F$100","v":0},{"$f":"AP120*Utslippstall!$F$100","v":0},{"$f":"AQ120*Utslippstall!$F$100","v":0},{"$f":"AR120*Utslippstall!$F$100","v":0},{"$f":"AS120*Utslippstall!$F$100","v":0},{"$f":"AT120*Utslippstall!$F$100","v":0},{"$f":"AU120*Utslippstall!$F$100","v":0},{"$f":"AV120*Utslippstall!$F$100","v":0},{"$f":"AW120*Utslippstall!$F$100","v":0},{"$f":"AX120*Utslippstall!$F$100","v":0},{"$f":"AY120*Utslippstall!$F$100","v":0},{"$f":"AZ120*Utslippstall!$F$100","v":0},{"$f":"BA120*Utslippstall!$F$100","v":0},{"$f":"BB120*Utslippstall!$F$100","v":0},{"$f":"BC120*Utslippstall!$F$100","v":0},{"$f":"BD120*Utslippstall!$F$100","v":0},{"$f":"BE120*Utslippstall!$F$100","v":0}]
[null,null,null,null,"Drikke",{"$f":"SUM(F227:F233)","v":0},{"$f":"SUM(G227:G233)","v":0},0,0,{"$f":"SUM(J227:J233)","v":0},0,0,0,0,0,0,0,0,0,0,0,0,0,0,0,0,0,0,0,0,0,0,0,0,0,0,0,0,0,0,0,0,0,0,0,0,0,0,0,0,0,0,0,0,0,0,0]
[null,null,null,null,"Te",{"$f":"F122*Utslippstall!F102","v":0},{"$f":"G122*Utslippstall!F102","v":0},{"$f":"H122*Utslippstall!F102","v":0},{"$f":"I122*Utslippstall!$F$102","v":0},{"$f":"J122*Utslippstall!$F$102","v":0},{"$f":"K122*Utslippstall!$F$102","v":0},{"$f":"L122*Utslippstall!$F$102","v":0},{"$f":"M122*Utslippstall!$F$102","v":0},{"$f":"N122*Utslippstall!$F$102","v":0},{"$f":"O122*Utslippstall!$F$102","v":0},{"$f":"P122*Utslippstall!$F$102","v":0},{"$f":"Q122*Utslippstall!$F$102","v":0},{"$f":"R122*Utslippstall!$F$102","v":0},{"$f":"S122*Utslippstall!$F$102","v":0},{"$f":"T122*Utslippstall!$F$102","v":0},{"$f":"U122*Utslippstall!$F$102","v":0},{"$f":"V122*Utslippstall!$F$102","v":0},{"$f":"W122*Utslippstall!$F$102","v":0},{"$f":"X122*Utslippstall!$F$102","v":0},{"$f":"Y122*Utslippstall!$F$102","v":0},{"$f":"Z122*Utslippstall!$F$102","v":0},{"$f":"AA122*Utslippstall!$F$102","v":0},{"$f":"AB122*Utslippstall!$F$102","v":0},{"$f":"AC122*Utslippstall!$F$102","v":0},{"$f":"AD122*Utslippstall!$F$102","v":0},{"$f":"AE122*Utslippstall!$F$102","v":0},{"$f":"AF122*Utslippstall!$F$102","v":0},{"$f":"AG122*Utslippstall!$F$102","v":0},{"$f":"AH122*Utslippstall!$F$102","v":0},{"$f":"AI122*Utslippstall!$F$102","v":0},{"$f":"AJ122*Utslippstall!$F$102","v":0},{"$f":"AK122*Utslippstall!$F$102","v":0},{"$f":"AL122*Utslippstall!$F$102","v":0},{"$f":"AM122*Utslippstall!$F$102","v":0},{"$f":"AN122*Utslippstall!$F$102","v":0},{"$f":"AO122*Utslippstall!$F$102","v":0},{"$f":"AP122*Utslippstall!$F$102","v":0},{"$f":"AQ122*Utslippstall!$F$102","v":0},{"$f":"AR122*Utslippstall!$F$102","v":0},{"$f":"AS122*Utslippstall!$F$102","v":0},{"$f":"AT122*Utslippstall!$F$102","v":0},{"$f":"AU122*Utslippstall!$F$102","v":0},{"$f":"AV122*Utslippstall!$F$102","v":0},{"$f":"AW122*Utslippstall!$F$102","v":0},{"$f":"AX122*Utslippstall!$F$102","v":0},{"$f":"AY122*Utslippstall!$F$102","v":0},{"$f":"AZ122*Utslippstall!$F$102","v":0},{"$f":"BA122*Utslippstall!$F$102","v":0},{"$f":"BB122*Utslippstall!$F$102","v":0},{"$f":"BC122*Utslippstall!$F$102","v":0},{"$f":"BD122*Utslippstall!$F$102","v":0},{"$f":"BE122*Utslippstall!$F$102","v":0}]
[null,null,null,null,"Kaffe",{"$f":"F123*Utslippstall!F103","v":0},{"$f":"G123*Utslippstall!F103","v":0},{"$f":"H123*Utslippstall!F103","v":0},{"$f":"I123*Utslippstall!$F$103","v":0},{"$f":"J123*Utslippstall!$F$103","v":0},{"$f":"K123*Utslippstall!$F$103","v":0},{"$f":"L123*Utslippstall!$F$103","v":0},{"$f":"M123*Utslippstall!$F$103","v":0},{"$f":"N123*Utslippstall!$F$103","v":0},{"$f":"O123*Utslippstall!$F$103","v":0},{"$f":"P123*Utslippstall!$F$103","v":0},{"$f":"Q123*Utslippstall!$F$103","v":0},{"$f":"R123*Utslippstall!$F$103","v":0},{"$f":"S123*Utslippstall!$F$103","v":0},{"$f":"T123*Utslippstall!$F$103","v":0},{"$f":"U123*Utslippstall!$F$103","v":0},{"$f":"V123*Utslippstall!$F$103","v":0},{"$f":"W123*Utslippstall!$F$103","v":0},{"$f":"X123*Utslippstall!$F$103","v":0},{"$f":"Y123*Utslippstall!$F$103","v":0},{"$f":"Z123*Utslippstall!$F$103","v":0},{"$f":"AA123*Utslippstall!$F$103","v":0},{"$f":"AB123*Utslippstall!$F$103","v":0},{"$f":"AC123*Utslippstall!$F$103","v":0},{"$f":"AD123*Utslippstall!$F$103","v":0},{"$f":"AE123*Utslippstall!$F$103","v":0},{"$f":"AF123*Utslippstall!$F$103","v":0},{"$f":"AG123*Utslippstall!$F$103","v":0},{"$f":"AH123*Utslippstall!$F$103","v":0},{"$f":"AI123*Utslippstall!$F$103","v":0},{"$f":"AJ123*Utslippstall!$F$103","v":0},{"$f":"AK123*Utslippstall!$F$103","v":0},{"$f":"AL123*Utslippstall!$F$103","v":0},{"$f":"AM123*Utslippstall!$F$103","v":0},{"$f":"AN123*Utslippstall!$F$103","v":0},{"$f":"AO123*Utslippstall!$F$103","v":0},{"$f":"AP123*Utslippstall!$F$103","v":0},{"$f":"AQ123*Utslippstall!$F$103","v":0},{"$f":"AR123*Utslippstall!$F$103","v":0},{"$f":"AS123*Utslippstall!$F$103","v":0},{"$f":"AT123*Utslippstall!$F$103","v":0},{"$f":"AU123*Utslippstall!$F$103","v":0},{"$f":"AV123*Utslippstall!$F$103","v":0},{"$f":"AW123*Utslippstall!$F$103","v":0},{"$f":"AX123*Utslippstall!$F$103","v":0},{"$f":"AY123*Utslippstall!$F$103","v":0},{"$f":"AZ123*Utslippstall!$F$103","v":0},{"$f":"BA123*Utslippstall!$F$103","v":0},{"$f":"BB123*Utslippstall!$F$103","v":0},{"$f":"BC123*Utslippstall!$F$103","v":0},{"$f":"BD123*Utslippstall!$F$103","v":0},{"$f":"BE123*Utslippstall!$F$103","v":0}]
[null,null,null,null,"Kakao",{"$f":"F124*Utslippstall!F104","v":0},{"$f":"G124*Utslippstall!F104","v":0},{"$f":"H124*Utslippstall!F104","v":0},{"$f":"I124*Utslippstall!$F$104","v":0},{"$f":"J124*Utslippstall!$F$104","v":0},{"$f":"K124*Utslippstall!$F$104","v":0},{"$f":"L124*Utslippstall!$F$104","v":0},{"$f":"M124*Utslippstall!$F$104","v":0},{"$f":"N124*Utslippstall!$F$104","v":0},{"$f":"O124*Utslippstall!$F$104","v":0},{"$f":"P124*Utslippstall!$F$104","v":0},{"$f":"Q124*Utslippstall!$F$104","v":0},{"$f":"R124*Utslippstall!$F$104","v":0},{"$f":"S124*Utslippstall!$F$104","v":0},{"$f":"T124*Utslippstall!$F$104","v":0},{"$f":"U124*Utslippstall!$F$104","v":0},{"$f":"V124*Utslippstall!$F$104","v":0},{"$f":"W124*Utslippstall!$F$104","v":0},{"$f":"X124*Utslippstall!$F$104","v":0},{"$f":"Y124*Utslippstall!$F$104","v":0},{"$f":"Z124*Utslippstall!$F$104","v":0},{"$f":"AA124*Utslippstall!$F$104","v":0},{"$f":"AB124*Utslippstall!$F$104","v":0},{"$f":"AC124*Utslippstall!$F$104","v":0},{"$f":"AD124*Utslippstall!$F$104","v":0},{"$f":"AE124*Utslippstall!$F$104","v":0},{"$f":"AF124*Utslippstall!$F$104","v":0},{"$f":"AG124*Utslippstall!$F$104","v":0},{"$f":"AH124*Utslippstall!$F$104","v":0},{"$f":"AI124*Utslippstall!$F$104","v":0},{"$f":"AJ124*Utslippstall!$F$104","v":0},{"$f":"AK124*Utslippstall!$F$104","v":0},{"$f":"AL124*Utslippstall!$F$104","v":0},{"$f":"AM124*Utslippstall!$F$104","v":0},{"$f":"AN124*Utslippstall!$F$104","v":0},{"$f":"AO124*Utslippstall!$F$104","v":0},{"$f":"AP124*Utslippstall!$F$104","v":0},{"$f":"AQ124*Utslippstall!$F$104","v":0},{"$f":"AR124*Utslippstall!$F$104","v":0},{"$f":"AS124*Utslippstall!$F$104","v":0},{"$f":"AT124*Utslippstall!$F$104","v":0},{"$f":"AU124*Utslippstall!$F$104","v":0},{"$f":"AV124*Utslippstall!$F$104","v":0},{"$f":"AW124*Utslippstall!$F$104","v":0},{"$f":"AX124*Utslippstall!$F$104","v":0},{"$f":"AY124*Utslippstall!$F$104","v":0},{"$f":"AZ124*Utslippstall!$F$104","v":0},{"$f":"BA124*Utslippstall!$F$104","v":0},{"$f":"BB124*Utslippstall!$F$104","v":0},{"$f":"BC124*Utslippstall!$F$104","v":0},{"$f":"BD124*Utslippstall!$F$104","v":0},{"$f":"BE124*Utslippstall!$F$104","v":0}]
[null,null,null,null,"Fruktjuice",{"$f":"F125*Utslippstall!F105","v":0},{"$f":"G125*Utslippstall!F105","v":0},{"$f":"H125*Utslippstall!F105","v":0},{"$f":"I125*Utslippstall!$F$105","v":0},{"$f":"J125*Utslippstall!$F$105","v":0},{"$f":"K125*Utslippstall!$F$105","v":0},{"$f":"L125*Utslippstall!$F$105","v":0},{"$f":"M125*Utslippstall!$F$105","v":0},{"$f":"N125*Utslippstall!$F$105","v":0},{"$f":"O125*Utslippstall!$F$105","v":0},{"$f":"P125*Utslippstall!$F$105","v":0},{"$f":"Q125*Utslippstall!$F$105","v":0},{"$f":"R125*Utslippstall!$F$105","v":0},{"$f":"S125*Utslippstall!$F$105","v":0},{"$f":"T125*Utslippstall!$F$105","v":0},{"$f":"U125*Utslippstall!$F$105","v":0},{"$f":"V125*Utslippstall!$F$105","v":0},{"$f":"W125*Utslippstall!$F$105","v":0},{"$f":"X125*Utslippstall!$F$105","v":0},{"$f":"Y125*Utslippstall!$F$105","v":0},{"$f":"Z125*Utslippstall!$F$105","v":0},{"$f":"AA125*Utslippstall!$F$105","v":0},{"$f":"AB125*Utslippstall!$F$105","v":0},{"$f":"AC125*Utslippstall!$F$105","v":0},{"$f":"AD125*Utslippstall!$F$105","v":0},{"$f":"AE125*Utslippstall!$F$105","v":0},{"$f":"AF125*Utslippstall!$F$105","v":0},{"$f":"AG125*Utslippstall!$F$105","v":0},{"$f":"AH125*Utslippstall!$F$105","v":0},{"$f":"AI125*Utslippstall!$F$105","v":0},{"$f":"AJ125*Utslippstall!$F$105","v":0},{"$f":"AK125*Utslippstall!$F$105","v":0},{"$f":"AL125*Utslippstall!$F$105","v":0},{"$f":"AM125*Utslippstall!$F$105","v":0},{"$f":"AN125*Utslippstall!$F$105","v":0},{"$f":"AO125*Utslippstall!$F$105","v":0},{"$f":"AP125*Utslippstall!$F$105","v":0},{"$f":"AQ125*Utslippstall!$F$105","v":0},{"$f":"AR125*Utslippstall!$F$105","v":0},{"$f":"AS125*Utslippstall!$F$105","v":0},{"$f":"AT125*Utslippstall!$F$105","v":0},{"$f":"AU125*Utslippstall!$F$105","v":0},{"$f":"AV125*Utslippstall!$F$105","v":0},{"$f":"AW125*Utslippstall!$F$105","v":0},{"$f":"AX125*Utslippstall!$F$105","v":0},{"$f":"AY125*Utslippstall!$F$105","v":0},{"$f":"AZ125*Utslippstall!$F$105","v":0},{"$f":"BA125*Utslippstall!$F$105","v":0},{"$f":"BB125*Utslippstall!$F$105","v":0},{"$f":"BC125*Utslippstall!$F$105","v":0},{"$f":"BD125*Utslippstall!$F$105","v":0},{"$f":"BE125*Utslippstall!$F$105","v":0}]
[null,null,null,null,"Eddik, vin, cider og sprit",{"$f":"F126*Utslippstall!F106","v":0},{"$f":"G126*Utslippstall!F106","v":0},{"$f":"H126*Utslippstall!F106","v":0},{"$f":"I126*Utslippstall!$F$106","v":0},{"$f":"J126*Utslippstall!$F$106","v":0},{"$f":"K126*Utslippstall!$F$106","v":0},{"$f":"L126*Utslippstall!$F$106","v":0},{"$f":"M126*Utslippstall!$F$106","v":0},{"$f":"N126*Utslippstall!$F$106","v":0},{"$f":"O126*Utslippstall!$F$106","v":0},{"$f":"P126*Utslippstall!$F$106","v":0},{"$f":"Q126*Utslippstall!$F$106","v":0},{"$f":"R126*Utslippstall!$F$106","v":0},{"$f":"S126*Utslippstall!$F$106","v":0},{"$f":"T126*Utslippstall!$F$106","v":0},{"$f":"U126*Utslippstall!$F$106","v":0},{"$f":"V126*Utslippstall!$F$106","v":0},{"$f":"W126*Utslippstall!$F$106","v":0},{"$f":"X126*Utslippstall!$F$106","v":0},{"$f":"Y126*Utslippstall!$F$106","v":0},{"$f":"Z126*Utslippstall!$F$106","v":0},{"$f":"AA126*Utslippstall!$F$106","v":0},{"$f":"AB126*Utslippstall!$F$106","v":0},{"$f":"AC126*Utslippstall!$F$106","v":0},{"$f":"AD126*Utslippstall!$F$106","v":0},{"$f":"AE126*Utslippstall!$F$106","v":0},{"$f":"AF126*Utslippstall!$F$106","v":0},{"$f":"AG126*Utslippstall!$F$106","v":0},{"$f":"AH126*Utslippstall!$F$106","v":0},{"$f":"AI126*Utslippstall!$F$106","v":0},{"$f":"AJ126*Utslippstall!$F$106","v":0},{"$f":"AK126*Utslippstall!$F$106","v":0},{"$f":"AL126*Utslippstall!$F$106","v":0},{"$f":"AM126*Utslippstall!$F$106","v":0},{"$f":"AN126*Utslippstall!$F$106","v":0},{"$f":"AO126*Utslippstall!$F$106","v":0},{"$f":"AP126*Utslippstall!$F$106","v":0},{"$f":"AQ126*Utslippstall!$F$106","v":0},{"$f":"AR126*Utslippstall!$F$106","v":0},{"$f":"AS126*Utslippstall!$F$106","v":0},{"$f":"AT126*Utslippstall!$F$106","v":0},{"$f":"AU126*Utslippstall!$F$106","v":0},{"$f":"AV126*Utslippstall!$F$106","v":0},{"$f":"AW126*Utslippstall!$F$106","v":0},{"$f":"AX126*Utslippstall!$F$106","v":0},{"$f":"AY126*Utslippstall!$F$106","v":0},{"$f":"AZ126*Utslippstall!$F$106","v":0},{"$f":"BA126*Utslippstall!$F$106","v":0},{"$f":"BB126*Utslippstall!$F$106","v":0},{"$f":"BC126*Utslippstall!$F$106","v":0},{"$f":"BD126*Utslippstall!$F$106","v":0},{"$f":"BE126*Utslippstall!$F$106","v":0}]
[null,null,null,null,"Øl",{"$f":"F127*Utslippstall!F107","v":0},{"$f":"G127*Utslippstall!F107","v":0},{"$f":"H127*Utslippstall!F107","v":0},{"$f":"I127*Utslippstall!$F$107","v":0},{"$f":"J127*Utslippstall!$F$107","v":0},{"$f":"K127*Utslippstall!$F$107","v":0},{"$f":"L127*Utslippstall!$F$107","v":0},{"$f":"M127*Utslippstall!$F$107","v":0},{"$f":"N127*Utslippstall!$F$107","v":0},{"$f":"O127*Utslippstall!$F$107","v":0},{"$f":"P127*Utslippstall!$F$107","v":0},{"$f":"Q127*Utslippstall!$F$107","v":0},{"$f":"R127*Utslippstall!$F$107","v":0},{"$f":"S127*Utslippstall!$F$107","v":0},{"$f":"T127*Utslippstall!$F$107","v":0},{"$f":"U127*Utslippstall!$F$107","v":0},{"$f":"V127*Utslippstall!$F$107","v":0},{"$f":"W127*Utslippstall!$F$107","v":0},{"$f":"X127*Utslippstall!$F$107","v":0},{"$f":"Y127*Utslippstall!$F$107","v":0},{"$f":"Z127*Utslippstall!$F$107","v":0},{"$f":"AA127*Utslippstall!$F$107","v":0},{"$f":"AB127*Utslippstall!$F$107","v":0},{"$f":"AC127*Utslippstall!$F$107","v":0},{"$f":"AD127*Utslippstall!$F$107","v":0},{"$f":"AE127*Utslippstall!$F$107","v":0},{"$f":"AF127*Utslippstall!$F$107","v":0},{"$f":"AG127*Utslippstall!$F$107","v":0},{"$f":"AH127*Utslippstall!$F$107","v":0},{"$f":"AI127*Utslippstall!$F$107","v":0},{"$f":"AJ127*Utslippstall!$F$107","v":0},{"$f":"AK127*Utslippstall!$F$107","v":0},{"$f":"AL127*Utslippstall!$F$107","v":0},{"$f":"AM127*Utslippstall!$F$107","v":0},{"$f":"AN127*Utslippstall!$F$107","v":0},{"$f":"AO127*Utslippstall!$F$107","v":0},{"$f":"AP127*Utslippstall!$F$107","v":0},{"$f":"AQ127*Utslippstall!$F$107","v":0},{"$f":"AR127*Utslippstall!$F$107","v":0},{"$f":"AS127*Utslippstall!$F$107","v":0},{"$f":"AT127*Utslippstall!$F$107","v":0},{"$f":"AU127*Utslippstall!$F$107","v":0},{"$f":"AV127*Utslippstall!$F$107","v":0},{"$f":"AW127*Utslippstall!$F$107","v":0},{"$f":"AX127*Utslippstall!$F$107","v":0},{"$f":"AY127*Utslippstall!$F$107","v":0},{"$f":"AZ127*Utslippstall!$F$107","v":0},{"$f":"BA127*Utslippstall!$F$107","v":0},{"$f":"BB127*Utslippstall!$F$107","v":0},{"$f":"BC127*Utslippstall!$F$107","v":0},{"$f":"BD127*Utslippstall!$F$107","v":0},{"$f":"BE127*Utslippstall!$F$107","v":0}]
[null,null,null,null,"Drikke diverse",{"$f":"F128*Utslippstall!F108","v":0},{"$f":"G128*Utslippstall!F108","v":0},{"$f":"H128*Utslippstall!F108","v":0},{"$f":"I128*Utslippstall!$F$108","v":0},{"$f":"J128*Utslippstall!$F$108","v":0},{"$f":"K128*Utslippstall!$F$108","v":0},{"$f":"L128*Utslippstall!$F$108","v":0},{"$f":"M128*Utslippstall!$F$108","v":0},{"$f":"N128*Utslippstall!$F$108","v":0},{"$f":"O128*Utslippstall!$F$108","v":0},{"$f":"P128*Utslippstall!$F$108","v":0},{"$f":"Q128*Utslippstall!$F$108","v":0},{"$f":"R128*Utslippstall!$F$108","v":0},{"$f":"S128*Utslippstall!$F$108","v":0},{"$f":"T128*Utslippstall!$F$108","v":0},{"$f":"U128*Utslippstall!$F$108","v":0},{"$f":"V128*Utslippstall!$F$108","v":0},{"$f":"W128*Utslippstall!$F$108","v":0},{"$f":"X128*Utslippstall!$F$108","v":0},{"$f":"Y128*Utslippstall!$F$108","v":0},{"$f":"Z128*Utslippstall!$F$108","v":0},{"$f":"AA128*Utslippstall!$F$108","v":0},{"$f":"AB128*Utslippstall!$F$108","v":0},{"$f":"AC128*Utslippstall!$F$108","v":0},{"$f":"AD128*Utslippstall!$F$108","v":0},{"$f":"AE128*Utslippstall!$F$108","v":0},{"$f":"AF128*Utslippstall!$F$108","v":0},{"$f":"AG128*Utslippstall!$F$108","v":0},{"$f":"AH128*Utslippstall!$F$108","v":0},{"$f":"AI128*Utslippstall!$F$108","v":0},{"$f":"AJ128*Utslippstall!$F$108","v":0},{"$f":"AK128*Utslippstall!$F$108","v":0},{"$f":"AL128*Utslippstall!$F$108","v":0},{"$f":"AM128*Utslippstall!$F$108","v":0},{"$f":"AN128*Utslippstall!$F$108","v":0},{"$f":"AO128*Utslippstall!$F$108","v":0},{"$f":"AP128*Utslippstall!$F$108","v":0},{"$f":"AQ128*Utslippstall!$F$108","v":0},{"$f":"AR128*Utslippstall!$F$108","v":0},{"$f":"AS128*Utslippstall!$F$108","v":0},{"$f":"AT128*Utslippstall!$F$108","v":0},{"$f":"AU128*Utslippstall!$F$108","v":0},{"$f":"AV128*Utslippstall!$F$108","v":0},{"$f":"AW128*Utslippstall!$F$108","v":0},{"$f":"AX128*Utslippstall!$F$108","v":0},{"$f":"AY128*Utslippstall!$F$108","v":0},{"$f":"AZ128*Utslippstall!$F$108","v":0},{"$f":"BA128*Utslippstall!$F$108","v":0},{"$f":"BB128*Utslippstall!$F$108","v":0},{"$f":"BC128*Utslippstall!$F$108","v":0},{"$f":"BD128*Utslippstall!$F$108","v":0},{"$f":"BE128*Utslippstall!$F$108","v":0}]
[null,null,null,null,"Totalt",{"$f":"F135+F146+F151+F160+F167+F171+F172+F173+F177+F184+F189+F198+F209+F212+F222+F226","v":0},{"$f":"G135+G146+G151+G160+G167+G171+G172+G173+G177+G184+G189+G198+G209+G212+G222+G226","v":0},0,0,{"$f":"J135+J146+J151+J160+J167+J171+J172+J173+J177+J184+J189+J198+J209+J212+J222+J226","v":0},0,0,0,0,0,0,0,0,0,0,0,0,0,0,0,0,0,0,0,0,0,0,0,0,0,0,0,0,0,0,0,0,0,0,0,0,0,0,0,0,0,0,0,0,0,0,0]

{"sheet":"Oppfølging - Resultater","index":2,"n_rows":138,"n_cols":57,"rows_kept":138,"cut":false,"hidden":false,"merged":[[29,31,29,32],[86,4,86,9]]}
[]
[]
[]
[]
[]
[]
[null,null,null,"Veiledning"]
[]
[]
[]
[]
[]
[]
[]
[]
[]
[]
[]
[]
[]
[]
[]
[]
[]
[]
[]
[]
[]
[null,null,null,"Resultater"]
[]
[null,null,null,"2a.","Innkjøp i vekt (kg)"]
[]
[null,null,null,null,"Matvarer, hovedkategorier","Periode 1","Periode 2","Periode 3","Periode 4","Periode 5","Periode 6","Periode 7","Periode 8","Periode 9","Periode 10","Periode 11","Periode 12","Periode 13","Periode 14","Periode 15","Periode 16","Periode 17","Periode 18","Periode 19","Periode 20","Periode 21","Periode 22","Periode 23","Periode 24","Periode 25","Periode 26","Periode 27","Periode 28","Periode 29","Periode 30","Periode 31","Periode 32","Periode 33","Periode 34","Periode 35","Periode 36","Periode 37","Periode 38","Periode 39","Periode 40","Periode 41","Periode 42","Periode 43","Periode 44","Periode 45","Periode 46","Periode 47","Periode 48","Periode 49","Periode 50","Periode 51","Periode 52"]
[null,null,null,null,"Kjøtt",{"$f":"'Oppfølging - Inndata'!F30","v":0},{"$f":"'Oppfølging - Inndata'!G30","v":0},{"$f":"'Oppfølging - Inndata'!H30","v":0},{"$f":"'Oppfølging - Inndata'!I30","v":0},{"$f":"'Oppfølging - Inndata'!J30","v":0},{"$f":"'Oppfølging - Inndata'!K30","v":0},{"$f":"'Oppfølging - Inndata'!L30","v":0},{"$f":"'Oppfølging - Inndata'!M30","v":0},{"$f":"'Oppfølging - Inndata'!N30","v":0},{"$f":"'Oppfølging - Inndata'!O30","v":0},{"$f":"'Oppfølging - Inndata'!P30","v":0},{"$f":"'Oppfølging - Inndata'!Q30","v":0},{"$f":"'Oppfølging - Inndata'!R30","v":0},{"$f":"'Oppfølging - Inndata'!S30","v":0},{"$f":"'Oppfølging - Inndata'!T30","v":0},{"$f":"'Oppfølging - Inndata'!U30","v":0},{"$f":"'Oppfølging - Inndata'!V30","v":0},{"$f":"'Oppfølging - Inndata'!W30","v":0},{"$f":"'Oppfølging - Inndata'!X30","v":0},{"$f":"'Oppfølging - Inndata'!Y30","v":0},{"$f":"'Oppfølging - Inndata'!Z30","v":0},{"$f":"'Oppfølging - Inndata'!AA30","v":0},{"$f":"'Oppfølging - Inndata'!AB30","v":0},{"$f":"'Oppfølging - Inndata'!AC30","v":0},{"$f":"'Oppfølging - Inndata'!AD30","v":0},{"$f":"'Oppfølging - Inndata'!AE30","v":0},{"$f":"'Oppfølging - Inndata'!AF30","v":0},{"$f":"'Oppfølging - Inndata'!AG30","v":0},{"$f":"'Oppfølging - Inndata'!AH30","v":0},{"$f":"'Oppfølging - Inndata'!AI30","v":0},{"$f":"'Oppfølging - Inndata'!AJ30","v":0},{"$f":"'Oppfølging - Inndata'!AK30","v":0},{"$f":"'Oppfølging - Inndata'!AL30","v":0},{"$f":"'Oppfølging - Inndata'!AM30","v":0},{"$f":"'Oppfølging - Inndata'!AN30","v":0},{"$f":"'Oppfølging - Inndata'!AO30","v":0},{"$f":"'Oppfølging - Inndata'!AP30","v":0},{"$f":"'Oppfølging - Inndata'!AQ30","v":0},{"$f":"'Oppfølging - Inndata'!AR30","v":0},{"$f":"'Oppfølging - Inndata'!AS30","v":0},{"$f":"'Oppfølging - Inndata'!AT30","v":0},{"$f":"'Oppfølging - Inndata'!AU30","v":0},{"$f":"'Oppfølging - Inndata'!AV30","v":0},{"$f":"'Oppfølging - Inndata'!AW30","v":0},{"$f":"'Oppfølging - Inndata'!AX30","v":0},{"$f":"'Oppfølging - Inndata'!AY30","v":0},{"$f":"'Oppfølging - Inndata'!AZ30","v":0},{"$f":"'Oppfølging - Inndata'!BA30","v":0},{"$f":"'Oppfølging - Inndata'!BB30","v":0},{"$f":"'Oppfølging - Inndata'!BC30","v":0},{"$f":"'Oppfølging - Inndata'!BD30","v":0},{"$f":"'Oppfølging - Inndata'!BE30","v":0}]
[null,null,null,null,"Fisk og skalldyr",{"$f":"'Oppfølging - Inndata'!F41","v":0},{"$f":"'Oppfølging - Inndata'!G41","v":0},{"$f":"'Oppfølging - Inndata'!H41","v":0},{"$f":"'Oppfølging - Inndata'!I41","v":0},{"$f":"'Oppfølging - Inndata'!J41","v":0},{"$f":"'Oppfølging - Inndata'!K41","v":0},{"$f":"'Oppfølging - Inndata'!L41","v":0},{"$f":"'Oppfølging - Inndata'!M41","v":0},{"$f":"'Oppfølging - Inndata'!N41","v":0},{"$f":"'Oppfølging - Inndata'!O41","v":0},{"$f":"'Oppfølging - Inndata'!P41","v":0},{"$f":"'Oppfølging - Inndata'!Q41","v":0},{"$f":"'Oppfølging - Inndata'!R41","v":0},{"$f":"'Oppfølging - Inndata'!S41","v":0},{"$f":"'Oppfølging - Inndata'!T41","v":0},{"$f":"'Oppfølging - Inndata'!U41","v":0},{"$f":"'Oppfølging - Inndata'!V41","v":0},{"$f":"'Oppfølging - Inndata'!W41","v":0},{"$f":"'Oppfølging - Inndata'!X41","v":0},{"$f":"'Oppfølging - Inndata'!Y41","v":0},{"$f":"'Oppfølging - Inndata'!Z41","v":0},{"$f":"'Oppfølging - Inndata'!AA41","v":0},{"$f":"'Oppfølging - Inndata'!AB41","v":0},{"$f":"'Oppfølging - Inndata'!AC41","v":0},{"$f":"'Oppfølging - Inndata'!AD41","v":0},{"$f":"'Oppfølging - Inndata'!AE41","v":0},{"$f":"'Oppfølging - Inndata'!AF41","v":0},{"$f":"'Oppfølging - Inndata'!AG41","v":0},{"$f":"'Oppfølging - Inndata'!AH41","v":0},{"$f":"'Oppfølging - Inndata'!AI41","v":0},{"$f":"'Oppfølging - Inndata'!AJ41","v":0},{"$f":"'Oppfølging - Inndata'!AK41","v":0},{"$f":"'Oppfølging - Inndata'!AL41","v":0},{"$f":"'Oppfølging - Inndata'!AM41","v":0},{"$f":"'Oppfølging - Inndata'!AN41","v":0},{"$f":"'Oppfølging - Inndata'!AO41","v":0},{"$f":"'Oppfølging - Inndata'!AP41","v":0},{"$f":"'Oppfølging - Inndata'!AQ41","v":0},{"$f":"'Oppfølging - Inndata'!AR41","v":0},{"$f":"'Oppfølging - Inndata'!AS41","v":0},{"$f":"'Oppfølging - Inndata'!AT41","v":0},{"$f":"'Oppfølging - Inndata'!AU41","v":0},{"$f":"'Oppfølging - Inndata'!AV41","v":0},{"$f":"'Oppfølging - Inndata'!AW41","v":0},{"$f":"'Oppfølging - Inndata'!AX41","v":0},{"$f":"'Oppfølging - Inndata'!AY41","v":0},{"$f":"'Oppfølging - Inndata'!AZ41","v":0},{"$f":"'Oppfølging - Inndata'!BA41","v":0},{"$f":"'Oppfølging - Inndata'!BB41","v":0},{"$f":"'Oppfølging - Inndata'!BC41","v":0},{"$f":"'Oppfølging - Inndata'!BD41","v":0},{"$f":"'Oppfølging - Inndata'!BE41","v":0}]
[null,null,null,null,"Egg og meieri",{"$f":"'Oppfølging - Inndata'!F46","v":0},{"$f":"'Oppfølging - Inndata'!G46","v":0},{"$f":"'Oppfølging - Inndata'!H46","v":0},{"$f":"'Oppfølging - Inndata'!I46","v":0},{"$f":"'Oppfølging - Inndata'!J46","v":0},{"$f":"'Oppfølging - Inndata'!K46","v":0},{"$f":"'Oppfølging - Inndata'!L46","v":0},{"$f":"'Oppfølging - Inndata'!M46","v":0},{"$f":"'Oppfølging - Inndata'!N46","v":0},{"$f":"'Oppfølging - Inndata'!O46","v":0},{"$f":"'Oppfølging - Inndata'!P46","v":0},{"$f":"'Oppfølging - Inndata'!Q46","v":0},{"$f":"'Oppfølging - Inndata'!R46","v":0},{"$f":"'Oppfølging - Inndata'!S46","v":0},{"$f":"'Oppfølging - Inndata'!T46","v":0},{"$f":"'Oppfølging - Inndata'!U46","v":0},{"$f":"'Oppfølging - Inndata'!V46","v":0},{"$f":"'Oppfølging - Inndata'!W46","v":0},{"$f":"'Oppfølging - Inndata'!X46","v":0},{"$f":"'Oppfølging - Inndata'!Y46","v":0},{"$f":"'Oppfølging - Inndata'!Z46","v":0},{"$f":"'Oppfølging - Inndata'!AA46","v":0},{"$f":"'Oppfølging - Inndata'!AB46","v":0},{"$f":"'Oppfølging - Inndata'!AC46","v":0},{"$f":"'Oppfølging - Inndata'!AD46","v":0},{"$f":"'Oppfølging - Inndata'!AE46","v":0},{"$f":"'Oppfølging - Inndata'!AF46","v":0},{"$f":"'Oppfølging - Inndata'!AG46","v":0},{"$f":"'Oppfølging - Inndata'!AH46","v":0},{"$f":"'Oppfølging - Inndata'!AI46","v":0},{"$f":"'Oppfølging - Inndata'!AJ46","v":0},{"$f":"'Oppfølging - Inndata'!AK46","v":0},{"$f":"'Oppfølging - Inndata'!AL46","v":0},{"$f":"'Oppfølging - Inndata'!AM46","v":0},{"$f":"'Oppfølging - Inndata'!AN46","v":0},{"$f":"'Oppfølging - Inndata'!AO46","v":0},{"$f":"'Oppfølging - Inndata'!AP46","v":0},{"$f":"'Oppfølging - Inndata'!AQ46","v":0},{"$f":"'Oppfølging - Inndata'!AR46","v":0},{"$f":"'Oppfølging - Inndata'!AS46","v":0},{"$f":"'Oppfølging - Inndata'!AT46","v":0},{"$f":"'Oppfølging - Inndata'!AU46","v":0},{"$f":"'Oppfølging - Inndata'!AV46","v":0},{"$f":"'Oppfølging - Inndata'!AW46","v":0},{"$f":"'Oppfølging - Inndata'!AX46","v":0},{"$f":"'Oppfølging - Inndata'!AY46","v":0},{"$f":"'Oppfølging - Inndata'!AZ46","v":0},{"$f":"'Oppfølging - Inndata'!BA46","v":0},{"$f":"'Oppfølging - Inndata'!BB46","v":0},{"$f":"'Oppfølging - Inndata'!BC46","v":0},{"$f":"'Oppfølging - Inndata'!BD46","v":0},{"$f":"'Oppfølging - Inndata'!BE46","v":0}]
[null,null,null,null,"Korn",{"$f":"'Oppfølging - Inndata'!F55","v":0},{"$f":"'Oppfølging - Inndata'!G55","v":0},{"$f":"'Oppfølging - Inndata'!H55","v":0},{"$f":"'Oppfølging - Inndata'!I55","v":0},{"$f":"'Oppfølging - Inndata'!J55","v":0},{"$f":"'Oppfølging - Inndata'!K55","v":0},{"$f":"'Oppfølging - Inndata'!L55","v":0},{"$f":"'Oppfølging - Inndata'!M55","v":0},{"$f":"'Oppfølging - Inndata'!N55","v":0},{"$f":"'Oppfølging - Inndata'!O55","v":0},{"$f":"'Oppfølging - Inndata'!P55","v":0},{"$f":"'Oppfølging - Inndata'!Q55","v":0},{"$f":"'Oppfølging - Inndata'!R55","v":0},{"$f":"'Oppfølging - Inndata'!S55","v":0},{"$f":"'Oppfølging - Inndata'!T55","v":0},{"$f":"'Oppfølging - Inndata'!U55","v":0},{"$f":"'Oppfølging - Inndata'!V55","v":0},{"$f":"'Oppfølging - Inndata'!W55","v":0},{"$f":"'Oppfølging - Inndata'!X55","v":0},{"$f":"'Oppfølging - Inndata'!Y55","v":0},{"$f":"'Oppfølging - Inndata'!Z55","v":0},{"$f":"'Oppfølging - Inndata'!AA55","v":0},{"$f":"'Oppfølging - Inndata'!AB55","v":0},{"$f":"'Oppfølging - Inndata'!AC55","v":0},{"$f":"'Oppfølging - Inndata'!AD55","v":0},{"$f":"'Oppfølging - Inndata'!AE55","v":0},{"$f":"'Oppfølging - Inndata'!AF55","v":0},{"$f":"'Oppfølging - Inndata'!AG55","v":0},{"$f":"'Oppfølging - Inndata'!AH55","v":0},{"$f":"'Oppfølging - Inndata'!AI55","v":0},{"$f":"'Oppfølging - Inndata'!AJ55","v":0},{"$f":"'Oppfølging - Inndata'!AK55","v":0},{"$f":"'Oppfølging - Inndata'!AL55","v":0},{"$f":"'Oppfølging - Inndata'!AM55","v":0},{"$f":"'Oppfølging - Inndata'!AN55","v":0},{"$f":"'Oppfølging - Inndata'!AO55","v":0},{"$f":"'Oppfølging - Inndata'!AP55","v":0},{"$f":"'Oppfølging - Inndata'!AQ55","v":0},{"$f":"'Oppfølging - Inndata'!AR55","v":0},{"$f":"'Oppfølging - Inndata'!AS55","v":0},{"$f":"'Oppfølging - Inndata'!AT55","v":0},{"$f":"'Oppfølging - Inndata'!AU55","v":0},{"$f":"'Oppfølging - Inndata'!AV55","v":0},{"$f":"'Oppfølging - Inndata'!AW55","v":0},{"$f":"'Oppfølging - Inndata'!AX55","v":0},{"$f":"'Oppfølging - Inndata'!AY55","v":0},{"$f":"'Oppfølging - Inndata'!AZ55","v":0},{"$f":"'Oppfølging - Inndata'!BA55","v":0},{"$f":"'Oppfølging - Inndata'!BB55","v":0},{"$f":"'Oppfølging - Inndata'!BC55","v":0},{"$f":"'Oppfølging - Inndata'!BD55","v":0},{"$f":"'Oppfølging - Inndata'!BE55","v":0}]
[null,null,null,null,"Grønnsaker, krydder og sopp",{"$f":"'Oppfølging - Inndata'!F62","v":0},{"$f":"'Oppfølging - Inndata'!G62","v":0},{"$f":"'Oppfølging - Inndata'!H62","v":0},{"$f":"'Oppfølging - Inndata'!I62","v":0},{"$f":"'Oppfølging - Inndata'!J62","v":0},{"$f":"'Oppfølging - Inndata'!K62","v":0},{"$f":"'Oppfølging - Inndata'!L62","v":0},{"$f":"'Oppfølging - Inndata'!M62","v":0},{"$f":"'Oppfølging - Inndata'!N62","v":0},{"$f":"'Oppfølging - Inndata'!O62","v":0},{"$f":"'Oppfølging - Inndata'!P62","v":0},{"$f":"'Oppfølging - Inndata'!Q62","v":0},{"$f":"'Oppfølging - Inndata'!R62","v":0},{"$f":"'Oppfølging - Inndata'!S62","v":0},{"$f":"'Oppfølging - Inndata'!T62","v":0},{"$f":"'Oppfølging - Inndata'!U62","v":0},{"$f":"'Oppfølging - Inndata'!V62","v":0},{"$f":"'Oppfølging - Inndata'!W62","v":0},{"$f":"'Oppfølging - Inndata'!X62","v":0},{"$f":"'Oppfølging - Inndata'!Y62","v":0},{"$f":"'Oppfølging - Inndata'!Z62","v":0},{"$f":"'Oppfølging - Inndata'!AA62","v":0},{"$f":"'Oppfølging - Inndata'!AB62","v":0},{"$f":"'Oppfølging - Inndata'!AC62","v":0},{"$f":"'Oppfølging - Inndata'!AD62","v":0},{"$f":"'Oppfølging - Inndata'!AE62","v":0},{"$f":"'Oppfølging - Inndata'!AF62","v":0},{"$f":"'Oppfølging - Inndata'!AG62","v":0},{"$f":"'Oppfølging - Inndata'!AH62","v":0},{"$f":"'Oppfølging - Inndata'!AI62","v":0},{"$f":"'Oppfølging - Inndata'!AJ62","v":0},{"$f":"'Oppfølging - Inndata'!AK62","v":0},{"$f":"'Oppfølging - Inndata'!AL62","v":0},{"$f":"'Oppfølging - Inndata'!AM62","v":0},{"$f":"'Oppfølging - Inndata'!AN62","v":0},{"$f":"'Oppfølging - Inndata'!AO62","v":0},{"$f":"'Oppfølging - Inndata'!AP62","v":0},{"$f":"'Oppfølging - Inndata'!AQ62","v":0},{"$f":"'Oppfølging - Inndata'!AR62","v":0},{"$f":"'Oppfølging - Inndata'!AS62","v":0},{"$f":"'Oppfølging - Inndata'!AT62","v":0},{"$f":"'Oppfølging - Inndata'!AU62","v":0},{"$f":"'Oppfølging - Inndata'!AV62","v":0},{"$f":"'Oppfølging - Inndata'!AW62","v":0},{"$f":"'Oppfølging - Inndata'!AX62","v":0},{"$f":"'Oppfølging - Inndata'!AY62","v":0},{"$f":"'Oppfølging - Inndata'!AZ62","v":0},{"$f":"'Oppfølging - Inndata'!BA62","v":0},{"$f":"'Oppfølging - Inndata'!BB62","v":0},{"$f":"'Oppfølging - Inndata'!BC62","v":0},{"$f":"'Oppfølging - Inndata'!BD62","v":0},{"$f":"'Oppfølging - Inndata'!BE62","v":0}]
[null,null,null,null,"Frukt og bær",{"$f":"'Oppfølging - Inndata'!F66","v":0},{"$f":"'Oppfølging - Inndata'!G66","v":0},{"$f":"'Oppfølging - Inndata'!H66","v":0},{"$f":"'Oppfølging - Inndata'!I66","v":0},{"$f":"'Oppfølging - Inndata'!J66","v":0},{"$f":"'Oppfølging - Inndata'!K66","v":0},{"$f":"'Oppfølging - Inndata'!L66","v":0},{"$f":"'Oppfølging - Inndata'!M66","v":0},{"$f":"'Oppfølging - Inndata'!N66","v":0},{"$f":"'Oppfølging - Inndata'!O66","v":0},{"$f":"'Oppfølging - Inndata'!P66","v":0},{"$f":"'Oppfølging - Inndata'!Q66","v":0},{"$f":"'Oppfølging - Inndata'!R66","v":0},{"$f":"'Oppfølging - Inndata'!S66","v":0},{"$f":"'Oppfølging - Inndata'!T66","v":0},{"$f":"'Oppfølging - Inndata'!U66","v":0},{"$f":"'Oppfølging - Inndata'!V66","v":0},{"$f":"'Oppfølging - Inndata'!W66","v":0},{"$f":"'Oppfølging - Inndata'!X66","v":0},{"$f":"'Oppfølging - Inndata'!Y66","v":0},{"$f":"'Oppfølging - Inndata'!Z66","v":0},{"$f":"'Oppfølging - Inndata'!AA66","v":0},{"$f":"'Oppfølging - Inndata'!AB66","v":0},{"$f":"'Oppfølging - Inndata'!AC66","v":0},{"$f":"'Oppfølging - Inndata'!AD66","v":0},{"$f":"'Oppfølging - Inndata'!AE66","v":0},{"$f":"'Oppfølging - Inndata'!AF66","v":0},{"$f":"'Oppfølging - Inndata'!AG66","v":0},{"$f":"'Oppfølging - Inndata'!AH66","v":0},{"$f":"'Oppfølging - Inndata'!AI66","v":0},{"$f":"'Oppfølging - Inndata'!AJ66","v":0},{"$f":"'Oppfølging - Inndata'!AK66","v":0},{"$f":"'Oppfølging - Inndata'!AL66","v":0},{"$f":"'Oppfølging - Inndata'!AM66","v":0},{"$f":"'Oppfølging - Inndata'!AN66","v":0},{"$f":"'Oppfølging - Inndata'!AO66","v":0},{"$f":"'Oppfølging - Inndata'!AP66","v":0},{"$f":"'Oppfølging - Inndata'!AQ66","v":0},{"$f":"'Oppfølging - Inndata'!AR66","v":0},{"$f":"'Oppfølging - Inndata'!AS66","v":0},{"$f":"'Oppfølging - Inndata'!AT66","v":0},{"$f":"'Oppfølging - Inndata'!AU66","v":0},{"$f":"'Oppfølging - Inndata'!AV66","v":0},{"$f":"'Oppfølging - Inndata'!AW66","v":0},{"$f":"'Oppfølging - Inndata'!AX66","v":0},{"$f":"'Oppfølging - Inndata'!AY66","v":0},{"$f":"'Oppfølging - Inndata'!AZ66","v":0},{"$f":"'Oppfølging - Inndata'!BA66","v":0},{"$f":"'Oppfølging - Inndata'!BB66","v":0},{"$f":"'Oppfølging - Inndata'!BC66","v":0},{"$f":"'Oppfølging - Inndata'!BD66","v":0},{"$f":"'Oppfølging - Inndata'!BE66","v":0}]
[null,null,null,null,"Nøtter og frø",{"$f":"'Oppfølging - Inndata'!F67","v":0},{"$f":"'Oppfølging - Inndata'!G67","v":0},{"$f":"'Oppfølging - Inndata'!H67","v":0},{"$f":"'Oppfølging - Inndata'!I67","v":0},{"$f":"'Oppfølging - Inndata'!J67","v":0},{"$f":"'Oppfølging - Inndata'!K67","v":0},{"$f":"'Oppfølging - Inndata'!L67","v":0},{"$f":"'Oppfølging - Inndata'!M67","v":0},{"$f":"'Oppfølging - Inndata'!N67","v":0},{"$f":"'Oppfølging - Inndata'!O67","v":0},{"$f":"'Oppfølging - Inndata'!P67","v":0},{"$f":"'Oppfølging - Inndata'!Q67","v":0},{"$f":"'Oppfølging - Inndata'!R67","v":0},{"$f":"'Oppfølging - Inndata'!S67","v":0},{"$f":"'Oppfølging - Inndata'!T67","v":0},{"$f":"'Oppfølging - Inndata'!U67","v":0},{"$f":"'Oppfølging - Inndata'!V67","v":0},{"$f":"'Oppfølging - Inndata'!W67","v":0},{"$f":"'Oppfølging - Inndata'!X67","v":0},{"$f":"'Oppfølging - Inndata'!Y67","v":0},{"$f":"'Oppfølging - Inndata'!Z67","v":0},{"$f":"'Oppfølging - Inndata'!AA67","v":0},{"$f":"'Oppfølging - Inndata'!AB67","v":0},{"$f":"'Oppfølging - Inndata'!AC67","v":0},{"$f":"'Oppfølging - Inndata'!AD67","v":0},{"$f":"'Oppfølging - Inndata'!AE67","v":0},{"$f":"'Oppfølging - Inndata'!AF67","v":0},{"$f":"'Oppfølging - Inndata'!AG67","v":0},{"$f":"'Oppfølging - Inndata'!AH67","v":0},{"$f":"'Oppfølging - Inndata'!AI67","v":0},{"$f":"'Oppfølging - Inndata'!AJ67","v":0},{"$f":"'Oppfølging - Inndata'!AK67","v":0},{"$f":"'Oppfølging - Inndata'!AL67","v":0},{"$f":"'Oppfølging - Inndata'!AM67","v":0},{"$f":"'Oppfølging - Inndata'!AN67","v":0},{"$f":"'Oppfølging - Inndata'!AO67","v":0},{"$f":"'Oppfølging - Inndata'!AP67","v":0},{"$f":"'Oppfølging - Inndata'!AQ67","v":0},{"$f":"'Oppfølging - Inndata'!AR67","v":0},{"$f":"'Oppfølging - Inndata'!AS67","v":0},{"$f":"'Oppfølging - Inndata'!AT67","v":0},{"$f":"'Oppfølging - Inndata'!AU67","v":0},{"$f":"'Oppfølging - Inndata'!AV67","v":0},{"$f":"'Oppfølging - Inndata'!AW67","v":0},{"$f":"'Oppfølging - Inndata'!AX67","v":0},{"$f":"'Oppfølging - Inndata'!AY67","v":0},{"$f":"'Oppfølging - Inndata'!AZ67","v":0},{"$f":"'Oppfølging - Inndata'!BA67","v":0},{"$f":"'Oppfølging - Inndata'!BB67","v":0},{"$f":"'Oppfølging - Inndata'!BC67","v":0},{"$f":"'Oppfølging - Inndata'!BD67","v":0},{"$f":"'Oppfølging - Inndata'!BE67","v":0}]
[null,null,null,null,"Sukker",{"$f":"'Oppfølging - Inndata'!F68","v":0},{"$f":"'Oppfølging - Inndata'!G68","v":0},{"$f":"'Oppfølging - Inndata'!H68","v":0},{"$f":"'Oppfølging - Inndata'!I68","v":0},{"$f":"'Oppfølging - Inndata'!J68","v":0},{"$f":"'Oppfølging - Inndata'!K68","v":0},{"$f":"'Oppfølging - Inndata'!L68","v":0},{"$f":"'Oppfølging - Inndata'!M68","v":0},{"$f":"'Oppfølging - Inndata'!N68","v":0},{"$f":"'Oppfølging - Inndata'!O68","v":0},{"$f":"'Oppfølging - Inndata'!P68","v":0},{"$f":"'Oppfølging - Inndata'!Q68","v":0},{"$f":"'Oppfølging - Inndata'!R68","v":0},{"$f":"'Oppfølging - Inndata'!S68","v":0},{"$f":"'Oppfølging - Inndata'!T68","v":0},{"$f":"'Oppfølging - Inndata'!U68","v":0},{"$f":"'Oppfølging - Inndata'!V68","v":0},{"$f":"'Oppfølging - Inndata'!W68","v":0},{"$f":"'Oppfølging - Inndata'!X68","v":0},{"$f":"'Oppfølging - Inndata'!Y68","v":0},{"$f":"'Oppfølging - Inndata'!Z68","v":0},{"$f":"'Oppfølging - Inndata'!AA68","v":0},{"$f":"'Oppfølging - Inndata'!AB68","v":0},{"$f":"'Oppfølging - Inndata'!AC68","v":0},{"$f":"'Oppfølging - Inndata'!AD68","v":0},{"$f":"'Oppfølging - Inndata'!AE68","v":0},{"$f":"'Oppfølging - Inndata'!AF68","v":0},{"$f":"'Oppfølging - Inndata'!AG68","v":0},{"$f":"'Oppfølging - Inndata'!AH68","v":0},{"$f":"'Oppfølging - Inndata'!AI68","v":0},{"$f":"'Oppfølging - Inndata'!AJ68","v":0},{"$f":"'Oppfølging - Inndata'!AK68","v":0},{"$f":"'Oppfølging - Inndata'!AL68","v":0},{"$f":"'Oppfølging - Inndata'!AM68","v":0},{"$f":"'Oppfølging - Inndata'!AN68","v":0},{"$f":"'Oppfølging - Inndata'!AO68","v":0},{"$f":"'Oppfølging - Inndata'!AP68","v":0},{"$f":"'Oppfølging - Inndata'!AQ68","v":0},{"$f":"'Oppfølging - Inndata'!AR68","v":0},{"$f":"'Oppfølging - Inndata'!AS68","v":0},{"$f":"'Oppfølging - Inndata'!AT68","v":0},{"$f":"'Oppfølging - Inndata'!AU68","v":0},{"$f":"'Oppfølging - Inndata'!AV68","v":0},{"$f":"'Oppfølging - Inndata'!AW68","v":0},{"$f":"'Oppfølging - Inndata'!AX68","v":0},{"$f":"'Oppfølging - Inndata'!AY68","v":0},{"$f":"'Oppfølging - Inndata'!AZ68","v":0},{"$f":"'Oppfølging - Inndata'!BA68","v":0},{"$f":"'Oppfølging - Inndata'!BB68","v":0},{"$f":"'Oppfølging - Inndata'!BC68","v":0},{"$f":"'Oppfølging - Inndata'!BD68","v":0},{"$f":"'Oppfølging - Inndata'!BE68","v":0}]
[null,null,null,null,"Olje og fett",{"$f":"'Oppfølging - Inndata'!F72","v":0},{"$f":"'Oppfølging - Inndata'!G72","v":0},{"$f":"'Oppfølging - Inndata'!H72","v":0},{"$f":"'Oppfølging - Inndata'!I72","v":0},{"$f":"'Oppfølging - Inndata'!J72","v":0},{"$f":"'Oppfølging - Inndata'!K72","v":0},{"$f":"'Oppfølging - Inndata'!L72","v":0},{"$f":"'Oppfølging - Inndata'!M72","v":0},{"$f":"'Oppfølging - Inndata'!N72","v":0},{"$f":"'Oppfølging - Inndata'!O72","v":0},{"$f":"'Oppfølging - Inndata'!P72","v":0},{"$f":"'Oppfølging - Inndata'!Q72","v":0},{"$f":"'Oppfølging - Inndata'!R72","v":0},{"$f":"'Oppfølging - Inndata'!S72","v":0},{"$f":"'Oppfølging - Inndata'!T72","v":0},{"$f":"'Oppfølging - Inndata'!U72","v":0},{"$f":"'Oppfølging - Inndata'!V72","v":0},{"$f":"'Oppfølging - Inndata'!W72","v":0},{"$f":"'Oppfølging - Inndata'!X72","v":0},{"$f":"'Oppfølging - Inndata'!Y72","v":0},{"$f":"'Oppfølging - Inndata'!Z72","v":0},{"$f":"'Oppfølging - Inndata'!AA72","v":0},{"$f":"'Oppfølging - Inndata'!AB72","v":0},{"$f":"'Oppfølging - Inndata'!AC72","v":0},{"$f":"'Oppfølging - Inndata'!AD72","v":0},{"$f":"'Oppfølging - Inndata'!AE72","v":0},{"$f":"'Oppfølging - Inndata'!AF72","v":0},{"$f":"'Oppfølging - Inndata'!AG72","v":0},{"$f":"'Oppfølging - Inndata'!AH72","v":0},{"$f":"'Oppfølging - Inndata'!AI72","v":0},{"$f":"'Oppfølging - Inndata'!AJ72","v":0},{"$f":"'Oppfølging - Inndata'!AK72","v":0},{"$f":"'Oppfølging - Inndata'!AL72","v":0},{"$f":"'Oppfølging - Inndata'!AM72","v":0},{"$f":"'Oppfølging - Inndata'!AN72","v":0},{"$f":"'Oppfølging - Inndata'!AO72","v":0},{"$f":"'Oppfølging - Inndata'!AP72","v":0},{"$f":"'Oppfølging - Inndata'!AQ72","v":0},{"$f":"'Oppfølging - Inndata'!AR72","v":0},{"$f":"'Oppfølging - Inndata'!AS72","v":0},{"$f":"'Oppfølging - Inndata'!AT72","v":0},{"$f":"'Oppfølging - Inndata'!AU72","v":0},{"$f":"'Oppfølging - Inndata'!AV72","v":0},{"$f":"'Oppfølging - Inndata'!AW72","v":0},{"$f":"'Oppfølging - Inndata'!AX72","v":0},{"$f":"'Oppfølging - Inndata'!AY72","v":0},{"$f":"'Oppfølging - Inndata'!AZ72","v":0},{"$f":"'Oppfølging - Inndata'!BA72","v":0},{"$f":"'Oppfølging - Inndata'!BB72","v":0},{"$f":"'Oppfølging - Inndata'!BC72","v":0},{"$f":"'Oppfølging - Inndata'!BD72","v":0},{"$f":"'Oppfølging - Inndata'!BE72","v":0}]
[null,null,null,null,"Kjeks, kaker og godteri",{"$f":"'Oppfølging - Inndata'!F79","v":0},{"$f":"'Oppfølging - Inndata'!G79","v":0},{"$f":"'Oppfølging - Inndata'!H79","v":0},{"$f":"'Oppfølging - Inndata'!I79","v":0},{"$f":"'Oppfølging - Inndata'!J79","v":0},{"$f":"'Oppfølging - Inndata'!K79","v":0},{"$f":"'Oppfølging - Inndata'!L79","v":0},{"$f":"'Oppfølging - Inndata'!M79","v":0},{"$f":"'Oppfølging - Inndata'!N79","v":0},{"$f":"'Oppfølging - Inndata'!O79","v":0},{"$f":"'Oppfølging - Inndata'!P79","v":0},{"$f":"'Oppfølging - Inndata'!Q79","v":0},{"$f":"'Oppfølging - Inndata'!R79","v":0},{"$f":"'Oppfølging - Inndata'!S79","v":0},{"$f":"'Oppfølging - Inndata'!T79","v":0},{"$f":"'Oppfølging - Inndata'!U79","v":0},{"$f":"'Oppfølging - Inndata'!V79","v":0},{"$f":"'Oppfølging - Inndata'!W79","v":0},{"$f":"'Oppfølging - Inndata'!X79","v":0},{"$f":"'Oppfølging - Inndata'!Y79","v":0},{"$f":"'Oppfølging - Inndata'!Z79","v":0},{"$f":"'Oppfølging - Inndata'!AA79","v":0},{"$f":"'Oppfølging - Inndata'!AB79","v":0},{"$f":"'Oppfølging - Inndata'!AC79","v":0},{"$f":"'Oppfølging - Inndata'!AD79","v":0},{"$f":"'Oppfølging - Inndata'!AE79","v":0},{"$f":"'Oppfølging - Inndata'!AF79","v":0},{"$f":"'Oppfølging - Inndata'!AG79","v":0},{"$f":"'Oppfølging - Inndata'!AH79","v":0},{"$f":"'Oppfølging - Inndata'!AI79","v":0},{"$f":"'Oppfølging - Inndata'!AJ79","v":0},{"$f":"'Oppfølging - Inndata'!AK79","v":0},{"$f":"'Oppfølging - Inndata'!AL79","v":0},{"$f":"'Oppfølging - Inndata'!AM79","v":0},{"$f":"'Oppfølging - Inndata'!AN79","v":0},{"$f":"'Oppfølging - Inndata'!AO79","v":0},{"$f":"'Oppfølging - Inndata'!AP79","v":0},{"$f":"'Oppfølging - Inndata'!AQ79","v":0},{"$f":"'Oppfølging - Inndata'!AR79","v":0},{"$f":"'Oppfølging - Inndata'!AS79","v":0},{"$f":"'Oppfølging - Inndata'!AT79","v":0},{"$f":"'Oppfølging - Inndata'!AU79","v":0},{"$f":"'Oppfølging - Inndata'!AV79","v":0},{"$f":"'Oppfølging - Inndata'!AW79","v":0},{"$f":"'Oppfølging - Inndata'!AX79","v":0},{"$f":"'Oppfølging - Inndata'!AY79","v":0},{"$f":"'Oppfølging - Inndata'!AZ79","v":0},{"$f":"'Oppfølging - Inndata'!BA79","v":0},{"$f":"'Oppfølging - Inndata'!BB79","v":0},{"$f":"'Oppfølging - Inndata'!BC79","v":0},{"$f":"'Oppfølging - Inndata'!BD79","v":0},{"$f":"'Oppfølging - Inndata'!BE79","v":0}]
[null,null,null,null,"Kombinasjonsmåltider",{"$f":"'Oppfølging - Inndata'!F84","v":0},{"$f":"'Oppfølging - Inndata'!G84","v":0},{"$f":"'Oppfølging - Inndata'!H84","v":0},{"$f":"'Oppfølging - Inndata'!I84","v":0},{"$f":"'Oppfølging - Inndata'!J84","v":0},{"$f":"'Oppfølging - Inndata'!K84","v":0},{"$f":"'Oppfølging - Inndata'!L84","v":0},{"$f":"'Oppfølging - Inndata'!M84","v":0},{"$f":"'Oppfølging - Inndata'!N84","v":0},{"$f":"'Oppfølging - Inndata'!O84","v":0},{"$f":"'Oppfølging - Inndata'!P84","v":0},{"$f":"'Oppfølging - Inndata'!Q84","v":0},{"$f":"'Oppfølging - Inndata'!R84","v":0},{"$f":"'Oppfølging - Inndata'!S84","v":0},{"$f":"'Oppfølging - Inndata'!T84","v":0},{"$f":"'Oppfølging - Inndata'!U84","v":0},{"$f":"'Oppfølging - Inndata'!V84","v":0},{"$f":"'Oppfølging - Inndata'!W84","v":0},{"$f":"'Oppfølging - Inndata'!X84","v":0},{"$f":"'Oppfølging - Inndata'!Y84","v":0},{"$f":"'Oppfølging - Inndata'!Z84","v":0},{"$f":"'Oppfølging - Inndata'!AA84","v":0},{"$f":"'Oppfølging - Inndata'!AB84","v":0},{"$f":"'Oppfølging - Inndata'!AC84","v":0},{"$f":"'Oppfølging - Inndata'!AD84","v":0},{"$f":"'Oppfølging - Inndata'!AE84","v":0},{"$f":"'Oppfølging - Inndata'!AF84","v":0},{"$f":"'Oppfølging - Inndata'!AG84","v":0},{"$f":"'Oppfølging - Inndata'!AH84","v":0},{"$f":"'Oppfølging - Inndata'!AI84","v":0},{"$f":"'Oppfølging - Inndata'!AJ84","v":0},{"$f":"'Oppfølging - Inndata'!AK84","v":0},{"$f":"'Oppfølging - Inndata'!AL84","v":0},{"$f":"'Oppfølging - Inndata'!AM84","v":0},{"$f":"'Oppfølging - Inndata'!AN84","v":0},{"$f":"'Oppfølging - Inndata'!AO84","v":0},{"$f":"'Oppfølging - Inndata'!AP84","v":0},{"$f":"'Oppfølging - Inndata'!AQ84","v":0},{"$f":"'Oppfølging - Inndata'!AR84","v":0},{"$f":"'Oppfølging - Inndata'!AS84","v":0},{"$f":"'Oppfølging - Inndata'!AT84","v":0},{"$f":"'Oppfølging - Inndata'!AU84","v":0},{"$f":"'Oppfølging - Inndata'!AV84","v":0},{"$f":"'Oppfølging - Inndata'!AW84","v":0},{"$f":"'Oppfølging - Inndata'!AX84","v":0},{"$f":"'Oppfølging - Inndata'!AY84","v":0},{"$f":"'Oppfølging - Inndata'!AZ84","v":0},{"$f":"'Oppfølging - Inndata'!BA84","v":0},{"$f":"'Oppfølging - Inndata'!BB84","v":0},{"$f":"'Oppfølging - Inndata'!BC84","v":0},{"$f":"'Oppfølging - Inndata'!BD84","v":0},{"$f":"'Oppfølging - Inndata'!BE84","v":0}]
[null,null,null,null,"Sandwicher",{"$f":"'Oppfølging - Inndata'!F93","v":0},{"$f":"'Oppfølging - Inndata'!G93","v":0},{"$f":"'Oppfølging - Inndata'!H93","v":0},{"$f":"'Oppfølging - Inndata'!I93","v":0},{"$f":"'Oppfølging - Inndata'!J93","v":0},{"$f":"'Oppfølging - Inndata'!K93","v":0},{"$f":"'Oppfølging - Inndata'!L93","v":0},{"$f":"'Oppfølging - Inndata'!M93","v":0},{"$f":"'Oppfølging - Inndata'!N93","v":0},{"$f":"'Oppfølging - Inndata'!O93","v":0},{"$f":"'Oppfølging - Inndata'!P93","v":0},{"$f":"'Oppfølging - Inndata'!Q93","v":0},{"$f":"'Oppfølging - Inndata'!R93","v":0},{"$f":"'Oppfølging - Inndata'!S93","v":0},{"$f":"'Oppfølging - Inndata'!T93","v":0},{"$f":"'Oppfølging - Inndata'!U93","v":0},{"$f":"'Oppfølging - Inndata'!V93","v":0},{"$f":"'Oppfølging - Inndata'!W93","v":0},{"$f":"'Oppfølging - Inndata'!X93","v":0},{"$f":"'Oppfølging - Inndata'!Y93","v":0},{"$f":"'Oppfølging - Inndata'!Z93","v":0},{"$f":"'Oppfølging - Inndata'!AA93","v":0},{"$f":"'Oppfølging - Inndata'!AB93","v":0},{"$f":"'Oppfølging - Inndata'!AC93","v":0},{"$f":"'Oppfølging - Inndata'!AD93","v":0},{"$f":"'Oppfølging - Inndata'!AE93","v":0},{"$f":"'Oppfølging - Inndata'!AF93","v":0},{"$f":"'Oppfølging - Inndata'!AG93","v":0},{"$f":"'Oppfølging - Inndata'!AH93","v":0},{"$f":"'Oppfølging - Inndata'!AI93","v":0},{"$f":"'Oppfølging - Inndata'!AJ93","v":0},{"$f":"'Oppfølging - Inndata'!AK93","v":0},{"$f":"'Oppfølging - Inndata'!AL93","v":0},{"$f":"'Oppfølging - Inndata'!AM93","v":0},{"$f":"'Oppfølging - Inndata'!AN93","v":0},{"$f":"'Oppfølging - Inndata'!AO93","v":0},{"$f":"'Oppfølging - Inndata'!AP93","v":0},{"$f":"'Oppfølging - Inndata'!AQ93","v":0},{"$f":"'Oppfølging - Inndata'!AR93","v":0},{"$f":"'Oppfølging - Inndata'!AS93","v":0},{"$f":"'Oppfølging - Inndata'!AT93","v":0},{"$f":"'Oppfølging - Inndata'!AU93","v":0},{"$f":"'Oppfølging - Inndata'!AV93","v":0},{"$f":"'Oppfølging - Inndata'!AW93","v":0},{"$f":"'Oppfølging - Inndata'!AX93","v":0},{"$f":"'Oppfølging - Inndata'!AY93","v":0},{"$f":"'Oppfølging - Inndata'!AZ93","v":0},{"$f":"'Oppfølging - Inndata'!BA93","v":0},{"$f":"'Oppfølging - Inndata'!BB93","v":0},{"$f":"'Oppfølging - Inndata'!BC93","v":0},{"$f":"'Oppfølging - Inndata'!BD93","v":0},{"$f":"'Oppfølging - Inndata'!BE93","v":0}]
[null,null,null,null,"Frukt- og nøttepålegg",{"$f":"'Oppfølging - Inndata'!F104","v":0},{"$f":"'Oppfølging - Inndata'!G104","v":0},{"$f":"'Oppfølging - Inndata'!H104","v":0},{"$f":"'Oppfølging - Inndata'!I104","v":0},{"$f":"'Oppfølging - Inndata'!J104","v":0},{"$f":"'Oppfølging - Inndata'!K104","v":0},{"$f":"'Oppfølging - Inndata'!L104","v":0},{"$f":"'Oppfølging - Inndata'!M104","v":0},{"$f":"'Oppfølging - Inndata'!N104","v":0},{"$f":"'Oppfølging - Inndata'!O104","v":0},{"$f":"'Oppfølging - Inndata'!P104","v":0},{"$f":"'Oppfølging - Inndata'!Q104","v":0},{"$f":"'Oppfølging - Inndata'!R104","v":0},{"$f":"'Oppfølging - Inndata'!S104","v":0},{"$f":"'Oppfølging - Inndata'!T104","v":0},{"$f":"'Oppfølging - Inndata'!U104","v":0},{"$f":"'Oppfølging - Inndata'!V104","v":0},{"$f":"'Oppfølging - Inndata'!W104","v":0},{"$f":"'Oppfølging - Inndata'!X104","v":0},{"$f":"'Oppfølging - Inndata'!Y104","v":0},{"$f":"'Oppfølging - Inndata'!Z104","v":0},{"$f":"'Oppfølging - Inndata'!AA104","v":0},{"$f":"'Oppfølging - Inndata'!AB104","v":0},{"$f":"'Oppfølging - Inndata'!AC104","v":0},{"$f":"'Oppfølging - Inndata'!AD104","v":0},{"$f":"'Oppfølging - Inndata'!AE104","v":0},{"$f":"'Oppfølging - Inndata'!AF104","v":0},{"$f":"'Oppfølging - Inndata'!AG104","v":0},{"$f":"'Oppfølging - Inndata'!AH104","v":0},{"$f":"'Oppfølging - Inndata'!AI104","v":0},{"$f":"'Oppfølging - Inndata'!AJ104","v":0},{"$f":"'Oppfølging - Inndata'!AK104","v":0},{"$f":"'Oppfølging - Inndata'!AL104","v":0},{"$f":"'Oppfølging - Inndata'!AM104","v":0},{"$f":"'Oppfølging - Inndata'!AN104","v":0},{"$f":"'Oppfølging - Inndata'!AO104","v":0},{"$f":"'Oppfølging - Inndata'!AP104","v":0},{"$f":"'Oppfølging - Inndata'!AQ104","v":0},{"$f":"'Oppfølging - Inndata'!AR104","v":0},{"$f":"'Oppfølging - Inndata'!AS104","v":0},{"$f":"'Oppfølging - Inndata'!AT104","v":0},{"$f":"'Oppfølging - Inndata'!AU104","v":0},{"$f":"'Oppfølging - Inndata'!AV104","v":0},{"$f":"'Oppfølging - Inndata'!AW104","v":0},{"$f":"'Oppfølging - Inndata'!AX104","v":0},{"$f":"'Oppfølging - Inndata'!AY104","v":0},{"$f":"'Oppfølging - Inndata'!AZ104","v":0},{"$f":"'Oppfølging - Inndata'!BA104","v":0},{"$f":"'Oppfølging - Inndata'!BB104","v":0},{"$f":"'Oppfølging - Inndata'!BC104","v":0},{"$f":"'Oppfølging - Inndata'!BD104","v":0},{"$f":"'Oppfølging - Inndata'!BE104","v":0}]
[null,null,null,null,"Sauser og supper",{"$f":"'Oppfølging - Inndata'!F107","v":0},{"$f":"'Oppfølging - Inndata'!G107","v":0},{"$f":"'Oppfølging - Inndata'!H107","v":0},{"$f":"'Oppfølging - Inndata'!I107","v":0},{"$f":"'Oppfølging - Inndata'!J107","v":0},{"$f":"'Oppfølging - Inndata'!K107","v":0},{"$f":"'Oppfølging - Inndata'!L107","v":0},{"$f":"'Oppfølging - Inndata'!M107","v":0},{"$f":"'Oppfølging - Inndata'!N107","v":0},{"$f":"'Oppfølging - Inndata'!O107","v":0},{"$f":"'Oppfølging - Inndata'!P107","v":0},{"$f":"'Oppfølging - Inndata'!Q107","v":0},{"$f":"'Oppfølging - Inndata'!R107","v":0},{"$f":"'Oppfølging - Inndata'!S107","v":0},{"$f":"'Oppfølging - Inndata'!T107","v":0},{"$f":"'Oppfølging - Inndata'!U107","v":0},{"$f":"'Oppfølging - Inndata'!V107","v":0},{"$f":"'Oppfølging - Inndata'!W107","v":0},{"$f":"'Oppfølging - Inndata'!X107","v":0},{"$f":"'Oppfølging - Inndata'!Y107","v":0},{"$f":"'Oppfølging - Inndata'!Z107","v":0},{"$f":"'Oppfølging - Inndata'!AA107","v":0},{"$f":"'Oppfølging - Inndata'!AB107","v":0},{"$f":"'Oppfølging - Inndata'!AC107","v":0},{"$f":"'Oppfølging - Inndata'!AD107","v":0},{"$f":"'Oppfølging - Inndata'!AE107","v":0},{"$f":"'Oppfølging - Inndata'!AF107","v":0},{"$f":"'Oppfølging - Inndata'!AG107","v":0},{"$f":"'Oppfølging - Inndata'!AH107","v":0},{"$f":"'Oppfølging - Inndata'!AI107","v":0},{"$f":"'Oppfølging - Inndata'!AJ107","v":0},{"$f":"'Oppfølging - Inndata'!AK107","v":0},{"$f":"'Oppfølging - Inndata'!AL107","v":0},{"$f":"'Oppfølging - Inndata'!AM107","v":0},{"$f":"'Oppfølging - Inndata'!AN107","v":0},{"$f":"'Oppfølging - Inndata'!AO107","v":0},{"$f":"'Oppfølging - Inndata'!AP107","v":0},{"$f":"'Oppfølging - Inndata'!AQ107","v":0},{"$f":"'Oppfølging - Inndata'!AR107","v":0},{"$f":"'Oppfølging - Inndata'!AS107","v":0},{"$f":"'Oppfølging - Inndata'!AT107","v":0},{"$f":"'Oppfølging - Inndata'!AU107","v":0},{"$f":"'Oppfølging - Inndata'!AV107","v":0},{"$f":"'Oppfølging - Inndata'!AW107","v":0},{"$f":"'Oppfølging - Inndata'!AX107","v":0},{"$f":"'Oppfølging - Inndata'!AY107","v":0},{"$f":"'Oppfølging - Inndata'!AZ107","v":0},{"$f":"'Oppfølging - Inndata'!BA107","v":0},{"$f":"'Oppfølging - Inndata'!BB107","v":0},{"$f":"'Oppfølging - Inndata'!BC107","v":0},{"$f":"'Oppfølging - Inndata'!BD107","v":0},{"$f":"'Oppfølging - Inndata'!BE107","v":0}]
[null,null,null,null,"Vegetar/vegan alternativ produkter",{"$f":"'Oppfølging - Inndata'!F117","v":0},{"$f":"'Oppfølging - Inndata'!G117","v":0},{"$f":"'Oppfølging - Inndata'!H117","v":0},{"$f":"'Oppfølging - Inndata'!I117","v":0},{"$f":"'Oppfølging - Inndata'!J117","v":0},{"$f":"'Oppfølging - Inndata'!K117","v":0},{"$f":"'Oppfølging - Inndata'!L117","v":0},{"$f":"'Oppfølging - Inndata'!M117","v":0},{"$f":"'Oppfølging - Inndata'!N117","v":0},{"$f":"'Oppfølging - Inndata'!O117","v":0},{"$f":"'Oppfølging - Inndata'!P117","v":0},{"$f":"'Oppfølging - Inndata'!Q117","v":0},{"$f":"'Oppfølging - Inndata'!R117","v":0},{"$f":"'Oppfølging - Inndata'!S117","v":0},{"$f":"'Oppfølging - Inndata'!T117","v":0},{"$f":"'Oppfølging - Inndata'!U117","v":0},{"$f":"'Oppfølging - Inndata'!V117","v":0},{"$f":"'Oppfølging - Inndata'!W117","v":0},{"$f":"'Oppfølging - Inndata'!X117","v":0},{"$f":"'Oppfølging - Inndata'!Y117","v":0},{"$f":"'Oppfølging - Inndata'!Z117","v":0},{"$f":"'Oppfølging - Inndata'!AA117","v":0},{"$f":"'Oppfølging - Inndata'!AB117","v":0},{"$f":"'Oppfølging - Inndata'!AC117","v":0},{"$f":"'Oppfølging - Inndata'!AD117","v":0},{"$f":"'Oppfølging - Inndata'!AE117","v":0},{"$f":"'Oppfølging - Inndata'!AF117","v":0},{"$f":"'Oppfølging - Inndata'!AG117","v":0},{"$f":"'Oppfølging - Inndata'!AH117","v":0},{"$f":"'Oppfølging - Inndata'!AI117","v":0},{"$f":"'Oppfølging - Inndata'!AJ117","v":0},{"$f":"'Oppfølging - Inndata'!AK117","v":0},{"$f":"'Oppfølging - Inndata'!AL117","v":0},{"$f":"'Oppfølging - Inndata'!AM117","v":0},{"$f":"'Oppfølging - Inndata'!AN117","v":0},{"$f":"'Oppfølging - Inndata'!AO117","v":0},{"$f":"'Oppfølging - Inndata'!AP117","v":0},{"$f":"'Oppfølging - Inndata'!AQ117","v":0},{"$f":"'Oppfølging - Inndata'!AR117","v":0},{"$f":"'Oppfølging - Inndata'!AS117","v":0},{"$f":"'Oppfølging - Inndata'!AT117","v":0},{"$f":"'Oppfølging - Inndata'!AU117","v":0},{"$f":"'Oppfølging - Inndata'!AV117","v":0},{"$f":"'Oppfølging - Inndata'!AW117","v":0},{"$f":"'Oppfølging - Inndata'!AX117","v":0},{"$f":"'Oppfølging - Inndata'!AY117","v":0},{"$f":"'Oppfølging - Inndata'!AZ117","v":0},{"$f":"'Oppfølging - Inndata'!BA117","v":0},{"$f":"'Oppfølging - Inndata'!BB117","v":0},{"$f":"'Oppfølging - Inndata'!BC117","v":0},{"$f":"'Oppfølging - Inndata'!BD117","v":0},{"$f":"'Oppfølging - Inndata'!BE117","v":0}]
[null,null,null,null,"Drikke",{"$f":"'Oppfølging - Inndata'!F121","v":0},{"$f":"'Oppfølging - Inndata'!G121","v":0},{"$f":"'Oppfølging - Inndata'!H121","v":0},{"$f":"'Oppfølging - Inndata'!I121","v":0},{"$f":"'Oppfølging - Inndata'!J121","v":0},{"$f":"'Oppfølging - Inndata'!K121","v":0},{"$f":"'Oppfølging - Inndata'!L121","v":0},{"$f":"'Oppfølging - Inndata'!M121","v":0},{"$f":"'Oppfølging - Inndata'!N121","v":0},{"$f":"'Oppfølging - Inndata'!O121","v":0},{"$f":"'Oppfølging - Inndata'!P121","v":0},{"$f":"'Oppfølging - Inndata'!Q121","v":0},{"$f":"'Oppfølging - Inndata'!R121","v":0},{"$f":"'Oppfølging - Inndata'!S121","v":0},{"$f":"'Oppfølging - Inndata'!T121","v":0},{"$f":"'Oppfølging - Inndata'!U121","v":0},{"$f":"'Oppfølging - Inndata'!V121","v":0},{"$f":"'Oppfølging - Inndata'!W121","v":0},{"$f":"'Oppfølging - Inndata'!X121","v":0},{"$f":"'Oppfølging - Inndata'!Y121","v":0},{"$f":"'Oppfølging - Inndata'!Z121","v":0},{"$f":"'Oppfølging - Inndata'!AA121","v":0},{"$f":"'Oppfølging - Inndata'!AB121","v":0},{"$f":"'Oppfølging - Inndata'!AC121","v":0},{"$f":"'Oppfølging - Inndata'!AD121","v":0},{"$f":"'Oppfølging - Inndata'!AE121","v":0},{"$f":"'Oppfølging - Inndata'!AF121","v":0},{"$f":"'Oppfølging - Inndata'!AG121","v":0},{"$f":"'Oppfølging - Inndata'!AH121","v":0},{"$f":"'Oppfølging - Inndata'!AI121","v":0},{"$f":"'Oppfølging - Inndata'!AJ121","v":0},{"$f":"'Oppfølging - Inndata'!AK121","v":0},{"$f":"'Oppfølging - Inndata'!AL121","v":0},{"$f":"'Oppfølging - Inndata'!AM121","v":0},{"$f":"'Oppfølging - Inndata'!AN121","v":0},{"$f":"'Oppfølging - Inndata'!AO121","v":0},{"$f":"'Oppfølging - Inndata'!AP121","v":0},{"$f":"'Oppfølging - Inndata'!AQ121","v":0},{"$f":"'Oppfølging - Inndata'!AR121","v":0},{"$f":"'Oppfølging - Inndata'!AS121","v":0},{"$f":"'Oppfølging - Inndata'!AT121","v":0},{"$f":"'Oppfølging - Inndata'!AU121","v":0},{"$f":"'Oppfølging - Inndata'!AV121","v":0},{"$f":"'Oppfølging - Inndata'!AW121","v":0},{"$f":"'Oppfølging - Inndata'!AX121","v":0},{"$f":"'Oppfølging - Inndata'!AY121","v":0},{"$f":"'Oppfølging - Inndata'!AZ121","v":0},{"$f":"'Oppfølging - Inndata'!BA121","v":0},{"$f":"'Oppfølging - Inndata'!BB121","v":0},{"$f":"'Oppfølging - Inndata'!BC121","v":0},{"$f":"'Oppfølging - Inndata'!BD121","v":0},{"$f":"'Oppfølging - Inndata'!BE121","v":0}]
[null,null,null,null,"Totalt",{"$f":"'Oppfølging - Inndata'!F129","v":0},{"$f":"'Oppfølging - Inndata'!G129","v":0},{"$f":"'Oppfølging - Inndata'!H129","v":0},{"$f":"'Oppfølging - Inndata'!I129","v":0},{"$f":"'Oppfølging - Inndata'!J129","v":0},{"$f":"'Oppfølging - Inndata'!K129","v":0},{"$f":"'Oppfølging - Inndata'!L129","v":0},{"$f":"'Oppfølging - Inndata'!M129","v":0},{"$f":"'Oppfølging - Inndata'!N129","v":0},{"$f":"'Oppfølging - Inndata'!O129","v":0},{"$f":"'Oppfølging - Inndata'!P129","v":0},{"$f":"'Oppfølging - Inndata'!Q129","v":0},{"$f":"'Oppfølging - Inndata'!R129","v":0},{"$f":"'Oppfølging - Inndata'!S129","v":0},{"$f":"'Oppfølging - Inndata'!T129","v":0},{"$f":"'Oppfølging - Inndata'!U129","v":0},{"$f":"'Oppfølging - Inndata'!V129","v":0},{"$f":"'Oppfølging - Inndata'!W129","v":0},{"$f":"'Oppfølging - Inndata'!X129","v":0},{"$f":"'Oppfølging - Inndata'!Y129","v":0},{"$f":"'Oppfølging - Inndata'!Z129","v":0},{"$f":"'Oppfølging - Inndata'!AA129","v":0},{"$f":"'Oppfølging - Inndata'!AB129","v":0},{"$f":"'Oppfølging - Inndata'!AC129","v":0},{"$f":"'Oppfølging - Inndata'!AD129","v":0},{"$f":"'Oppfølging - Inndata'!AE129","v":0},{"$f":"'Oppfølging - Inndata'!AF129","v":0},{"$f":"'Oppfølging - Inndata'!AG129","v":0},{"$f":"'Oppfølging - Inndata'!AH129","v":0},{"$f":"'Oppfølging - Inndata'!AI129","v":0},{"$f":"'Oppfølging - Inndata'!AJ129","v":0},{"$f":"'Oppfølging - Inndata'!AK129","v":0},{"$f":"'Oppfølging - Inndata'!AL129","v":0},{"$f":"'Oppfølging - Inndata'!AM129","v":0},{"$f":"'Oppfølging - Inndata'!AN129","v":0},{"$f":"'Oppfølging - Inndata'!AO129","v":0},{"$f":"'Oppfølging - Inndata'!AP129","v":0},{"$f":"'Oppfølging - Inndata'!AQ129","v":0},{"$f":"'Oppfølging - Inndata'!AR129","v":0},{"$f":"'Oppfølging - Inndata'!AS129","v":0},{"$f":"'Oppfølging - Inndata'!AT129","v":0},{"$f":"'Oppfølging - Inndata'!AU129","v":0},{"$f":"'Oppfølging - Inndata'!AV129","v":0},{"$f":"'Oppfølging - Inndata'!AW129","v":0},{"$f":"'Oppfølging - Inndata'!AX129","v":0},{"$f":"'Oppfølging - Inndata'!AY129","v":0},{"$f":"'Oppfølging - Inndata'!AZ129","v":0},{"$f":"'Oppfølging - Inndata'!BA129","v":0},{"$f":"'Oppfølging - Inndata'!BB129","v":0},{"$f":"'Oppfølging - Inndata'!BC129","v":0},{"$f":"'Oppfølging - Inndata'!BD129","v":0},{"$f":"'Oppfølging - Inndata'!BE129","v":0}]
[null,null,null,"3a. ","Antall serverte porsjoner",null,null,null,0,0,0,0,0,0,0,0,0,0,0,0,0,0,0,0,0,0,0,0,0,0,0,0,0,0,0,0,0,0,0,0,0,0,0,0,0,0,0,0,0,0,0,0,0,0,0,0,0]
[null,null,null,"3a. ","Antall serverte personer"]
[null,null,null,null,"Utslipp per person (kg CO2-ekv/personer)"]
[]
[]
[null,null,null,"3b. ","Antall serverte personer"]
[]
[]
[]
[]
[]
[]
[]
[]
[]
[]
[]
[]
[]
[]
[]
[]
[]
[]
[]
[]
[]
[]
[]
[]
[]
[]
[]
[]
[]
[]
[null,null,null,null,"3c. Utslipp per person (kg CO2-ekv/personer)"]
[]
[]
[]
[]
[]
[]
[]
[]
[]
[]
[]
[]
[]
[]
[]
[]
[]
[]
[]
[]
[]
[]
[]
[]
[]
[]
[]
[]
[]
[]
[]
[null,null,null,"2d. ","Klimagassutslipp fra innkjøpet"]
[]
[null,null,null,null,"Matvarer, hovedkategorier","Utslipp fra \nperiode 1","Utslipp fra \nperiode 2","Utslipp fra \nperiode 3","Utslipp fra \nperiode 4","Utslipp fra \nperiode 5","Utslipp fra \nperiode 6","Utslipp fra \nperiode 7","Utslipp fra \nperiode 8","Utslipp fra \nperiode 9","Utslipp fra \nperiode 10","Utslipp fra \nperiode 11","Utslipp fra \nperiode 12","Utslipp fra \nperiode 13","Utslipp fra \nperiode 14","Utslipp fra \nperiode 15","Utslipp fra \nperiode 16","Utslipp fra \nperiode 17","Utslipp fra \nperiode 18","Utslipp fra \nperiode 19","Utslipp fra \nperiode 20","Utslipp fra \nperiode 21","Utslipp fra \nperiode 22","Utslipp fra \nperiode 23","Utslipp fra \nperiode 24","Utslipp fra \nperiode 25","Utslipp fra \nperiode 26","Utslipp fra \nperiode 27","Utslipp fra \nperiode 28","Utslipp fra \nperiode 29","Utslipp fra \nperiode 30","Utslipp fra \nperiode 31","Utslipp fra \nperiode 32","Utslipp fra \nperiode 33","Utslipp fra \nperiode 34","Utslipp fra \nperiode 35","Utslipp fra \nperiode 36","Utslipp fra \nperiode 37","Utslipp fra \nperiode 38","Utslipp fra \nperiode 39","Utslipp fra \nperiode 40","Utslipp fra \nperiode 41","Utslipp fra \nperiode 42","Utslipp fra \nperiode 43","Utslipp fra \nperiode 44","Utslipp fra \nperiode 45","Utslipp fra \nperiode 46","Utslipp fra \nperiode 47","Utslipp fra \nperiode 48","Utslipp fra \nperiode 49","Utslipp fra \nperiode 50","Utslipp fra \nperiode 51","Utslipp fra \nperiode 52"]
[null,null,null,null,"Kjøtt",{"$f":"'Oppfølging - Inndata'!F135","v":0},{"$f":"'Oppfølging - Inndata'!G135","v":0},{"$f":"'Oppfølging - Inndata'!H135","v":0},{"$f":"'Oppfølging - Inndata'!I135","v":0},{"$f":"'Oppfølging - Inndata'!J135","v":0},{"$f":"'Oppfølging - Inndata'!K135","v":0},{"$f":"'Oppfølging - Inndata'!L135","v":0},{"$f":"'Oppfølging - Inndata'!M135","v":0},{"$f":"'Oppfølging - Inndata'!N135","v":0},{"$f":"'Oppfølging - Inndata'!O135","v":0},{"$f":"'Oppfølging - Inndata'!P135","v":0},{"$f":"'Oppfølging - Inndata'!Q135","v":0},{"$f":"'Oppfølging - Inndata'!R135","v":0},{"$f":"'Oppfølging - Inndata'!S135","v":0},{"$f":"'Oppfølging - Inndata'!T135","v":0},{"$f":"'Oppfølging - Inndata'!U135","v":0},{"$f":"'Oppfølging - Inndata'!V135","v":0},{"$f":"'Oppfølging - Inndata'!W135","v":0},{"$f":"'Oppfølging - Inndata'!X135","v":0},{"$f":"'Oppfølging - Inndata'!Y135","v":0},{"$f":"'Oppfølging - Inndata'!Z135","v":0},{"$f":"'Oppfølging - Inndata'!AA135","v":0},{"$f":"'Oppfølging - Inndata'!AB135","v":0},{"$f":"'Oppfølging - Inndata'!AC135","v":0},{"$f":"'Oppfølging - Inndata'!AD135","v":0},{"$f":"'Oppfølging - Inndata'!AE135","v":0},{"$f":"'Oppfølging - Inndata'!AF135","v":0},{"$f":"'Oppfølging - Inndata'!AG135","v":0},{"$f":"'Oppfølging - Inndata'!AH135","v":0},{"$f":"'Oppfølging - Inndata'!AI135","v":0},{"$f":"'Oppfølging - Inndata'!AJ135","v":0},{"$f":"'Oppfølging - Inndata'!AK135","v":0},{"$f":"'Oppfølging - Inndata'!AL135","v":0},{"$f":"'Oppfølging - Inndata'!AM135","v":0},{"$f":"'Oppfølging - Inndata'!AN135","v":0},{"$f":"'Oppfølging - Inndata'!AO135","v":0},{"$f":"'Oppfølging - Inndata'!AP135","v":0},{"$f":"'Oppfølging - Inndata'!AQ135","v":0},{"$f":"'Oppfølging - Inndata'!AR135","v":0},{"$f":"'Oppfølging - Inndata'!AS135","v":0},{"$f":"'Oppfølging - Inndata'!AT135","v":0},{"$f":"'Oppfølging - Inndata'!AU135","v":0},{"$f":"'Oppfølging - Inndata'!AV135","v":0},{"$f":"'Oppfølging - Inndata'!AW135","v":0},{"$f":"'Oppfølging - Inndata'!AX135","v":0},{"$f":"'Oppfølging - Inndata'!AY135","v":0},{"$f":"'Oppfølging - Inndata'!AZ135","v":0},{"$f":"'Oppfølging - Inndata'!BA135","v":0},{"$f":"'Oppfølging - Inndata'!BB135","v":0},{"$f":"'Oppfølging - Inndata'!BC135","v":0},{"$f":"'Oppfølging - Inndata'!BD135","v":0},{"$f":"'Oppfølging - Inndata'!BE135","v":0}]
[null,null,null,null,"Fisk og skalldyr",{"$f":"'Oppfølging - Inndata'!F146","v":0},{"$f":"'Oppfølging - Inndata'!G146","v":0},{"$f":"'Oppfølging - Inndata'!H146","v":0},{"$f":"'Oppfølging - Inndata'!I146","v":0},{"$f":"'Oppfølging - Inndata'!J146","v":0},{"$f":"'Oppfølging - Inndata'!K146","v":0},{"$f":"'Oppfølging - Inndata'!L146","v":0},{"$f":"'Oppfølging - Inndata'!M146","v":0},{"$f":"'Oppfølging - Inndata'!N146","v":0},{"$f":"'Oppfølging - Inndata'!O146","v":0},{"$f":"'Oppfølging - Inndata'!P146","v":0},{"$f":"'Oppfølging - Inndata'!Q146","v":0},{"$f":"'Oppfølging - Inndata'!R146","v":0},{"$f":"'Oppfølging - Inndata'!S146","v":0},{"$f":"'Oppfølging - Inndata'!T146","v":0},{"$f":"'Oppfølging - Inndata'!U146","v":0},{"$f":"'Oppfølging - Inndata'!V146","v":0},{"$f":"'Oppfølging - Inndata'!W146","v":0},{"$f":"'Oppfølging - Inndata'!X146","v":0},{"$f":"'Oppfølging - Inndata'!Y146","v":0},{"$f":"'Oppfølging - Inndata'!Z146","v":0},{"$f":"'Oppfølging - Inndata'!AA146","v":0},{"$f":"'Oppfølging - Inndata'!AB146","v":0},{"$f":"'Oppfølging - Inndata'!AC146","v":0},{"$f":"'Oppfølging - Inndata'!AD146","v":0},{"$f":"'Oppfølging - Inndata'!AE146","v":0},{"$f":"'Oppfølging - Inndata'!AF146","v":0},{"$f":"'Oppfølging - Inndata'!AG146","v":0},{"$f":"'Oppfølging - Inndata'!AH146","v":0},{"$f":"'Oppfølging - Inndata'!AI146","v":0},{"$f":"'Oppfølging - Inndata'!AJ146","v":0},{"$f":"'Oppfølging - Inndata'!AK146","v":0},{"$f":"'Oppfølging - Inndata'!AL146","v":0},{"$f":"'Oppfølging - Inndata'!AM146","v":0},{"$f":"'Oppfølging - Inndata'!AN146","v":0},{"$f":"'Oppfølging - Inndata'!AO146","v":0},{"$f":"'Oppfølging - Inndata'!AP146","v":0},{"$f":"'Oppfølging - Inndata'!AQ146","v":0},{"$f":"'Oppfølging - Inndata'!AR146","v":0},{"$f":"'Oppfølging - Inndata'!AS146","v":0},{"$f":"'Oppfølging - Inndata'!AT146","v":0},{"$f":"'Oppfølging - Inndata'!AU146","v":0},{"$f":"'Oppfølging - Inndata'!AV146","v":0},{"$f":"'Oppfølging - Inndata'!AW146","v":0},{"$f":"'Oppfølging - Inndata'!AX146","v":0},{"$f":"'Oppfølging - Inndata'!AY146","v":0},{"$f":"'Oppfølging - Inndata'!AZ146","v":0},{"$f":"'Oppfølging - Inndata'!BA146","v":0},{"$f":"'Oppfølging - Inndata'!BB146","v":0},{"$f":"'Oppfølging - Inndata'!BC146","v":0},{"$f":"'Oppfølging - Inndata'!BD146","v":0},{"$f":"'Oppfølging - Inndata'!BE146","v":0}]
[null,null,null,null,"Egg og meieri",{"$f":"'Oppfølging - Inndata'!F151","v":0},{"$f":"'Oppfølging - Inndata'!G151","v":0},{"$f":"'Oppfølging - Inndata'!H151","v":0},{"$f":"'Oppfølging - Inndata'!I151","v":0},{"$f":"'Oppfølging - Inndata'!J151","v":0},{"$f":"'Oppfølging - Inndata'!K151","v":0},{"$f":"'Oppfølging - Inndata'!L151","v":0},{"$f":"'Oppfølging - Inndata'!M151","v":0},{"$f":"'Oppfølging - Inndata'!N151","v":0},{"$f":"'Oppfølging - Inndata'!O151","v":0},{"$f":"'Oppfølging - Inndata'!P151","v":0},{"$f":"'Oppfølging - Inndata'!Q151","v":0},{"$f":"'Oppfølging - Inndata'!R151","v":0},{"$f":"'Oppfølging - Inndata'!S151","v":0},{"$f":"'Oppfølging - Inndata'!T151","v":0},{"$f":"'Oppfølging - Inndata'!U151","v":0},{"$f":"'Oppfølging - Inndata'!V151","v":0},{"$f":"'Oppfølging - Inndata'!W151","v":0},{"$f":"'Oppfølging - Inndata'!X151","v":0},{"$f":"'Oppfølging - Inndata'!Y151","v":0},{"$f":"'Oppfølging - Inndata'!Z151","v":0},{"$f":"'Oppfølging - Inndata'!AA151","v":0},{"$f":"'Oppfølging - Inndata'!AB151","v":0},{"$f":"'Oppfølging - Inndata'!AC151","v":0},{"$f":"'Oppfølging - Inndata'!AD151","v":0},{"$f":"'Oppfølging - Inndata'!AE151","v":0},{"$f":"'Oppfølging - Inndata'!AF151","v":0},{"$f":"'Oppfølging - Inndata'!AG151","v":0},{"$f":"'Oppfølging - Inndata'!AH151","v":0},{"$f":"'Oppfølging - Inndata'!AI151","v":0},{"$f":"'Oppfølging - Inndata'!AJ151","v":0},{"$f":"'Oppfølging - Inndata'!AK151","v":0},{"$f":"'Oppfølging - Inndata'!AL151","v":0},{"$f":"'Oppfølging - Inndata'!AM151","v":0},{"$f":"'Oppfølging - Inndata'!AN151","v":0},{"$f":"'Oppfølging - Inndata'!AO151","v":0},{"$f":"'Oppfølging - Inndata'!AP151","v":0},{"$f":"'Oppfølging - Inndata'!AQ151","v":0},{"$f":"'Oppfølging - Inndata'!AR151","v":0},{"$f":"'Oppfølging - Inndata'!AS151","v":0},{"$f":"'Oppfølging - Inndata'!AT151","v":0},{"$f":"'Oppfølging - Inndata'!AU151","v":0},{"$f":"'Oppfølging - Inndata'!AV151","v":0},{"$f":"'Oppfølging - Inndata'!AW151","v":0},{"$f":"'Oppfølging - Inndata'!AX151","v":0},{"$f":"'Oppfølging - Inndata'!AY151","v":0},{"$f":"'Oppfølging - Inndata'!AZ151","v":0},{"$f":"'Oppfølging - Inndata'!BA151","v":0},{"$f":"'Oppfølging - Inndata'!BB151","v":0},{"$f":"'Oppfølging - Inndata'!BC151","v":0},{"$f":"'Oppfølging - Inndata'!BD151","v":0},{"$f":"'Oppfølging - Inndata'!BE151","v":0}]
[null,null,null,null,"Korn",{"$f":"'Oppfølging - Inndata'!F160","v":0},{"$f":"'Oppfølging - Inndata'!G160","v":0},{"$f":"'Oppfølging - Inndata'!H160","v":0},{"$f":"'Oppfølging - Inndata'!I160","v":0},{"$f":"'Oppfølging - Inndata'!J160","v":0},{"$f":"'Oppfølging - Inndata'!K160","v":0},{"$f":"'Oppfølging - Inndata'!L160","v":0},{"$f":"'Oppfølging - Inndata'!M160","v":0},{"$f":"'Oppfølging - Inndata'!N160","v":0},{"$f":"'Oppfølging - Inndata'!O160","v":0},{"$f":"'Oppfølging - Inndata'!P160","v":0},{"$f":"'Oppfølging - Inndata'!Q160","v":0},{"$f":"'Oppfølging - Inndata'!R160","v":0},{"$f":"'Oppfølging - Inndata'!S160","v":0},{"$f":"'Oppfølging - Inndata'!T160","v":0},{"$f":"'Oppfølging - Inndata'!U160","v":0},{"$f":"'Oppfølging - Inndata'!V160","v":0},{"$f":"'Oppfølging - Inndata'!W160","v":0},{"$f":"'Oppfølging - Inndata'!X160","v":0},{"$f":"'Oppfølging - Inndata'!Y160","v":0},{"$f":"'Oppfølging - Inndata'!Z160","v":0},{"$f":"'Oppfølging - Inndata'!AA160","v":0},{"$f":"'Oppfølging - Inndata'!AB160","v":0},{"$f":"'Oppfølging - Inndata'!AC160","v":0},{"$f":"'Oppfølging - Inndata'!AD160","v":0},{"$f":"'Oppfølging - Inndata'!AE160","v":0},{"$f":"'Oppfølging - Inndata'!AF160","v":0},{"$f":"'Oppfølging - Inndata'!AG160","v":0},{"$f":"'Oppfølging - Inndata'!AH160","v":0},{"$f":"'Oppfølging - Inndata'!AI160","v":0},{"$f":"'Oppfølging - Inndata'!AJ160","v":0},{"$f":"'Oppfølging - Inndata'!AK160","v":0},{"$f":"'Oppfølging - Inndata'!AL160","v":0},{"$f":"'Oppfølging - Inndata'!AM160","v":0},{"$f":"'Oppfølging - Inndata'!AN160","v":0},{"$f":"'Oppfølging - Inndata'!AO160","v":0},{"$f":"'Oppfølging - Inndata'!AP160","v":0},{"$f":"'Oppfølging - Inndata'!AQ160","v":0},{"$f":"'Oppfølging - Inndata'!AR160","v":0},{"$f":"'Oppfølging - Inndata'!AS160","v":0},{"$f":"'Oppfølging - Inndata'!AT160","v":0},{"$f":"'Oppfølging - Inndata'!AU160","v":0},{"$f":"'Oppfølging - Inndata'!AV160","v":0},{"$f":"'Oppfølging - Inndata'!AW160","v":0},{"$f":"'Oppfølging - Inndata'!AX160","v":0},{"$f":"'Oppfølging - Inndata'!AY160","v":0},{"$f":"'Oppfølging - Inndata'!AZ160","v":0},{"$f":"'Oppfølging - Inndata'!BA160","v":0},{"$f":"'Oppfølging - Inndata'!BB160","v":0},{"$f":"'Oppfølging - Inndata'!BC160","v":0},{"$f":"'Oppfølging - Inndata'!BD160","v":0},{"$f":"'Oppfølging - Inndata'!BE160","v":0}]
[null,null,null,null,"Grønnsaker, krydder og sopp",{"$f":"'Oppfølging - Inndata'!F167","v":0},{"$f":"'Oppfølging - Inndata'!G167","v":0},{"$f":"'Oppfølging - Inndata'!H167","v":0},{"$f":"'Oppfølging - Inndata'!I167","v":0},{"$f":"'Oppfølging - Inndata'!J167","v":0},{"$f":"'Oppfølging - Inndata'!K167","v":0},{"$f":"'Oppfølging - Inndata'!L167","v":0},{"$f":"'Oppfølging - Inndata'!M167","v":0},{"$f":"'Oppfølging - Inndata'!N167","v":0},{"$f":"'Oppfølging - Inndata'!O167","v":0},{"$f":"'Oppfølging - Inndata'!P167","v":0},{"$f":"'Oppfølging - Inndata'!Q167","v":0},{"$f":"'Oppfølging - Inndata'!R167","v":0},{"$f":"'Oppfølging - Inndata'!S167","v":0},{"$f":"'Oppfølging - Inndata'!T167","v":0},{"$f":"'Oppfølging - Inndata'!U167","v":0},{"$f":"'Oppfølging - Inndata'!V167","v":0},{"$f":"'Oppfølging - Inndata'!W167","v":0},{"$f":"'Oppfølging - Inndata'!X167","v":0},{"$f":"'Oppfølging - Inndata'!Y167","v":0},{"$f":"'Oppfølging - Inndata'!Z167","v":0},{"$f":"'Oppfølging - Inndata'!AA167","v":0},{"$f":"'Oppfølging - Inndata'!AB167","v":0},{"$f":"'Oppfølging - Inndata'!AC167","v":0},{"$f":"'Oppfølging - Inndata'!AD167","v":0},{"$f":"'Oppfølging - Inndata'!AE167","v":0},{"$f":"'Oppfølging - Inndata'!AF167","v":0},{"$f":"'Oppfølging - Inndata'!AG167","v":0},{"$f":"'Oppfølging - Inndata'!AH167","v":0},{"$f":"'Oppfølging - Inndata'!AI167","v":0},{"$f":"'Oppfølging - Inndata'!AJ167","v":0},{"$f":"'Oppfølging - Inndata'!AK167","v":0},{"$f":"'Oppfølging - Inndata'!AL167","v":0},{"$f":"'Oppfølging - Inndata'!AM167","v":0},{"$f":"'Oppfølging - Inndata'!AN167","v":0},{"$f":"'Oppfølging - Inndata'!AO167","v":0},{"$f":"'Oppfølging - Inndata'!AP167","v":0},{"$f":"'Oppfølging - Inndata'!AQ167","v":0},{"$f":"'Oppfølging - Inndata'!AR167","v":0},{"$f":"'Oppfølging - Inndata'!AS167","v":0},{"$f":"'Oppfølging - Inndata'!AT167","v":0},{"$f":"'Oppfølging - Inndata'!AU167","v":0},{"$f":"'Oppfølging - Inndata'!AV167","v":0},{"$f":"'Oppfølging - Inndata'!AW167","v":0},{"$f":"'Oppfølging - Inndata'!AX167","v":0},{"$f":"'Oppfølging - Inndata'!AY167","v":0},{"$f":"'Oppfølging - Inndata'!AZ167","v":0},{"$f":"'Oppfølging - Inndata'!BA167","v":0},{"$f":"'Oppfølging - Inndata'!BB167","v":0},{"$f":"'Oppfølging - Inndata'!BC167","v":0},{"$f":"'Oppfølging - Inndata'!BD167","v":0},{"$f":"'Oppfølging - Inndata'!BE167","v":0}]
[null,null,null,null,"Frukt og bær",{"$f":"'Oppfølging - Inndata'!F171","v":0},{"$f":"'Oppfølging - Inndata'!G171","v":0},{"$f":"'Oppfølging - Inndata'!H171","v":0},{"$f":"'Oppfølging - Inndata'!I171","v":0},{"$f":"'Oppfølging - Inndata'!J171","v":0},{"$f":"'Oppfølging - Inndata'!K171","v":0},{"$f":"'Oppfølging - Inndata'!L171","v":0},{"$f":"'Oppfølging - Inndata'!M171","v":0},{"$f":"'Oppfølging - Inndata'!N171","v":0},{"$f":"'Oppfølging - Inndata'!O171","v":0},{"$f":"'Oppfølging - Inndata'!P171","v":0},{"$f":"'Oppfølging - Inndata'!Q171","v":0},{"$f":"'Oppfølging - Inndata'!R171","v":0},{"$f":"'Oppfølging - Inndata'!S171","v":0},{"$f":"'Oppfølging - Inndata'!T171","v":0},{"$f":"'Oppfølging - Inndata'!U171","v":0},{"$f":"'Oppfølging - Inndata'!V171","v":0},{"$f":"'Oppfølging - Inndata'!W171","v":0},{"$f":"'Oppfølging - Inndata'!X171","v":0},{"$f":"'Oppfølging - Inndata'!Y171","v":0},{"$f":"'Oppfølging - Inndata'!Z171","v":0},{"$f":"'Oppfølging - Inndata'!AA171","v":0},{"$f":"'Oppfølging - Inndata'!AB171","v":0},{"$f":"'Oppfølging - Inndata'!AC171","v":0},{"$f":"'Oppfølging - Inndata'!AD171","v":0},{"$f":"'Oppfølging - Inndata'!AE171","v":0},{"$f":"'Oppfølging - Inndata'!AF171","v":0},{"$f":"'Oppfølging - Inndata'!AG171","v":0},{"$f":"'Oppfølging - Inndata'!AH171","v":0},{"$f":"'Oppfølging - Inndata'!AI171","v":0},{"$f":"'Oppfølging - Inndata'!AJ171","v":0},{"$f":"'Oppfølging - Inndata'!AK171","v":0},{"$f":"'Oppfølging - Inndata'!AL171","v":0},{"$f":"'Oppfølging - Inndata'!AM171","v":0},{"$f":"'Oppfølging - Inndata'!AN171","v":0},{"$f":"'Oppfølging - Inndata'!AO171","v":0},{"$f":"'Oppfølging - Inndata'!AP171","v":0},{"$f":"'Oppfølging - Inndata'!AQ171","v":0},{"$f":"'Oppfølging - Inndata'!AR171","v":0},{"$f":"'Oppfølging - Inndata'!AS171","v":0},{"$f":"'Oppfølging - Inndata'!AT171","v":0},{"$f":"'Oppfølging - Inndata'!AU171","v":0},{"$f":"'Oppfølging - Inndata'!AV171","v":0},{"$f":"'Oppfølging - Inndata'!AW171","v":0},{"$f":"'Oppfølging - Inndata'!AX171","v":0},{"$f":"'Oppfølging - Inndata'!AY171","v":0},{"$f":"'Oppfølging - Inndata'!AZ171","v":0},{"$f":"'Oppfølging - Inndata'!BA171","v":0},{"$f":"'Oppfølging - Inndata'!BB171","v":0},{"$f":"'Oppfølging - Inndata'!BC171","v":0},{"$f":"'Oppfølging - Inndata'!BD171","v":0},{"$f":"'Oppfølging - Inndata'!BE171","v":0}]
[null,null,null,null,"Nøtter og frø",{"$f":"'Oppfølging - Inndata'!F172","v":0},{"$f":"'Oppfølging - Inndata'!G172","v":0},{"$f":"'Oppfølging - Inndata'!H172","v":0},{"$f":"'Oppfølging - Inndata'!I172","v":0},{"$f":"'Oppfølging - Inndata'!J172","v":0},{"$f":"'Oppfølging - Inndata'!K172","v":0},{"$f":"'Oppfølging - Inndata'!L172","v":0},{"$f":"'Oppfølging - Inndata'!M172","v":0},{"$f":"'Oppfølging - Inndata'!N172","v":0},{"$f":"'Oppfølging - Inndata'!O172","v":0},{"$f":"'Oppfølging - Inndata'!P172","v":0},{"$f":"'Oppfølging - Inndata'!Q172","v":0},{"$f":"'Oppfølging - Inndata'!R172","v":0},{"$f":"'Oppfølging - Inndata'!S172","v":0},{"$f":"'Oppfølging - Inndata'!T172","v":0},{"$f":"'Oppfølging - Inndata'!U172","v":0},{"$f":"'Oppfølging - Inndata'!V172","v":0},{"$f":"'Oppfølging - Inndata'!W172","v":0},{"$f":"'Oppfølging - Inndata'!X172","v":0},{"$f":"'Oppfølging - Inndata'!Y172","v":0},{"$f":"'Oppfølging - Inndata'!Z172","v":0},{"$f":"'Oppfølging - Inndata'!AA172","v":0},{"$f":"'Oppfølging - Inndata'!AB172","v":0},{"$f":"'Oppfølging - Inndata'!AC172","v":0},{"$f":"'Oppfølging - Inndata'!AD172","v":0},{"$f":"'Oppfølging - Inndata'!AE172","v":0},{"$f":"'Oppfølging - Inndata'!AF172","v":0},{"$f":"'Oppfølging - Inndata'!AG172","v":0},{"$f":"'Oppfølging - Inndata'!AH172","v":0},{"$f":"'Oppfølging - Inndata'!AI172","v":0},{"$f":"'Oppfølging - Inndata'!AJ172","v":0},{"$f":"'Oppfølging - Inndata'!AK172","v":0},{"$f":"'Oppfølging - Inndata'!AL172","v":0},{"$f":"'Oppfølging - Inndata'!AM172","v":0},{"$f":"'Oppfølging - Inndata'!AN172","v":0},{"$f":"'Oppfølging - Inndata'!AO172","v":0},{"$f":"'Oppfølging - Inndata'!AP172","v":0},{"$f":"'Oppfølging - Inndata'!AQ172","v":0},{"$f":"'Oppfølging - Inndata'!AR172","v":0},{"$f":"'Oppfølging - Inndata'!AS172","v":0},{"$f":"'Oppfølging - Inndata'!AT172","v":0},{"$f":"'Oppfølging - Inndata'!AU172","v":0},{"$f":"'Oppfølging - Inndata'!AV172","v":0},{"$f":"'Oppfølging - Inndata'!AW172","v":0},{"$f":"'Oppfølging - Inndata'!AX172","v":0},{"$f":"'Oppfølging - Inndata'!AY172","v":0},{"$f":"'Oppfølging - Inndata'!AZ172","v":0},{"$f":"'Oppfølging - Inndata'!BA172","v":0},{"$f":"'Oppfølging - Inndata'!BB172","v":0},{"$f":"'Oppfølging - Inndata'!BC172","v":0},{"$f":"'Oppfølging - Inndata'!BD172","v":0},{"$f":"'Oppfølging - Inndata'!BE172","v":0}]
[null,null,null,null,"Sukker",{"$f":"'Oppfølging - Inndata'!F173","v":0},{"$f":"'Oppfølging - Inndata'!G173","v":0},{"$f":"'Oppfølging - Inndata'!H173","v":0},{"$f":"'Oppfølging - Inndata'!I173","v":0},{"$f":"'Oppfølging - Inndata'!J173","v":0},{"$f":"'Oppfølging - Inndata'!K173","v":0},{"$f":"'Oppfølging - Inndata'!L173","v":0},{"$f":"'Oppfølging - Inndata'!M173","v":0},{"$f":"'Oppfølging - Inndata'!N173","v":0},{"$f":"'Oppfølging - Inndata'!O173","v":0},{"$f":"'Oppfølging - Inndata'!P173","v":0},{"$f":"'Oppfølging - Inndata'!Q173","v":0},{"$f":"'Oppfølging - Inndata'!R173","v":0},{"$f":"'Oppfølging - Inndata'!S173","v":0},{"$f":"'Oppfølging - Inndata'!T173","v":0},{"$f":"'Oppfølging - Inndata'!U173","v":0},{"$f":"'Oppfølging - Inndata'!V173","v":0},{"$f":"'Oppfølging - Inndata'!W173","v":0},{"$f":"'Oppfølging - Inndata'!X173","v":0},{"$f":"'Oppfølging - Inndata'!Y173","v":0},{"$f":"'Oppfølging - Inndata'!Z173","v":0},{"$f":"'Oppfølging - Inndata'!AA173","v":0},{"$f":"'Oppfølging - Inndata'!AB173","v":0},{"$f":"'Oppfølging - Inndata'!AC173","v":0},{"$f":"'Oppfølging - Inndata'!AD173","v":0},{"$f":"'Oppfølging - Inndata'!AE173","v":0},{"$f":"'Oppfølging - Inndata'!AF173","v":0},{"$f":"'Oppfølging - Inndata'!AG173","v":0},{"$f":"'Oppfølging - Inndata'!AH173","v":0},{"$f":"'Oppfølging - Inndata'!AI173","v":0},{"$f":"'Oppfølging - Inndata'!AJ173","v":0},{"$f":"'Oppfølging - Inndata'!AK173","v":0},{"$f":"'Oppfølging - Inndata'!AL173","v":0},{"$f":"'Oppfølging - Inndata'!AM173","v":0},{"$f":"'Oppfølging - Inndata'!AN173","v":0},{"$f":"'Oppfølging - Inndata'!AO173","v":0},{"$f":"'Oppfølging - Inndata'!AP173","v":0},{"$f":"'Oppfølging - Inndata'!AQ173","v":0},{"$f":"'Oppfølging - Inndata'!AR173","v":0},{"$f":"'Oppfølging - Inndata'!AS173","v":0},{"$f":"'Oppfølging - Inndata'!AT173","v":0},{"$f":"'Oppfølging - Inndata'!AU173","v":0},{"$f":"'Oppfølging - Inndata'!AV173","v":0},{"$f":"'Oppfølging - Inndata'!AW173","v":0},{"$f":"'Oppfølging - Inndata'!AX173","v":0},{"$f":"'Oppfølging - Inndata'!AY173","v":0},{"$f":"'Oppfølging - Inndata'!AZ173","v":0},{"$f":"'Oppfølging - Inndata'!BA173","v":0},{"$f":"'Oppfølging - Inndata'!BB173","v":0},{"$f":"'Oppfølging - Inndata'!BC173","v":0},{"$f":"'Oppfølging - Inndata'!BD173","v":0},{"$f":"'Oppfølging - Inndata'!BE173","v":0}]
[null,null,null,null,"Olje og fett",{"$f":"'Oppfølging - Inndata'!F177","v":0},{"$f":"'Oppfølging - Inndata'!G177","v":0},{"$f":"'Oppfølging - Inndata'!H177","v":0},{"$f":"'Oppfølging - Inndata'!I177","v":0},{"$f":"'Oppfølging - Inndata'!J177","v":0},{"$f":"'Oppfølging - Inndata'!K177","v":0},{"$f":"'Oppfølging - Inndata'!L177","v":0},{"$f":"'Oppfølging - Inndata'!M177","v":0},{"$f":"'Oppfølging - Inndata'!N177","v":0},{"$f":"'Oppfølging - Inndata'!O177","v":0},{"$f":"'Oppfølging - Inndata'!P177","v":0},{"$f":"'Oppfølging - Inndata'!Q177","v":0},{"$f":"'Oppfølging - Inndata'!R177","v":0},{"$f":"'Oppfølging - Inndata'!S177","v":0},{"$f":"'Oppfølging - Inndata'!T177","v":0},{"$f":"'Oppfølging - Inndata'!U177","v":0},{"$f":"'Oppfølging - Inndata'!V177","v":0},{"$f":"'Oppfølging - Inndata'!W177","v":0},{"$f":"'Oppfølging - Inndata'!X177","v":0},{"$f":"'Oppfølging - Inndata'!Y177","v":0},{"$f":"'Oppfølging - Inndata'!Z177","v":0},{"$f":"'Oppfølging - Inndata'!AA177","v":0},{"$f":"'Oppfølging - Inndata'!AB177","v":0},{"$f":"'Oppfølging - Inndata'!AC177","v":0},{"$f":"'Oppfølging - Inndata'!AD177","v":0},{"$f":"'Oppfølging - Inndata'!AE177","v":0},{"$f":"'Oppfølging - Inndata'!AF177","v":0},{"$f":"'Oppfølging - Inndata'!AG177","v":0},{"$f":"'Oppfølging - Inndata'!AH177","v":0},{"$f":"'Oppfølging - Inndata'!AI177","v":0},{"$f":"'Oppfølging - Inndata'!AJ177","v":0},{"$f":"'Oppfølging - Inndata'!AK177","v":0},{"$f":"'Oppfølging - Inndata'!AL177","v":0},{"$f":"'Oppfølging - Inndata'!AM177","v":0},{"$f":"'Oppfølging - Inndata'!AN177","v":0},{"$f":"'Oppfølging - Inndata'!AO177","v":0},{"$f":"'Oppfølging - Inndata'!AP177","v":0},{"$f":"'Oppfølging - Inndata'!AQ177","v":0},{"$f":"'Oppfølging - Inndata'!AR177","v":0},{"$f":"'Oppfølging - Inndata'!AS177","v":0},{"$f":"'Oppfølging - Inndata'!AT177","v":0},{"$f":"'Oppfølging - Inndata'!AU177","v":0},{"$f":"'Oppfølging - Inndata'!AV177","v":0},{"$f":"'Oppfølging - Inndata'!AW177","v":0},{"$f":"'Oppfølging - Inndata'!AX177","v":0},{"$f":"'Oppfølging - Inndata'!AY177","v":0},{"$f":"'Oppfølging - Inndata'!AZ177","v":0},{"$f":"'Oppfølging - Inndata'!BA177","v":0},{"$f":"'Oppfølging - Inndata'!BB177","v":0},{"$f":"'Oppfølging - Inndata'!BC177","v":0},{"$f":"'Oppfølging - Inndata'!BD177","v":0},{"$f":"'Oppfølging - Inndata'!BE177","v":0}]
[null,null,null,null,"Kjeks, kaker og godteri",{"$f":"'Oppfølging - Inndata'!F184","v":0},{"$f":"'Oppfølging - Inndata'!G184","v":0},{"$f":"'Oppfølging - Inndata'!H184","v":0},{"$f":"'Oppfølging - Inndata'!I184","v":0},{"$f":"'Oppfølging - Inndata'!J184","v":0},{"$f":"'Oppfølging - Inndata'!K184","v":0},{"$f":"'Oppfølging - Inndata'!L184","v":0},{"$f":"'Oppfølging - Inndata'!M184","v":0},{"$f":"'Oppfølging - Inndata'!N184","v":0},{"$f":"'Oppfølging - Inndata'!O184","v":0},{"$f":"'Oppfølging - Inndata'!P184","v":0},{"$f":"'Oppfølging - Inndata'!Q184","v":0},{"$f":"'Oppfølging - Inndata'!R184","v":0},{"$f":"'Oppfølging - Inndata'!S184","v":0},{"$f":"'Oppfølging - Inndata'!T184","v":0},{"$f":"'Oppfølging - Inndata'!U184","v":0},{"$f":"'Oppfølging - Inndata'!V184","v":0},{"$f":"'Oppfølging - Inndata'!W184","v":0},{"$f":"'Oppfølging - Inndata'!X184","v":0},{"$f":"'Oppfølging - Inndata'!Y184","v":0},{"$f":"'Oppfølging - Inndata'!Z184","v":0},{"$f":"'Oppfølging - Inndata'!AA184","v":0},{"$f":"'Oppfølging - Inndata'!AB184","v":0},{"$f":"'Oppfølging - Inndata'!AC184","v":0},{"$f":"'Oppfølging - Inndata'!AD184","v":0},{"$f":"'Oppfølging - Inndata'!AE184","v":0},{"$f":"'Oppfølging - Inndata'!AF184","v":0},{"$f":"'Oppfølging - Inndata'!AG184","v":0},{"$f":"'Oppfølging - Inndata'!AH184","v":0},{"$f":"'Oppfølging - Inndata'!AI184","v":0},{"$f":"'Oppfølging - Inndata'!AJ184","v":0},{"$f":"'Oppfølging - Inndata'!AK184","v":0},{"$f":"'Oppfølging - Inndata'!AL184","v":0},{"$f":"'Oppfølging - Inndata'!AM184","v":0},{"$f":"'Oppfølging - Inndata'!AN184","v":0},{"$f":"'Oppfølging - Inndata'!AO184","v":0},{"$f":"'Oppfølging - Inndata'!AP184","v":0},{"$f":"'Oppfølging - Inndata'!AQ184","v":0},{"$f":"'Oppfølging - Inndata'!AR184","v":0},{"$f":"'Oppfølging - Inndata'!AS184","v":0},{"$f":"'Oppfølging - Inndata'!AT184","v":0},{"$f":"'Oppfølging - Inndata'!AU184","v":0},{"$f":"'Oppfølging - Inndata'!AV184","v":0},{"$f":"'Oppfølging - Inndata'!AW184","v":0},{"$f":"'Oppfølging - Inndata'!AX184","v":0},{"$f":"'Oppfølging - Inndata'!AY184","v":0},{"$f":"'Oppfølging - Inndata'!AZ184","v":0},{"$f":"'Oppfølging - Inndata'!BA184","v":0},{"$f":"'Oppfølging - Inndata'!BB184","v":0},{"$f":"'Oppfølging - Inndata'!BC184","v":0},{"$f":"'Oppfølging - Inndata'!BD184","v":0},{"$f":"'Oppfølging - Inndata'!BE184","v":0}]
[null,null,null,null,"Kombinasjonsmåltider",{"$f":"'Oppfølging - Inndata'!F189","v":0},{"$f":"'Oppfølging - Inndata'!G189","v":0},{"$f":"'Oppfølging - Inndata'!H189","v":0},{"$f":"'Oppfølging - Inndata'!I189","v":0},{"$f":"'Oppfølging - Inndata'!J189","v":0},{"$f":"'Oppfølging - Inndata'!K189","v":0},{"$f":"'Oppfølging - Inndata'!L189","v":0},{"$f":"'Oppfølging - Inndata'!M189","v":0},{"$f":"'Oppfølging - Inndata'!N189","v":0},{"$f":"'Oppfølging - Inndata'!O189","v":0},{"$f":"'Oppfølging - Inndata'!P189","v":0},{"$f":"'Oppfølging - Inndata'!Q189","v":0},{"$f":"'Oppfølging - Inndata'!R189","v":0},{"$f":"'Oppfølging - Inndata'!S189","v":0},{"$f":"'Oppfølging - Inndata'!T189","v":0},{"$f":"'Oppfølging - Inndata'!U189","v":0},{"$f":"'Oppfølging - Inndata'!V189","v":0},{"$f":"'Oppfølging - Inndata'!W189","v":0},{"$f":"'Oppfølging - Inndata'!X189","v":0},{"$f":"'Oppfølging - Inndata'!Y189","v":0},{"$f":"'Oppfølging - Inndata'!Z189","v":0},{"$f":"'Oppfølging - Inndata'!AA189","v":0},{"$f":"'Oppfølging - Inndata'!AB189","v":0},{"$f":"'Oppfølging - Inndata'!AC189","v":0},{"$f":"'Oppfølging - Inndata'!AD189","v":0},{"$f":"'Oppfølging - Inndata'!AE189","v":0},{"$f":"'Oppfølging - Inndata'!AF189","v":0},{"$f":"'Oppfølging - Inndata'!AG189","v":0},{"$f":"'Oppfølging - Inndata'!AH189","v":0},{"$f":"'Oppfølging - Inndata'!AI189","v":0},{"$f":"'Oppfølging - Inndata'!AJ189","v":0},{"$f":"'Oppfølging - Inndata'!AK189","v":0},{"$f":"'Oppfølging - Inndata'!AL189","v":0},{"$f":"'Oppfølging - Inndata'!AM189","v":0},{"$f":"'Oppfølging - Inndata'!AN189","v":0},{"$f":"'Oppfølging - Inndata'!AO189","v":0},{"$f":"'Oppfølging - Inndata'!AP189","v":0},{"$f":"'Oppfølging - Inndata'!AQ189","v":0},{"$f":"'Oppfølging - Inndata'!AR189","v":0},{"$f":"'Oppfølging - Inndata'!AS189","v":0},{"$f":"'Oppfølging - Inndata'!AT189","v":0},{"$f":"'Oppfølging - Inndata'!AU189","v":0},{"$f":"'Oppfølging - Inndata'!AV189","v":0},{"$f":"'Oppfølging - Inndata'!AW189","v":0},{"$f":"'Oppfølging - Inndata'!AX189","v":0},{"$f":"'Oppfølging - Inndata'!AY189","v":0},{"$f":"'Oppfølging - Inndata'!AZ189","v":0},{"$f":"'Oppfølging - Inndata'!BA189","v":0},{"$f":"'Oppfølging - Inndata'!BB189","v":0},{"$f":"'Oppfølging - Inndata'!BC189","v":0},{"$f":"'Oppfølging - Inndata'!BD189","v":0},{"$f":"'Oppfølging - Inndata'!BE189","v":0}]
[null,null,null,null,"Sandwicher",{"$f":"'Oppfølging - Inndata'!F198","v":0},{"$f":"'Oppfølging - Inndata'!G198","v":0},{"$f":"'Oppfølging - Inndata'!H198","v":0},{"$f":"'Oppfølging - Inndata'!I198","v":0},{"$f":"'Oppfølging - Inndata'!J198","v":0},{"$f":"'Oppfølging - Inndata'!K198","v":0},{"$f":"'Oppfølging - Inndata'!L198","v":0},{"$f":"'Oppfølging - Inndata'!M198","v":0},{"$f":"'Oppfølging - Inndata'!N198","v":0},{"$f":"'Oppfølging - Inndata'!O198","v":0},{"$f":"'Oppfølging - Inndata'!P198","v":0},{"$f":"'Oppfølging - Inndata'!Q198","v":0},{"$f":"'Oppfølging - Inndata'!R198","v":0},{"$f":"'Oppfølging - Inndata'!S198","v":0},{"$f":"'Oppfølging - Inndata'!T198","v":0},{"$f":"'Oppfølging - Inndata'!U198","v":0},{"$f":"'Oppfølging - Inndata'!V198","v":0},{"$f":"'Oppfølging - Inndata'!W198","v":0},{"$f":"'Oppfølging - Inndata'!X198","v":0},{"$f":"'Oppfølging - Inndata'!Y198","v":0},{"$f":"'Oppfølging - Inndata'!Z198","v":0},{"$f":"'Oppfølging - Inndata'!AA198","v":0},{"$f":"'Oppfølging - Inndata'!AB198","v":0},{"$f":"'Oppfølging - Inndata'!AC198","v":0},{"$f":"'Oppfølging - Inndata'!AD198","v":0},{"$f":"'Oppfølging - Inndata'!AE198","v":0},{"$f":"'Oppfølging - Inndata'!AF198","v":0},{"$f":"'Oppfølging - Inndata'!AG198","v":0},{"$f":"'Oppfølging - Inndata'!AH198","v":0},{"$f":"'Oppfølging - Inndata'!AI198","v":0},{"$f":"'Oppfølging - Inndata'!AJ198","v":0},{"$f":"'Oppfølging - Inndata'!AK198","v":0},{"$f":"'Oppfølging - Inndata'!AL198","v":0},{"$f":"'Oppfølging - Inndata'!AM198","v":0},{"$f":"'Oppfølging - Inndata'!AN198","v":0},{"$f":"'Oppfølging - Inndata'!AO198","v":0},{"$f":"'Oppfølging - Inndata'!AP198","v":0},{"$f":"'Oppfølging - Inndata'!AQ198","v":0},{"$f":"'Oppfølging - Inndata'!AR198","v":0},{"$f":"'Oppfølging - Inndata'!AS198","v":0},{"$f":"'Oppfølging - Inndata'!AT198","v":0},{"$f":"'Oppfølging - Inndata'!AU198","v":0},{"$f":"'Oppfølging - Inndata'!AV198","v":0},{"$f":"'Oppfølging - Inndata'!AW198","v":0},{"$f":"'Oppfølging - Inndata'!AX198","v":0},{"$f":"'Oppfølging - Inndata'!AY198","v":0},{"$f":"'Oppfølging - Inndata'!AZ198","v":0},{"$f":"'Oppfølging - Inndata'!BA198","v":0},{"$f":"'Oppfølging - Inndata'!BB198","v":0},{"$f":"'Oppfølging - Inndata'!BC198","v":0},{"$f":"'Oppfølging - Inndata'!BD198","v":0},{"$f":"'Oppfølging - Inndata'!BE198","v":0}]
[null,null,null,null,"Frukt- og nøttepålegg",{"$f":"'Oppfølging - Inndata'!F209","v":0},{"$f":"'Oppfølging - Inndata'!G209","v":0},{"$f":"'Oppfølging - Inndata'!H209","v":0},{"$f":"'Oppfølging - Inndata'!I209","v":0},{"$f":"'Oppfølging - Inndata'!J209","v":0},{"$f":"'Oppfølging - Inndata'!K209","v":0},{"$f":"'Oppfølging - Inndata'!L209","v":0},{"$f":"'Oppfølging - Inndata'!M209","v":0},{"$f":"'Oppfølging - Inndata'!N209","v":0},{"$f":"'Oppfølging - Inndata'!O209","v":0},{"$f":"'Oppfølging - Inndata'!P209","v":0},{"$f":"'Oppfølging - Inndata'!Q209","v":0},{"$f":"'Oppfølging - Inndata'!R209","v":0},{"$f":"'Oppfølging - Inndata'!S209","v":0},{"$f":"'Oppfølging - Inndata'!T209","v":0},{"$f":"'Oppfølging - Inndata'!U209","v":0},{"$f":"'Oppfølging - Inndata'!V209","v":0},{"$f":"'Oppfølging - Inndata'!W209","v":0},{"$f":"'Oppfølging - Inndata'!X209","v":0},{"$f":"'Oppfølging - Inndata'!Y209","v":0},{"$f":"'Oppfølging - Inndata'!Z209","v":0},{"$f":"'Oppfølging - Inndata'!AA209","v":0},{"$f":"'Oppfølging - Inndata'!AB209","v":0},{"$f":"'Oppfølging - Inndata'!AC209","v":0},{"$f":"'Oppfølging - Inndata'!AD209","v":0},{"$f":"'Oppfølging - Inndata'!AE209","v":0},{"$f":"'Oppfølging - Inndata'!AF209","v":0},{"$f":"'Oppfølging - Inndata'!AG209","v":0},{"$f":"'Oppfølging - Inndata'!AH209","v":0},{"$f":"'Oppfølging - Inndata'!AI209","v":0},{"$f":"'Oppfølging - Inndata'!AJ209","v":0},{"$f":"'Oppfølging - Inndata'!AK209","v":0},{"$f":"'Oppfølging - Inndata'!AL209","v":0},{"$f":"'Oppfølging - Inndata'!AM209","v":0},{"$f":"'Oppfølging - Inndata'!AN209","v":0},{"$f":"'Oppfølging - Inndata'!AO209","v":0},{"$f":"'Oppfølging - Inndata'!AP209","v":0},{"$f":"'Oppfølging - Inndata'!AQ209","v":0},{"$f":"'Oppfølging - Inndata'!AR209","v":0},{"$f":"'Oppfølging - Inndata'!AS209","v":0},{"$f":"'Oppfølging - Inndata'!AT209","v":0},{"$f":"'Oppfølging - Inndata'!AU209","v":0},{"$f":"'Oppfølging - Inndata'!AV209","v":0},{"$f":"'Oppfølging - Inndata'!AW209","v":0},{"$f":"'Oppfølging - Inndata'!AX209","v":0},{"$f":"'Oppfølging - Inndata'!AY209","v":0},{"$f":"'Oppfølging - Inndata'!AZ209","v":0},{"$f":"'Oppfølging - Inndata'!BA209","v":0},{"$f":"'Oppfølging - Inndata'!BB209","v":0},{"$f":"'Oppfølging - Inndata'!BC209","v":0},{"$f":"'Oppfølging - Inndata'!BD209","v":0},{"$f":"'Oppfølging - Inndata'!BE209","v":0}]
[null,null,null,null,"Sauser og supper",{"$f":"'Oppfølging - Inndata'!F212","v":0},{"$f":"'Oppfølging - Inndata'!G212","v":0},{"$f":"'Oppfølging - Inndata'!H212","v":0},{"$f":"'Oppfølging - Inndata'!I212","v":0},{"$f":"'Oppfølging - Inndata'!J212","v":0},{"$f":"'Oppfølging - Inndata'!K212","v":0},{"$f":"'Oppfølging - Inndata'!L212","v":0},{"$f":"'Oppfølging - Inndata'!M212","v":0},{"$f":"'Oppfølging - Inndata'!N212","v":0},{"$f":"'Oppfølging - Inndata'!O212","v":0},{"$f":"'Oppfølging - Inndata'!P212","v":0},{"$f":"'Oppfølging - Inndata'!Q212","v":0},{"$f":"'Oppfølging - Inndata'!R212","v":0},{"$f":"'Oppfølging - Inndata'!S212","v":0},{"$f":"'Oppfølging - Inndata'!T212","v":0},{"$f":"'Oppfølging - Inndata'!U212","v":0},{"$f":"'Oppfølging - Inndata'!V212","v":0},{"$f":"'Oppfølging - Inndata'!W212","v":0},{"$f":"'Oppfølging - Inndata'!X212","v":0},{"$f":"'Oppfølging - Inndata'!Y212","v":0},{"$f":"'Oppfølging - Inndata'!Z212","v":0},{"$f":"'Oppfølging - Inndata'!AA212","v":0},{"$f":"'Oppfølging - Inndata'!AB212","v":0},{"$f":"'Oppfølging - Inndata'!AC212","v":0},{"$f":"'Oppfølging - Inndata'!AD212","v":0},{"$f":"'Oppfølging - Inndata'!AE212","v":0},{"$f":"'Oppfølging - Inndata'!AF212","v":0},{"$f":"'Oppfølging - Inndata'!AG212","v":0},{"$f":"'Oppfølging - Inndata'!AH212","v":0},{"$f":"'Oppfølging - Inndata'!AI212","v":0},{"$f":"'Oppfølging - Inndata'!AJ212","v":0},{"$f":"'Oppfølging - Inndata'!AK212","v":0},{"$f":"'Oppfølging - Inndata'!AL212","v":0},{"$f":"'Oppfølging - Inndata'!AM212","v":0},{"$f":"'Oppfølging - Inndata'!AN212","v":0},{"$f":"'Oppfølging - Inndata'!AO212","v":0},{"$f":"'Oppfølging - Inndata'!AP212","v":0},{"$f":"'Oppfølging - Inndata'!AQ212","v":0},{"$f":"'Oppfølging - Inndata'!AR212","v":0},{"$f":"'Oppfølging - Inndata'!AS212","v":0},{"$f":"'Oppfølging - Inndata'!AT212","v":0},{"$f":"'Oppfølging - Inndata'!AU212","v":0},{"$f":"'Oppfølging - Inndata'!AV212","v":0},{"$f":"'Oppfølging - Inndata'!AW212","v":0},{"$f":"'Oppfølging - Inndata'!AX212","v":0},{"$f":"'Oppfølging - Inndata'!AY212","v":0},{"$f":"'Oppfølging - Inndata'!AZ212","v":0},{"$f":"'Oppfølging - Inndata'!BA212","v":0},{"$f":"'Oppfølging - Inndata'!BB212","v":0},{"$f":"'Oppfølging - Inndata'!BC212","v":0},{"$f":"'Oppfølging - Inndata'!BD212","v":0},{"$f":"'Oppfølging - Inndata'!BE212","v":0}]
[null,null,null,null,"Vegetar/vegan alternativ produkter",{"$f":"'Oppfølging - Inndata'!F222","v":0},{"$f":"'Oppfølging - Inndata'!G222","v":0},{"$f":"'Oppfølging - Inndata'!H222","v":0},{"$f":"'Oppfølging - Inndata'!I222","v":0},{"$f":"'Oppfølging - Inndata'!J222","v":0},{"$f":"'Oppfølging - Inndata'!K222","v":0},{"$f":"'Oppfølging - Inndata'!L222","v":0},{"$f":"'Oppfølging - Inndata'!M222","v":0},{"$f":"'Oppfølging - Inndata'!N222","v":0},{"$f":"'Oppfølging - Inndata'!O222","v":0},{"$f":"'Oppfølging - Inndata'!P222","v":0},{"$f":"'Oppfølging - Inndata'!Q222","v":0},{"$f":"'Oppfølging - Inndata'!R222","v":0},{"$f":"'Oppfølging - Inndata'!S222","v":0},{"$f":"'Oppfølging - Inndata'!T222","v":0},{"$f":"'Oppfølging - Inndata'!U222","v":0},{"$f":"'Oppfølging - Inndata'!V222","v":0},{"$f":"'Oppfølging - Inndata'!W222","v":0},{"$f":"'Oppfølging - Inndata'!X222","v":0},{"$f":"'Oppfølging - Inndata'!Y222","v":0},{"$f":"'Oppfølging - Inndata'!Z222","v":0},{"$f":"'Oppfølging - Inndata'!AA222","v":0},{"$f":"'Oppfølging - Inndata'!AB222","v":0},{"$f":"'Oppfølging - Inndata'!AC222","v":0},{"$f":"'Oppfølging - Inndata'!AD222","v":0},{"$f":"'Oppfølging - Inndata'!AE222","v":0},{"$f":"'Oppfølging - Inndata'!AF222","v":0},{"$f":"'Oppfølging - Inndata'!AG222","v":0},{"$f":"'Oppfølging - Inndata'!AH222","v":0},{"$f":"'Oppfølging - Inndata'!AI222","v":0},{"$f":"'Oppfølging - Inndata'!AJ222","v":0},{"$f":"'Oppfølging - Inndata'!AK222","v":0},{"$f":"'Oppfølging - Inndata'!AL222","v":0},{"$f":"'Oppfølging - Inndata'!AM222","v":0},{"$f":"'Oppfølging - Inndata'!AN222","v":0},{"$f":"'Oppfølging - Inndata'!AO222","v":0},{"$f":"'Oppfølging - Inndata'!AP222","v":0},{"$f":"'Oppfølging - Inndata'!AQ222","v":0},{"$f":"'Oppfølging - Inndata'!AR222","v":0},{"$f":"'Oppfølging - Inndata'!AS222","v":0},{"$f":"'Oppfølging - Inndata'!AT222","v":0},{"$f":"'Oppfølging - Inndata'!AU222","v":0},{"$f":"'Oppfølging - Inndata'!AV222","v":0},{"$f":"'Oppfølging - Inndata'!AW222","v":0},{"$f":"'Oppfølging - Inndata'!AX222","v":0},{"$f":"'Oppfølging - Inndata'!AY222","v":0},{"$f":"'Oppfølging - Inndata'!AZ222","v":0},{"$f":"'Oppfølging - Inndata'!BA222","v":0},{"$f":"'Oppfølging - Inndata'!BB222","v":0},{"$f":"'Oppfølging - Inndata'!BC222","v":0},{"$f":"'Oppfølging - Inndata'!BD222","v":0},{"$f":"'Oppfølging - Inndata'!BE222","v":0}]
[null,null,null,null,"Drikke",{"$f":"'Oppfølging - Inndata'!F226","v":0},{"$f":"'Oppfølging - Inndata'!G226","v":0},{"$f":"'Oppfølging - Inndata'!H226","v":0},{"$f":"'Oppfølging - Inndata'!I226","v":0},{"$f":"'Oppfølging - Inndata'!J226","v":0},{"$f":"'Oppfølging - Inndata'!K226","v":0},{"$f":"'Oppfølging - Inndata'!L226","v":0},{"$f":"'Oppfølging - Inndata'!M226","v":0},{"$f":"'Oppfølging - Inndata'!N226","v":0},{"$f":"'Oppfølging - Inndata'!O226","v":0},{"$f":"'Oppfølging - Inndata'!P226","v":0},{"$f":"'Oppfølging - Inndata'!Q226","v":0},{"$f":"'Oppfølging - Inndata'!R226","v":0},{"$f":"'Oppfølging - Inndata'!S226","v":0},{"$f":"'Oppfølging - Inndata'!T226","v":0},{"$f":"'Oppfølging - Inndata'!U226","v":0},{"$f":"'Oppfølging - Inndata'!V226","v":0},{"$f":"'Oppfølging - Inndata'!W226","v":0},{"$f":"'Oppfølging - Inndata'!X226","v":0},{"$f":"'Oppfølging - Inndata'!Y226","v":0},{"$f":"'Oppfølging - Inndata'!Z226","v":0},{"$f":"'Oppfølging - Inndata'!AA226","v":0},{"$f":"'Oppfølging - Inndata'!AB226","v":0},{"$f":"'Oppfølging - Inndata'!AC226","v":0},{"$f":"'Oppfølging - Inndata'!AD226","v":0},{"$f":"'Oppfølging - Inndata'!AE226","v":0},{"$f":"'Oppfølging - Inndata'!AF226","v":0},{"$f":"'Oppfølging - Inndata'!AG226","v":0},{"$f":"'Oppfølging - Inndata'!AH226","v":0},{"$f":"'Oppfølging - Inndata'!AI226","v":0},{"$f":"'Oppfølging - Inndata'!AJ226","v":0},{"$f":"'Oppfølging - Inndata'!AK226","v":0},{"$f":"'Oppfølging - Inndata'!AL226","v":0},{"$f":"'Oppfølging - Inndata'!AM226","v":0},{"$f":"'Oppfølging - Inndata'!AN226","v":0},{"$f":"'Oppfølging - Inndata'!AO226","v":0},{"$f":"'Oppfølging - Inndata'!AP226","v":0},{"$f":"'Oppfølging - Inndata'!AQ226","v":0},{"$f":"'Oppfølging - Inndata'!AR226","v":0},{"$f":"'Oppfølging - Inndata'!AS226","v":0},{"$f":"'Oppfølging - Inndata'!AT226","v":0},{"$f":"'Oppfølging - Inndata'!AU226","v":0},{"$f":"'Oppfølging - Inndata'!AV226","v":0},{"$f":"'Oppfølging - Inndata'!AW226","v":0},{"$f":"'Oppfølging - Inndata'!AX226","v":0},{"$f":"'Oppfølging - Inndata'!AY226","v":0},{"$f":"'Oppfølging - Inndata'!AZ226","v":0},{"$f":"'Oppfølging - Inndata'!BA226","v":0},{"$f":"'Oppfølging - Inndata'!BB226","v":0},{"$f":"'Oppfølging - Inndata'!BC226","v":0},{"$f":"'Oppfølging - Inndata'!BD226","v":0},{"$f":"'Oppfølging - Inndata'!BE226","v":0}]
[null,null,null,null,"Totalt",{"$f":"'Oppfølging - Inndata'!F234","v":0},{"$f":"'Oppfølging - Inndata'!G234","v":0},{"$f":"'Oppfølging - Inndata'!H234","v":0},{"$f":"'Oppfølging - Inndata'!I234","v":0},{"$f":"'Oppfølging - Inndata'!J234","v":0},{"$f":"'Oppfølging - Inndata'!K234","v":0},{"$f":"'Oppfølging - Inndata'!L234","v":0},{"$f":"'Oppfølging - Inndata'!M234","v":0},{"$f":"'Oppfølging - Inndata'!N234","v":0},{"$f":"'Oppfølging - Inndata'!O234","v":0},{"$f":"'Oppfølging - Inndata'!P234","v":0},{"$f":"'Oppfølging - Inndata'!Q234","v":0},{"$f":"'Oppfølging - Inndata'!R234","v":0},{"$f":"'Oppfølging - Inndata'!S234","v":0},{"$f":"'Oppfølging - Inndata'!T234","v":0},{"$f":"'Oppfølging - Inndata'!U234","v":0},{"$f":"'Oppfølging - Inndata'!V234","v":0},{"$f":"'Oppfølging - Inndata'!W234","v":0},{"$f":"'Oppfølging - Inndata'!X234","v":0},{"$f":"'Oppfølging - Inndata'!Y234","v":0},{"$f":"'Oppfølging - Inndata'!Z234","v":0},{"$f":"'Oppfølging - Inndata'!AA234","v":0},{"$f":"'Oppfølging - Inndata'!AB234","v":0},{"$f":"'Oppfølging - Inndata'!AC234","v":0},{"$f":"'Oppfølging - Inndata'!AD234","v":0},{"$f":"'Oppfølging - Inndata'!AE234","v":0},{"$f":"'Oppfølging - Inndata'!AF234","v":0},{"$f":"'Oppfølging - Inndata'!AG234","v":0},{"$f":"'Oppfølging - Inndata'!AH234","v":0},{"$f":"'Oppfølging - Inndata'!AI234","v":0},{"$f":"'Oppfølging - Inndata'!AJ234","v":0},{"$f":"'Oppfølging - Inndata'!AK234","v":0},{"$f":"'Oppfølging - Inndata'!AL234","v":0},{"$f":"'Oppfølging - Inndata'!AM234","v":0},{"$f":"'Oppfølging - Inndata'!AN234","v":0},{"$f":"'Oppfølging - Inndata'!AO234","v":0},{"$f":"'Oppfølging - Inndata'!AP234","v":0},{"$f":"'Oppfølging - Inndata'!AQ234","v":0},{"$f":"'Oppfølging - Inndata'!AR234","v":0},{"$f":"'Oppfølging - Inndata'!AS234","v":0},{"$f":"'Oppfølging - Inndata'!AT234","v":0},{"$f":"'Oppfølging - Inndata'!AU234","v":0},{"$f":"'Oppfølging - Inndata'!AV234","v":0},{"$f":"'Oppfølging - Inndata'!AW234","v":0},{"$f":"'Oppfølging - Inndata'!AX234","v":0},{"$f":"'Oppfølging - Inndata'!AY234","v":0},{"$f":"'Oppfølging - Inndata'!AZ234","v":0},{"$f":"'Oppfølging - Inndata'!BA234","v":0},{"$f":"'Oppfølging - Inndata'!BB234","v":0},{"$f":"'Oppfølging - Inndata'!BC234","v":0},{"$f":"'Oppfølging - Inndata'!BD234","v":0},{"$f":"'Oppfølging - Inndata'!BE234","v":0}]

{"sheet":"Bakgrunnsinformasjon","index":3,"n_rows":110,"n_cols":23,"rows_kept":110,"cut":false,"hidden":false,"merged":[[109,22,109,31],[110,22,110,31],[111,22,111,31],[100,22,100,31],[101,22,101,31],[102,22,102,31],[103,22,103,31],[104,22,104,31],[105,22,105,31],[106,22,106,31],[107,22,107,31],[108,22,108,31],[91,22,91,31],[92,22,92,31],[93,22,93,31],[94,22,94,31],[95,22,95,31],[96,22,96,31],[97,22,97,31],[98,22,98,31],[99,22,99,31],[82,22,82,31],[83,22,83,31],[84,22,84,31],[85,22,85,31],[86,22,86,31],[87,22,87,31],[88,22,88,31],[89,22,89,31],[90,22,90,31],[73,22,73,31],[74,22,74,31],[75,22,75,31],[76,22,76,31],[77,22,77,31],[78,22,78,31],[79,22,79,31],[80,22,80,31],[81,22,81,31],[64,22,64,31],[65,22,65,31],[66,22,66,31],[67,22,67,31],[68,22,68,31],[69,22,69,31],[70,22,70,31],[71,22,71,31],[72,22,72,31],[55,22,55,31],[56,22,56,31],[57,22,57,31],[58,22,58,31],[59,22,59,31],[60,22,60,31],[61,22,61,31],[62,22,62,31],[63,22,63,31],[46,22,46,31],[47,22,47,31],[48,22,48,31],[49,22,49,31],[50,22,50,31],[51,22,51,31],[52,22,52,31],[53,22,53,31],[54,22,54,31],[37,22,37,31],[38,22,38,31],[39,22,39,31],[40,22,40,31],[41,22,41,31],[42,22,42,31],[43,22,43,31],[44,22,44,31],[45,22,45,31],[28,22,28,31],[29,22,29,31],[30,22,30,31],[31,22,31,31],[32,22,32,31],[33,22,33,31],[34,22,34,31],[35,22,35,31],[36,22,36,31],[19,22,19,31],[20,22,20,31],[21,22,21,31],[22,22,22,31],[23,22,23,31],[24,22,24,31],[25,22,25,31],[26,22,26,31],[27,22,27,31],[10,22,10,31],[11,22,11,31],[12,22,12,31],[13,22,13,31],[14,22,14,31],[15,22,15,31],[16,22,16,31],[17,22,17,31],[18,22,18,31],[139,12,139,13],[140,12,140,13],[141,12,141,13],[142,12,142,13],[143,12,143,13],[134,12,134,13],[135,12,135,13],[136,12,136,13],[137,12,137,13],[138,12,138,13],[129,12,129,13],[130,12,130,13],[131,12,131,13],[132,12,132,13],[133,12,133,13],[124,12,124,13],[125,12,125,13],[126,12,126,13],[127,12,127,13],[128,12,128,13],[120,12,120,13],[121,12,121,13],[122,12,122,13],[123,12,123,13],[114,12,114,13],[115,12,115,13],[116,12,116,13],[117,12,117,13],[118,12,118,13],[111,12,111,13],[112,12,112,13],[113,12,113,13],[104,12,104,13],[105,12,105,13],[106,12,106,13],[107,12,107,13],[108,12,108,13],[119,12,119,13],[102,12,102,13],[103,12,103,13],[94,12,94,13],[95,12,95,13],[96,12,96,13],[97,12,97,13],[98,12,98,13],[109,12,109,13],[110,12,110,13],[138,6,138,7],[139,6,139,7],[140,6,140,7],[141,6,141,7],[142,6,142,7],[133,6,133,7],[134,6,134,7],[135,6,135,7],[136,6,136,7],[137,6,137,7],[128,6,128,7],[129,6,129,7],[130,6,130,7],[131,6,131,7],[132,6,132,7],[123,6,123,7],[124,6,124,7],[125,6,125,7],[126,6,126,7],[127,6,127,7],[118,6,118,7],[119,6,119,7],[120,6,120,7],[121,6,121,7],[122,6,122,7],[113,6,113,7],[114,6,114,7],[115,6,115,7],[116,6,116,7],[117,6,117,7],[108,6,108,7],[109,6,109,7],[110,6,110,7],[111,6,111,7],[112,6,112,7],[143,9,143,11],[93,6,93,7],[94,6,94,7],[95,6,95,7],[96,6,96,7],[97,6,97,7],[98,6,98,7],[99,6,99,7],[100,6,100,7],[101,6,101,7],[102,6,102,7],[103,6,103,7],[104,6,104,7],[105,6,105,7],[106,6,106,7],[107,6,107,7],[138,9,138,11],[139,9,139,11],[140,9,140,11],[141,9,141,11],[142,9,142,11],[133,9,133,11],[134,9,134,11],[135,9,135,11],[136,9,136,11],[137,9,137,11],[128,9,128,11],[129,9,129,11],[130,9,130,11],[131,9,131,11],[132,9,132,11],[123,9,123,11],[124,9,124,11],[125,9,125,11],[126,9,126,11],[127,9,127,11],[118,9,118,11],[119,9,119,11],[120,9,120,11],[121,9,121,11],[122,9,122,11],[113,9,113,11],[114,9,114,11],[115,9,115,11],[116,9,116,11],[117,9,117,11],[108,9,108,11],[109,9,109,11],[110,9,110,11],[111,9,111,11],[112,9,112,11],[103,9,103,11],[104,9,104,11],[105,9,105,11],[106,9,106,11],[107,9,107,11],[98,9,98,11],[99,9,99,11],[100,9,100,11],[101,9,101,11],[102,9,102,11],[142,3,142,5],[94,9,94,11],[95,9,95,11],[96,9,96,11],[97,9,97,11],[137,3,137,5],[138,3,138,5],[139,3,139,5],[140,3,140,5],[141,3,141,5],[132,3,132,5],[133,3,133,5],[134,3,134,5],[135,3,135,5],[136,3,136,5],[127,3,127,5],[128,3,128,5],[129,3,129,5],[130,3,130,5],[131,3,131,5],[122,3,122,5],[123,3,123,5],[124,3,124,5],[125,3,125,5],[126,3,126,5],[117,3,117,5],[118,3,118,5],[119,3,119,5],[120,3,120,5],[121,3,121,5],[112,3,112,5],[113,3,113,5],[114,3,114,5],[115,3,115,5],[116,3,116,5],[107,3,107,5],[108,3,108,5],[109,3,109,5],[110,3,110,5],[111,3,111,5],[102,3,102,5],[103,3,103,5],[104,3,104,5],[105,3,105,5],[106,3,106,5],[97,3,97,5],[98,3,98,5],[99,3,99,5],[100,3,100,5],[101,3,101,5],[9,34,9,41],[93,3,93,5],[94,3,94,5],[95,3,95,5],[96,3,96,5],[93,9,93,11],[93,12,93,13],[99,12,99,13],[100,12,100,13],[101,12,101,13],[10,19,10,21],[11,19,11,21],[12,19,12,21],[13,19,13,21],[14,19,14,21],[15,19,15,21],[16,19,16,21],[17,19,17,21],[18,19,18,21],[19,19,19,21],[20,19,20,21],[21,19,21,21],[22,19,22,21],[23,19,23,21],[24,19,24,21],[25,19,25,21],[26,19,26,21],[27,19,27,21],[28,19,28,21],[29,19,29,21],[30,19,30,21],[31,19,31,21],[32,19,32,21],[33,19,33,21],[34,19,34,21],[35,19,35,21],[36,19,36,21],[37,19,37,21],[38,19,38,21],[39,19,39,21],[40,19,40,21],[41,19,41,21],[42,19,42,21],[43,19,43,21],[44,19,44,21],[45,19,45,21],[46,19,46,21],[47,19,47,21],[48,19,48,21],[49,19,49,21],[50,19,50,21],[51,19,51,21],[52,19,52,21],[53,19,53,21],[54,19,54,21],[55,19,55,21],[56,19,56,21],[57,19,57,21],[58,19,58,21],[59,19,59,21],[60,19,60,21],[61,19,61,21],[62,19,62,21],[63,19,63,21],[64,19,64,21],[65,19,65,21],[66,19,66,21],[67,19,67,21],[68,19,68,21],[69,19,69,21],[70,19,70,21],[71,19,71,21],[72,19,72,21],[73,19,73,21],[74,19,74,21],[75,19,75,21],[76,19,76,21],[77,19,77,21],[78,19,78,21],[79,19,79,21],[80,19,80,21],[81,19,81,21],[82,19,82,21],[83,19,83,21],[84,19,84,21],[85,19,85,21],[86,19,86,21],[87,19,87,21],[88,19,88,21],[89,19,89,21],[90,19,90,21],[91,19,91,21],[92,19,92,21],[93,19,93,21],[94,19,94,21],[95,19,95,21],[96,19,96,21],[97,19,97,21],[98,19,98,21],[99,19,99,21],[109,19,109,21],[100,19,100,21],[101,19,101,21],[102,19,102,21],[103,19,103,21],[104,19,104,21],[105,19,105,21],[106,19,106,21],[107,19,107,21],[108,19,108,21]]}
[]
[]
[]
[]
[]
[]
[null,null,null,"Bakgrunn",null,null,null,null,null,null,null,null,null,null,null,null,null,null,"Forklaring av matvarekategoriene"]
[]
[]
[]
[null,null,null,null,null,null,null,null,null,null,null,null,null,null,null,null,null,null,null,"Matvarekategorier",null,null,"Beskrivelse"]
[null,null,null,null,null,null,null,null,null,null,null,null,null,null,null,null,null,null,null,"Kjøtt"]
[null,null,null,null,null,null,null,null,null,null,null,null,null,null,null,null,null,null,null,"Sau og lam",null,null,"lam, sau, fårekjøtt, pinnekjøtt, fenalår, gjeit"]
[null,null,null,null,null,null,null,null,null,null,null,null,null,null,null,null,null,null,null,"Blandet kjøtt sau",null,null,"fårepølse, vossakorv, morrpølse, lammepølse, trønderfår"]
[null,null,null,null,null,null,null,null,null,null,null,null,null,null,null,null,null,null,null,"Storfe",null,null,"storfe, okse, kalv"]
[null,null,null,null,null,null,null,null,null,null,null,null,null,null,null,null,null,null,null,"Blandet kjøtt storfe",null,null,"karbonader, hamburger, pastrami, karbonadedeig, kjøttdeig"]
[null,null,null,null,null,null,null,null,null,null,null,null,null,null,null,null,null,null,null,"Blandede kjøtt typer",null,null,"kjøttboller, salami, kjøttkaker, grillpølse, servelat, wienerpølse, kjøttpudding"]
[null,null,null,null,null,null,null,null,null,null,null,null,null,null,null,null,null,null,null,"Svin",null,null,"Svin, bacon, spekeskinke, kokt skiknke"]
[null,null,null,null,null,null,null,null,null,null,null,null,null,null,null,null,null,null,null,"Blandet kjøtt svin",null,null,"leverpostei, medister, julepølse, sossiser, medisterkaker, hammburgerrygg "]
[null,null,null,null,null,null,null,null,null,null,null,null,null,null,null,null,null,null,null,"Fjærkre",null,null,"kylling, kalkun, and"]
[null,null,null,null,null,null,null,null,null,null,null,null,null,null,null,null,null,null,null,"Blandet kjøtt kylling",null,null,"kyllingpølse, kyllingpostei, kyllingfilet i skiver (pålegg)"]
[null,null,null,null,null,null,null,null,null,null,null,null,null,null,null,null,null,null,null,"Vilt",null,null,"elg, reinsdyr, hjort "]
[null,null,1,"Klimakur 2030",null,null,null,null,null,null,null,null,null,null,null,null,null,null,null,"Fisk og skaldyr"]
[null,null,2,"Handlingsplan for økt andel klima- og miljøvennlige offentlige anskaffelser og grønn innovasjon",null,null,null,null,null,null,null,null,null,null,null,null,null,null,null,"Blandet fisk",null,null,"fiskepostei, fiskeboller, fiskekaker, fiskekarbonader, fiskepinner, makrell i tomat, fiskeburger, tomatsild, sennepssild"]
[null,null,3,"Offentlige innkjøp som klimapolitisk virkemiddel: potensialet for å kutte utslipp i matsystemet",null,null,null,null,null,null,null,null,null,null,null,null,null,null,null,"Blandet skalldyr",null,null,"rekesalat, crabstick, rekekabare, kaviar, skaldyrsalat"]
[null,null,4,"anskaffelser.no",null,null,null,null,null,null,null,null,null,null,null,null,null,null,null,"Fisk",null,null,"fersk, fryst, hermetisk, røkt, tørket, pannert"]
[null,null,null,null,null,null,null,null,null,null,null,null,null,null,null,null,null,null,null,"Skalldyr",null,null,"rå, på lake, fryst"]
[null,null,null,null,null,null,null,null,null,null,null,null,null,null,null,null,null,null,null,"Egg og meieri"]
[null,null,null,null,null,null,null,null,null,null,null,null,null,null,null,null,null,null,null,"Egg",null,null,"egg, omelett"]
[null,null,null,"Beregningsforklaringer",null,null,null,null,null,null,null,null,null,null,null,null,null,null,null,"Smaksatt melk",null,null,"milkshake, fruktmelk"]
[null,null,null,null,null,null,null,null,null,null,null,null,null,null,null,null,null,null,null,"Grøt",null,null,"havregrøt,  yoghurt med topping, grøt med yoghurt"]
[null,null,null,null,null,null,null,null,null,null,null,null,null,null,null,null,null,null,null,"Krem og fløte",null,null,"iskrem, fløte, krem, creme fraiche, pudding, rømme"]
[null,null,null,null,null,null,null,null,null,null,null,null,null,null,null,null,null,null,null,"Melk og yoghurt",null,null,"melk, yoghurt, kesam, sjokolademelk,"]
[null,null,null,null,null,null,null,null,null,null,null,null,null,null,null,null,null,null,null,"Ost",null,null,"alle typer ost"]
[null,null,null,null,null,null,null,null,null,null,null,null,null,null,null,null,null,null,null,"Risgrøt",null,null,"ferdigblandet risgrøt/rømmegrøt, grøt med melk"]
[null,null,null,null,null,null,null,null,null,null,null,null,null,null,null,null,null,null,null,"Smør",null,null,"ekte smør"]
[null,null,null,null,null,null,null,null,null,null,null,null,null,null,null,null,null,null,null,"Korn"]
[null,null,null,null,null,null,null,null,null,null,null,null,null,null,null,null,null,null,null,"Brød, korn, mel og bakeprodukter",null,null,"tortilachips, popcorn, knekkebrød, pizzabun, bolle, tortillas, pita, alle typer mel, gjær, bakepullver"]
[null,null,null,null,null,null,null,null,null,null,null,null,null,null,null,null,null,null,null,"Frokostblanding og bars",null,null,"granola, müsli, frokostblanding, müslibar, nøttebar, energibar"]
[null,null,null,null,null,null,null,null,null,null,null,null,null,null,null,null,null,null,null,"Pannekaker, vafler, lefser, osv.",null,null,"lefser, vafler, pannekaker, lomper, sveler, røre- og paneringsblandinger"]
[null,null,null,null,null,null,null,null,null,null,null,null,null,null,null,null,null,null,null,"Pasta",null,null,"eggnudler, pasta"]
[null,null,null,null,null,null,null,null,null,null,null,null,null,null,null,null,null,null,null,"Ris",null,null,"ris, risnudler, risark, riskaker, glassnudler, tør risgrøt"]
[null,null,null,null,null,null,null,null,null,null,null,null,null,null,null,null,null,null,null,"Ris alternativ",null,null,"quinoa"]
[null,null,null,null,null,null,null,null,null,null,null,null,null,null,null,null,null,null,null,"Grønnsaker, krydder og sopp"]
[null,null,null,null,null,null,null,null,null,null,null,null,null,null,null,null,null,null,null,"Belgfrukter",null,null,"fersk, tørket, på glass, ertestuing, tomatbønner, kikertermel, sukkererter"]
[null,null,null,null,null,null,null,null,null,null,null,null,null,null,null,null,null,null,null,"Grønnsaker, krydder og urter",null,null,"grønnsaker, urter, krydder, chrisp eller chips, pretzel eller blandet snacks, \"vegetar\""]
[null,null,null,null,null,null,null,null,null,null,null,null,null,null,null,null,null,null,null,"Sopp",null,null,"alle former for sopp"]
[null,null,null,null,null,null,null,null,null,null,null,null,null,null,null,null,null,null,null,"Frukt og bær",null,null,"fersk, tørket (rosiner), på glass, hermetisk"]
[null,null,null,null,null,null,null,null,null,null,null,null,null,null,null,null,null,null,null,"Nøtter og frø",null,null,"kokos, nøtter, frø, kjerner"]
[null,null,null,null,null,null,null,null,null,null,null,null,null,null,null,null,null,null,null,"Sukker"]
[null,null,null,null,null,null,null,null,null,null,null,null,null,null,null,null,null,null,null,"Sirup",null,null,"alle typer sirup, sukkerkulør"]
[null,null,null,null,null,null,null,null,null,null,null,null,null,null,null,null,null,null,null,"Sukker",null,null,"sukker, sukkerbit, vaniljesukker, melis, farin"]
[null,null,null,null,null,null,null,null,null,null,null,null,null,null,null,null,null,null,null,"Søtningsmidler, dessertpynt",null,null,"sukrin, strøssel, suketter, pynteklasur"]
[null,null,null,null,null,null,null,null,null,null,null,null,null,null,null,null,null,null,null,"Olje og fett"]
[null,null,null,null,null,null,null,null,null,null,null,null,null,null,null,null,null,null,null,"Matfett, smørblanding, margarin",null,null,"Bremykt, Brelett, Soft Flora"]
[null,null,null,null,null,null,null,null,null,null,null,null,null,null,null,null,null,null,null,"Matolje",null,null,"sesamolje, kokosnøttolje, urteolje, frityr olje"]
[null,null,null,null,null,null,null,null,null,null,null,null,null,null,null,null,null,null,null,"Olivenolje",null,null,"oliven olje, extra virgin oliven olje"]
[null,null,null,null,null,null,null,null,null,null,null,null,null,null,null,null,null,null,null,"Rapsolje",null,null,"rapsolje"]
[null,null,null,null,null,null,null,null,null,null,null,null,null,null,null,null,null,null,null,"Solsikkeolje",null,null,"solsikkeolje"]
[null,null,null,null,null,null,null,null,null,null,null,null,null,null,null,null,null,null,null,"Soyaolje",null,null,"soyaolje"]
[null,null,null,null,null,null,null,null,null,null,null,null,null,null,null,null,null,null,null,"Kjeks, kaker og godteri"]
[null,null,null,null,null,null,null,null,null,null,null,null,null,null,null,null,null,null,null,"Sjokolade",null,null,"sjokoladeplater, Melkerull, Twix, konfekt"]
[null,null,null,null,null,null,null,null,null,null,null,null,null,null,null,null,null,null,null,"Godteri",null,null,"lakris, dropps, smågodt"]
[null,null,null,null,null,null,null,null,null,null,null,null,null,null,null,null,null,null,null,"Marsipan",null,null,"alle typer marsipan"]
[null,null,null,null,null,null,null,null,null,null,null,null,null,null,null,null,null,null,null,"Kjeks og kaker",null,null,"kaker, kringler, kanelsnurrer, kjeks, croissant, muffins"]
[null,null,null,null,null,null,null,null,null,null,null,null,null,null,null,null,null,null,null,"Kombinasjonsmåltider"]
[null,null,null,null,null,null,null,null,null,null,null,null,null,null,null,null,null,null,null,"Kombinasjonsmåltider blandet kjøtt",null,null,"kebab, gyros"]
[null,null,null,null,null,null,null,null,null,null,null,null,null,null,null,null,null,null,null,"Kombinasjonsmåltid sau",null,null,"gryte"]
[null,null,null,null,null,null,null,null,null,null,null,null,null,null,null,null,null,null,null,"Kombinasjonsmåltid storfe",null,null,"Grandiosa, gryte, lasange, sodd, pasta med kjøttsaus"]
[null,null,null,null,null,null,null,null,null,null,null,null,null,null,null,null,null,null,null,"Kombinasjonsmåltid ost",null,null,"pizza med ost"]
[null,null,null,null,null,null,null,null,null,null,null,null,null,null,null,null,null,null,null,"Kombinasjonsmåltid svin",null,null,"lapskaus, skinkesalat, pizza m/skinke, gryte, quiche"]
[null,null,null,null,null,null,null,null,null,null,null,null,null,null,null,null,null,null,null,"Kombinasjonsmåltid kylling",null,null,"kyllingsalat, gryte, pizza med kylling, nudler med kylling"]
[null,null,null,null,null,null,null,null,null,null,null,null,null,null,null,null,null,null,null,"Kombinasjonsmåltid fisk",null,null,"gryte, fiskegrateng, fish and chips, sildesalat, bacalao"]
[null,null,null,null,null,null,null,null,null,null,null,null,null,null,null,null,null,null,null,"Kombinasjonsmåltid vegetar",null,null,"pasta med saus, pai, gryte, potetsalat, rødbetesalat, italiensk salat, pizza"]
[null,null,null,null,null,null,null,null,null,null,null,null,null,null,null,null,null,null,null,"Sandwicher"]
[null,null,null,null,null,null,null,null,null,null,null,null,null,null,null,null,null,null,null,"Sandwich storfe",null,null,"påsmurte bauetter, wraps, børek, snitter, påsmurte rundstykker"]
[null,null,null,null,null,null,null,null,null,null,null,null,null,null,null,null,null,null,null,"Sandwich ost og skinke",null,null,"påsmurte bauetter, wraps, børek, snitter, påsmurte rundstykker"]
[null,null,null,null,null,null,null,null,null,null,null,null,null,null,null,null,null,null,null,"Sandwich ukjent",null,null,"påsmurte bauetter, wraps, børek, snitter, påsmurte rundstykker"]
[null,null,null,null,null,null,null,null,null,null,null,null,null,null,null,null,null,null,null,"Sandwich ost",null,null,"påsmurte bauetter, wraps, børek, snitter, påsmurte rundstykker"]
[null,null,null,null,null,null,null,null,null,null,null,null,null,null,null,null,null,null,null,"Sandwich svin",null,null,"påsmurte bauetter, wraps, børek, snitter, påsmurte rundstykker"]
[null,null,null,null,null,null,null,null,null,null,null,null,null,null,null,null,null,null,null,"Sandwich kylling",null,null,"påsmurte bauetter, wraps, børek, snitter, påsmurte rundstykker"]
[null,null,null,null,null,null,null,null,null,null,null,null,null,null,null,null,null,null,null,"Sandwich reker",null,null,"påsmurte bauetter, wraps, børek, snitter, påsmurte rundstykker"]
[null,null,null,null,null,null,null,null,null,null,null,null,null,null,null,null,null,null,null,"Sandwich egg",null,null,"påsmurte bauetter, wraps, børek, snitter, påsmurte rundstykker"]
[null,null,null,null,null,null,null,null,null,null,null,null,null,null,null,null,null,null,null,"Sandwich fisk",null,null,"påsmurte bauetter, wraps, børek, snitter, påsmurte rundstykker"]
[null,null,null,null,null,null,null,null,null,null,null,null,null,null,null,null,null,null,null,"Sandwich vegetar",null,null,"påsmurte bauetter, wraps, børek, snitter, påsmurte rundstykker"]
[null,null,null,null,null,null,null,null,null,null,null,null,null,null,null,null,null,null,null,"Frukt- og nøttepålegg"]
[null,null,null,null,null,null,null,null,null,null,null,null,null,null,null,null,null,null,null,"Honning",null,null,"alle typer honning"]
[null,null,null,null,null,null,null,null,null,null,null,null,null,null,null,null,null,null,null,"Frukt- og nøttepålegg",null,null,"syltetøy, marmelade, nøttesmør, nugatti"]
[null,null,null,null,null,null,null,null,null,null,null,null,null,null,null,null,null,null,null,"Sauser og supper"]
[null,null,null,null,null,null,null,null,null,null,null,null,null,null,null,null,null,null,null,"Rømmedressing",null,null,"rømmedressing, creme fraiche dressing"]
[null,null,null,null,null,null,null,null,null,null,null,null,null,null,null,null,null,null,null,"Dessertsaus",null,null,"sjokoladesaus, vaniljesaus, bringebærsaus, karamellsaus"]
[null,null,null,null,null,null,null,null,null,null,null,null,null,null,null,null,null,null,null,"Majones",null,null,"majones, ailoi"]
[null,null,null,null,null,null,null,null,null,null,null,null,null,null,null,null,null,null,null,"Pesto, sambal og tahini",null,null,"pesto, sambal og tahini"]
[null,null,null,null,null,null,null,null,null,null,null,null,null,null,null,null,null,null,null,"Dip, dressing, middagssaus",null,null,"dipsauser, krydder, strø, marinader, ketchup, salatdressing, pizzasaus, pizzadressing, pastasaus, sennep, remulade"]
[null,null,null,null,null,null,null,null,null,null,null,null,null,null,null,null,null,null,null,"Suppe",null,null,"ferdigsuppe, posesuppe"]
[null,null,null,null,null,null,null,null,null,null,null,null,null,null,null,null,null,null,null,"Buljong",null,null,"buljong terning, buljong pullver, kraft, flytende buljong"]
[null,null,null,null,null,null,null,null,null,null,null,null,null,null,null,null,null,null,null,"Vegdip",null,null,"tomatpure, guacamole"]
[null,null,null,null,null,null,null,null,null,null,null,null,null,null,null,null,null,null,null,"Soya, fiske og chilisaus",null,null,"chilisaus, hoisin saus, tabasco, soya saus, fiskesaus, oystersaus, woksaus"]
[null,null,null,null,null,null,null,null,null,null,null,null,null,null,null,null,null,null,null,"Vegetar/vegan alternativ produkter"]
[null,null,null,null,null,null,null,null,null,null,null,null,null,null,null,null,null,null,null,"Blandet vegetar",null,null,"veg. burger, soyapølser"]
[null,null,null,null,null,null,null,null,null,null,null,null,null,null,null,null,null,null,null,"Melk og yoghurt alternativ",null,null,"havredrik, soyadrik, risdrik, mandeldrik, kokosmelk"]
[null,null,null,null,null,null,null,null,null,null,null,null,null,null,null,null,null,null,null,"Ost alternativ",null,null,"vegansk alternativ til ost"]
[null,null,null,null,null,null,null,null,null,null,null,null,null,null,null,null,null,null,null,"Drikke"]
[null,null,null,null,null,null,null,null,null,null,null,null,null,null,null,null,null,null,null,"Te",null,null,"alle typer te drikker"]
[null,null,null,null,null,null,null,null,null,null,null,null,null,null,null,null,null,null,null,"Kaffe",null,null,"alle typer kaffe drikker"]
[null,null,null,null,null,null,null,null,null,null,null,null,null,null,null,null,null,null,null,"Kakao",null,null,"kakao, sjokoladedrikk, Oboy"]
[null,null,null,null,null,null,null,null,null,null,null,null,null,null,null,null,null,null,null,"Fruktjuice",null,null,"smoothy, juice, saft"]
[null,null,null,null,null,null,null,null,null,null,null,null,null,null,null,null,null,null,null,"Eddik, vin, cider og sprit",null,null,"alle typer"]
[null,null,null,null,null,null,null,null,null,null,null,null,null,null,null,null,null,null,null,"Øl",null,null,"alle typer øl"]
[null,null,null,null,null,null,null,null,null,null,null,null,null,null,null,null,null,null,null,"Drikke diverse",null,null,"gløgg, vann, mineralvann, brus"]

{"sheet":"Utslippstall","index":4,"n_rows":108,"n_cols":14,"rows_kept":108,"cut":false,"hidden":false,"merged":[]}
[]
[]
[]
[]
[]
[]
[null,null,null,"Utslippstall fra CICERO",null,null,null,null,null,null,"Sammenligning av utslipp og kg fra innkjøpet"]
[]
[null,null,null,null,"Matvarekategorier","CICERO tall, kg CO2-ekv/kg",null,null,null,null,null,"Matvarer, hovedkategorier","Andel av utslippet fra innkjøpet","Andel av vekt fra innkjøpet"]
[null,null,null,null,"Kjøtt",15.5,null,null,null,null,null,"Kjøtt",{"$f":"Planlegging!J139/Planlegging!$G$131","v":{"$error":"#DIV/0!"}},{"$f":"Planlegging!F32/Planlegging!$F$131","v":{"$error":"#DIV/0!"}}]
[null,null,null,null,"Sau og lam",33.880000000000003,null,null,null,null,null,"Fisk og skaldyr",{"$f":"Planlegging!J140/Planlegging!$G$131","v":{"$error":"#DIV/0!"}},{"$f":"Planlegging!F43/Planlegging!$F$131","v":{"$error":"#DIV/0!"}}]
[null,null,null,null,"Blandet kjøtt sau",15.99,null,null,null,null,null,"Egg og meieri",{"$f":"Planlegging!J141/Planlegging!$G$131","v":{"$error":"#DIV/0!"}},{"$f":"Planlegging!F48/Planlegging!$F$131","v":{"$error":"#DIV/0!"}}]
[null,null,null,null,"Storfe",29.58,null,null,null,null,null,"Korn",{"$f":"Planlegging!J142/Planlegging!$G$131","v":{"$error":"#DIV/0!"}},{"$f":"Planlegging!F57/Planlegging!$F$131","v":{"$error":"#DIV/0!"}}]
[null,null,null,null,"Blandet kjøtt storfe",21.18,null,null,null,null,null,"Grønnsaker, krydder og sopp",{"$f":"Planlegging!J143/Planlegging!$G$131","v":{"$error":"#DIV/0!"}},{"$f":"Planlegging!F64/Planlegging!$F$131","v":{"$error":"#DIV/0!"}}]
[null,null,null,null,"Blandede kjøtt typer",13.16,null,null,null,null,null,"Frukt og bær",{"$f":"Planlegging!J144/Planlegging!$G$131","v":{"$error":"#DIV/0!"}},{"$f":"Planlegging!F68/Planlegging!$F$131","v":{"$error":"#DIV/0!"}}]
[null,null,null,null,"Svin",6.35,null,null,null,null,null,"Nøtter og frø",{"$f":"Planlegging!J145/Planlegging!$G$131","v":{"$error":"#DIV/0!"}},{"$f":"Planlegging!F69/Planlegging!$F$131","v":{"$error":"#DIV/0!"}}]
[null,null,null,null,"Blandet kjøtt svin",5.41,null,null,null,null,null,"Sukker",{"$f":"Planlegging!J146/Planlegging!$G$131","v":{"$error":"#DIV/0!"}},{"$f":"Planlegging!F70/Planlegging!$F$131","v":{"$error":"#DIV/0!"}}]
[null,null,null,null,"Fjærkre",5.52,null,null,null,null,null,"Olje og fett",{"$f":"Planlegging!J147/Planlegging!$G$131","v":{"$error":"#DIV/0!"}},{"$f":"Planlegging!F74/Planlegging!$F$131","v":{"$error":"#DIV/0!"}}]
[null,null,null,null,"Blandet kjøtt kylling",3.75,null,null,null,null,null,"Kjeks, kaker og godteri",{"$f":"Planlegging!J148/Planlegging!$G$131","v":{"$error":"#DIV/0!"}},{"$f":"Planlegging!F81/Planlegging!$F$131","v":{"$error":"#DIV/0!"}}]
[null,null,null,null,"Vilt",5.33,null,null,null,null,null,"Kombinasjonsmåltider",{"$f":"Planlegging!J149/Planlegging!$G$131","v":{"$error":"#DIV/0!"}},{"$f":"Planlegging!F86/Planlegging!$F$131","v":{"$error":"#DIV/0!"}}]
[null,null,null,null,"Fisk og skaldyr",2.63,null,null,null,null,null,"Sandwicher",{"$f":"Planlegging!J150/Planlegging!$G$131","v":{"$error":"#DIV/0!"}},{"$f":"Planlegging!F95/Planlegging!$F$131","v":{"$error":"#DIV/0!"}}]
[null,null,null,null,"Blandet fisk",2.21,null,null,null,null,null,"Frukt- og nøttepålegg",{"$f":"Planlegging!J151/Planlegging!$G$131","v":{"$error":"#DIV/0!"}},{"$f":"Planlegging!F106/Planlegging!$F$131","v":{"$error":"#DIV/0!"}}]
[null,null,null,null,"Blandet skalldyr",3.53,null,null,null,null,null,"Sauser og supper",{"$f":"Planlegging!J152/Planlegging!$G$131","v":{"$error":"#DIV/0!"}},{"$f":"Planlegging!F109/Planlegging!$F$131","v":{"$error":"#DIV/0!"}}]
[null,null,null,null,"Fisk",2.85,null,null,null,null,null,"Vegetar/vegan alternativ produkter",{"$f":"Planlegging!J153/Planlegging!$G$131","v":{"$error":"#DIV/0!"}},{"$f":"Planlegging!F119/Planlegging!$F$131","v":{"$error":"#DIV/0!"}}]
[null,null,null,null,"Skalldyr",4.7,null,null,null,null,null,"Drikke",{"$f":"Planlegging!J154/Planlegging!$G$131","v":{"$error":"#DIV/0!"}},{"$f":"Planlegging!F123/Planlegging!$F$131","v":{"$error":"#DIV/0!"}}]
[null,null,null,null,"Egg og meieri",3.21,null,null,null,null,null,"Totalt",{"$f":"SUM(M10:M25)","v":{"$error":"#DIV/0!"}},{"$f":"SUM(N10:N25)","v":{"$error":"#DIV/0!"}}]
[null,null,null,null,"Egg",4.32]
[null,null,null,null,"Smaksatt melk",1.68]
[null,null,null,null,"Grøt",1.74]
[null,null,null,null,"Krem og fløte",4.9400000000000004]
[null,null,null,null,"Melk og yoghurt",1.71]
[null,null,null,null,"Ost",10]
[null,null,null,null,"Risgrøt",2.09]
[null,null,null,null,"Smør",10.99]
[null,null,null,null,"Korn",1.9]
[null,null,null,null,"Brød, korn, mel og bakeprodukter",1.77]
[null,null,null,null,"Frokostblanding og bars",1.71]
[null,null,null,null,"Pannekaker, vafler, lefser, osv.",1.87]
[null,null,null,null,"Pasta",2.48]
[null,null,null,null,"Ris",4.2699999999999996]
[null,null,null,null,"Ris alternativ",2.78]
[null,null,null,null,"Grønnsaker, krydder og sopp",1.1399999999999999]
[null,null,null,null,"Belgfrukter",2]
[null,null,null,null,"Grønnsaker, krydder og urter",1.0900000000000001]
[null,null,null,null,"Sopp",1.58]
[null,null,null,null,"Frukt og bær",1.5]
[null,null,null,null,"Nøtter og frø",2.5499999999999998]
[null,null,null,null,"Sukker",1.92]
[null,null,null,null,"Sirup",1.17]
[null,null,null,null,"Sukker",1.91]
[null,null,null,null,"Søtningsmidler, dessertpynt",1.95]
[null,null,null,null,"Olje og fett",6.57]
[null,null,null,null,"Matfett, smørblanding, margarin",7.39]
[null,null,null,null,"Matolje",4.6900000000000004]
[null,null,null,null,"Olivenolje",5.99]
[null,null,null,null,"Rapsolje",3.6]
[null,null,null,null,"Solsikkeolje",3.1]
[null,null,null,null,"Soyaolje",4]
[null,null,null,null,"Kjeks, kaker og godteri",4.5999999999999996]
[null,null,null,null,"Sjokolade",5.99]
[null,null,null,null,"Godteri",4.3899999999999997]
[null,null,null,null,"Marsipan",2.5499999999999998]
[null,null,null,null,"Kjeks og kaker",4.3899999999999997]
[null,null,null,null,"Kombinasjonsmåltider",4.34]
[null,null,null,null,"Kombinasjonsmåltider blandet kjøtt",28.1]
[null,null,null,null,"Kombinasjonsmåltid sau",9.76]
[null,null,null,null,"Kombinasjonsmåltid storfe",8.2899999999999991]
[null,null,null,null,"Kombinasjonsmåltid ost",5.35]
[null,null,null,null,"Kombinasjonsmåltid svin",4.12]
[null,null,null,null,"Kombinasjonsmåltid kylling",2.6]
[null,null,null,null,"Kombinasjonsmåltid fisk",1.83]
[null,null,null,null,"Kombinasjonsmåltid vegetar",1.77]
[null,null,null,null,"Sandwicher",2.81]
[null,null,null,null,"Sandwich storfe",7.33]
[null,null,null,null,"Sandwich ost og skinke",3.3]
[null,null,null,null,"Sandwich ukjent",2.93]
[null,null,null,null,"Sandwich ost",3.26]
[null,null,null,null,"Sandwich svin",2.68]
[null,null,null,null,"Sandwich kylling",2.52]
[null,null,null,null,"Sandwich reker",2.35]
[null,null,null,null,"Sandwich egg",2.2799999999999998]
[null,null,null,null,"Sandwich fisk",1.98]
[null,null,null,null,"Sandwich vegetar",1.7]
[null,null,null,null,"Frukt- og nøttepålegg",2.4700000000000002]
[null,null,null,null,"Honning",2.4700000000000002]
[null,null,null,null,"Frukt- og nøttepålegg",2.4700000000000002]
[null,null,null,null,"Sauser og supper",1.59]
[null,null,null,null,"Rømmedressing",3.63]
[null,null,null,null,"Dessertsaus",3.3]
[null,null,null,null,"Majones",3.19]
[null,null,null,null,"Pesto, sambal og tahini",2.54]
[null,null,null,null,"Dip, dressing, middagssaus",1.95]
[null,null,null,null,"Suppe",1.4]
[null,null,null,null,"Buljong",1.0900000000000001]
[null,null,null,null,"Vegdip",1.0900000000000001]
[null,null,null,null,"Soya, fiske og chilisaus",0.19]
[null,null,null,null,"Vegetar produkter",0.87]
[null,null,null,null,"Blandet vegetar",1.78]
[null,null,null,null,"Melk og yoghurt alternativ",0.75]
[null,null,null,null,"Ost alternativ",2.35]
[null,null,null,null,"Drikke",3.81]
[null,null,null,null,"Te",16.920000000000002]
[null,null,null,null,"Kaffe",12.38]
[null,null,null,null,"Kakao",4.5199999999999996]
[null,null,null,null,"Fruktjuice",3]
[null,null,null,null,"Eddik, vin, cider og sprit",2.16]
[null,null,null,null,"Øl",1.27]
[null,null,null,null,"Drikke diverse",0.94]